BEGIN:VCALENDAR
VERSION:2.0
PRODID:-//Nikiski Middle &amp; High School - ECPv6.8.2//NONSGML v1.0//EN
CALSCALE:GREGORIAN
METHOD:PUBLISH
X-ORIGINAL-URL:https://kpbsd.org/schools/nikiski-middle-high
X-WR-CALDESC:Events for Nikiski Middle &amp; High School
REFRESH-INTERVAL;VALUE=DURATION:PT1H
X-Robots-Tag:noindex
X-PUBLISHED-TTL:PT1H
BEGIN:VTIMEZONE
TZID:UTC
BEGIN:STANDARD
TZOFFSETFROM:+0000
TZOFFSETTO:+0000
TZNAME:UTC
DTSTART:20250101T000000
END:STANDARD
END:VTIMEZONE
BEGIN:VEVENT
DTSTART;TZID=UTC:20250115T000000
DTEND;TZID=UTC:20250115T013000
DTSTAMP:20260421T042623
CREATED:20241115T032523Z
LAST-MODIFIED:20250114T023027Z
UID:13562-1736899200-1736904600@kpbsd.org
SUMMARY:Girls Freshman Basketball vs Kenai Central High School
DESCRIPTION:Sport: Basketball\nLevel: Girls Freshman\nTeam: Nikiski High School\nSite: Nikiski High School\nSubsite: Gym
URL:https://kpbsd.org/schools/nikiski-middle-high/event/girls-freshman-basketball-vs-kenai-central-high-school-2/
LOCATION:52275 Education Drive\, 52801 Nikiski Ave\, Kenai\, AK\, United States
END:VEVENT
BEGIN:VEVENT
DTSTART;TZID=UTC:20250115T013000
DTEND;TZID=UTC:20250115T030000
DTSTAMP:20260421T042623
CREATED:20241115T032523Z
LAST-MODIFIED:20250115T024535Z
UID:13559-1736904600-1736910000@kpbsd.org
SUMMARY:Boys Freshman Basketball vs Kenai Central High School
DESCRIPTION:Sport: Basketball\nLevel: Boys Freshman\nTeam: Nikiski High School\nSite: Nikiski High School\nSubsite: Gym
URL:https://kpbsd.org/schools/nikiski-middle-high/event/boys-freshman-basketball-vs-kenai-central-high-school-4/
LOCATION:52275 Education Drive\, 52801 Nikiski Ave\, Kenai\, AK\, United States
END:VEVENT
BEGIN:VEVENT
DTSTART;TZID=UTC:20250115T140000
DTEND;TZID=UTC:20250115T200000
DTSTAMP:20260421T042623
CREATED:20241218T190749Z
LAST-MODIFIED:20250115T024535Z
UID:13694-1736949600-1736971200@kpbsd.org
SUMMARY:SOS Training
DESCRIPTION:Site: TBA\nSubsite: TBA
URL:https://kpbsd.org/schools/nikiski-middle-high/event/sos-training/
LOCATION:(unknown) (unknown)\, (unknown) (unknown)  (unknown)
END:VEVENT
END:VCALENDAR