BEGIN:VCALENDAR
VERSION:2.0
PRODID:-//Nikiski Middle &amp; High School - ECPv6.8.2//NONSGML v1.0//EN
CALSCALE:GREGORIAN
METHOD:PUBLISH
X-WR-CALNAME:Nikiski Middle &amp; High School
X-ORIGINAL-URL:https://kpbsd.org/schools/nikiski-middle-high
X-WR-CALDESC:Events for Nikiski Middle &amp; High School
REFRESH-INTERVAL;VALUE=DURATION:PT1H
X-Robots-Tag:noindex
X-PUBLISHED-TTL:PT1H
BEGIN:VTIMEZONE
TZID:UTC
BEGIN:STANDARD
TZOFFSETFROM:+0000
TZOFFSETTO:+0000
TZNAME:UTC
DTSTART:20250101T000000
END:STANDARD
END:VTIMEZONE
BEGIN:VEVENT
DTSTART;TZID=UTC:20250116T234500
DTEND;TZID=UTC:20250119T030000
DTSTAMP:20260425T055436
CREATED:20240404T142408Z
LAST-MODIFIED:20250118T033102Z
UID:10420-1737071100-1737255600@kpbsd.org
SUMMARY:Rus Hitchcock Nikiski Tip Off Tournament
DESCRIPTION:Games:\n1/16/2025 G-Varsity Basketball\n1/17/2025 G-Varsity Basketball\n1/18/2025 G-Varsity Basketball\nSport: Basketball\nLevel: Girls Varsity\nTeam: Nikiski High School
URL:https://kpbsd.org/schools/nikiski-middle-high/event/rus-hitchcock-nikiski-tip-off-tournament/
LOCATION:AK
END:VEVENT
END:VCALENDAR