BEGIN:VCALENDAR
VERSION:2.0
PRODID:-//Nikiski Middle &amp; High School - ECPv6.8.2//NONSGML v1.0//EN
CALSCALE:GREGORIAN
METHOD:PUBLISH
X-WR-CALNAME:Nikiski Middle &amp; High School
X-ORIGINAL-URL:https://kpbsd.org/schools/nikiski-middle-high
X-WR-CALDESC:Events for Nikiski Middle &amp; High School
REFRESH-INTERVAL;VALUE=DURATION:PT1H
X-Robots-Tag:noindex
X-PUBLISHED-TTL:PT1H
BEGIN:VTIMEZONE
TZID:UTC
BEGIN:STANDARD
TZOFFSETFROM:+0000
TZOFFSETTO:+0000
TZNAME:UTC
DTSTART:20250101T000000
END:STANDARD
END:VTIMEZONE
BEGIN:VEVENT
DTSTART;TZID=UTC:20250201T013000
DTEND;TZID=UTC:20250201T030000
DTSTAMP:20260419T050743
CREATED:20240404T142409Z
LAST-MODIFIED:20241203T080418Z
UID:10432-1738373400-1738378800@kpbsd.org
SUMMARY:Boys Varsity Basketball @ West Anchorage High School
DESCRIPTION:Sport: Basketball\nLevel: Boys Varsity\nTeam: Nikiski High School\nSite: West Anchorage High School
URL:https://kpbsd.org/schools/nikiski-middle-high/event/boys-varsity-basketball-west-anchorage-high-school-2/
LOCATION:1700 Hillcrest Dr\, Anchorage\, AK\, United States
END:VEVENT
BEGIN:VEVENT
DTSTART;TZID=UTC:20250201T190000
DTEND;TZID=UTC:20250202T010000
DTSTAMP:20260419T050743
CREATED:20240514T190939Z
LAST-MODIFIED:20250201T073337Z
UID:11140-1738436400-1738458000@kpbsd.org
SUMMARY:Coed 6/7/8th Wrestling @ Skyview Middle School
DESCRIPTION:Sport: Wrestling\nLevel: Coed 6/7/8th\nTeam: Nikiski High School\nSite: Skyview Middle School
URL:https://kpbsd.org/schools/nikiski-middle-high/event/coed-6-7-8th-wrestling-skyview-middle-school-3/
LOCATION:46188 Sterling Hwy\, 100 N Soldotna Ave\, Soldotna\, AK\, United States
END:VEVENT
BEGIN:VEVENT
DTSTART;TZID=UTC:20250201T210000
DTEND;TZID=UTC:20250201T223000
DTSTAMP:20260419T050743
CREATED:20240607T210635Z
LAST-MODIFIED:20250201T073338Z
UID:11730-1738443600-1738449000@kpbsd.org
SUMMARY:Girls JV Basketball @ Grace Christian High School
DESCRIPTION:Sport: Basketball\nLevel: Girls JV\nTeam: Nikiski High School\nSite: Grace Christian High School\nSubsite: South Gym
URL:https://kpbsd.org/schools/nikiski-middle-high/event/girls-jv-basketball-grace-christian-high-school-3/
LOCATION:12407 Pintail St\, Anchorage\, AK\, United States
END:VEVENT
BEGIN:VEVENT
DTSTART;TZID=UTC:20250201T223000
DTEND;TZID=UTC:20250202T000000
DTSTAMP:20260419T050743
CREATED:20240607T210635Z
LAST-MODIFIED:20250201T073338Z
UID:11733-1738449000-1738454400@kpbsd.org
SUMMARY:Girls Varsity Basketball @ Grace Christian High School - Varsity
DESCRIPTION:Sport: Basketball\nLevel: Girls Varsity\nTeam: Nikiski High School\nSite: Grace Christian High School\nSubsite: South Gym
URL:https://kpbsd.org/schools/nikiski-middle-high/event/girls-varsity-basketball-grace-christian-high-school-3/
LOCATION:12407 Pintail St\, Anchorage\, AK\, United States
END:VEVENT
END:VCALENDAR