BEGIN:VCALENDAR
VERSION:2.0
PRODID:-//Nikiski Middle &amp; High School - ECPv6.8.2//NONSGML v1.0//EN
CALSCALE:GREGORIAN
METHOD:PUBLISH
X-WR-CALNAME:Nikiski Middle &amp; High School
X-ORIGINAL-URL:https://kpbsd.org/schools/nikiski-middle-high
X-WR-CALDESC:Events for Nikiski Middle &amp; High School
REFRESH-INTERVAL;VALUE=DURATION:PT1H
X-Robots-Tag:noindex
X-PUBLISHED-TTL:PT1H
BEGIN:VTIMEZONE
TZID:UTC
BEGIN:STANDARD
TZOFFSETFROM:+0000
TZOFFSETTO:+0000
TZNAME:UTC
DTSTART:20250101T000000
END:STANDARD
END:VTIMEZONE
BEGIN:VEVENT
DTSTART;TZID=UTC:20250205T000000
DTEND;TZID=UTC:20250205T020000
DTSTAMP:20260419T153441
CREATED:20240510T183621Z
LAST-MODIFIED:20250204T081539Z
UID:10923-1738713600-1738720800@kpbsd.org
SUMMARY:Girls 7/8th Volleyball vs Seward Middle School
DESCRIPTION:Sport: Volleyball\nLevel: Girls 7/8th\nTeam: Nikiski High School\nSite: Nikiski High School\nSubsite: Gym
URL:https://kpbsd.org/schools/nikiski-middle-high/event/girls-7-8th-volleyball-vs-seward-middle-school-3/
LOCATION:52275 Education Drive\, 52801 Nikiski Ave\, Kenai\, AK\, United States
END:VEVENT
BEGIN:VEVENT
DTSTART;TZID=UTC:20250205T000000
DTEND;TZID=UTC:20250205T020000
DTSTAMP:20260419T153441
CREATED:20240816T220630Z
LAST-MODIFIED:20250204T081539Z
UID:12091-1738713600-1738720800@kpbsd.org
SUMMARY:HS Mass Choir @ KCHS
DESCRIPTION:Site: TBA\nSubsite: TBA
URL:https://kpbsd.org/schools/nikiski-middle-high/event/hs-mass-choir-kchs/
LOCATION:(unknown) (unknown)\, (unknown) (unknown)  (unknown)
END:VEVENT
BEGIN:VEVENT
DTSTART;TZID=UTC:20250205T020000
DTEND;TZID=UTC:20250205T033000
DTSTAMP:20260419T153441
CREATED:20240214T220948Z
LAST-MODIFIED:20250204T081540Z
UID:9839-1738720800-1738726200@kpbsd.org
SUMMARY:Girls JV Basketball vs Soldotna High School
DESCRIPTION:Sport: Basketball\nLevel: Girls JV\nTeam: Nikiski High School\nSite: Nikiski High School\nSubsite: Gym
URL:https://kpbsd.org/schools/nikiski-middle-high/event/girls-jv-basketball-vs-soldotna-high-school-4/
LOCATION:52275 Education Drive\, 52801 Nikiski Ave\, Kenai\, AK\, United States
END:VEVENT
BEGIN:VEVENT
DTSTART;TZID=UTC:20250205T033000
DTEND;TZID=UTC:20250205T050000
DTSTAMP:20260419T153441
CREATED:20240214T220949Z
LAST-MODIFIED:20250204T081539Z
UID:9842-1738726200-1738731600@kpbsd.org
SUMMARY:Boys JV Basketball vs Soldotna High School
DESCRIPTION:Sport: Basketball\nLevel: Boys JV\nTeam: Nikiski High School\nSite: Nikiski High School\nSubsite: Gym
URL:https://kpbsd.org/schools/nikiski-middle-high/event/boys-jv-basketball-vs-soldotna-high-school-4/
LOCATION:52275 Education Drive\, 52801 Nikiski Ave\, Kenai\, AK\, United States
END:VEVENT
BEGIN:VEVENT
DTSTART;TZID=UTC:20250205T050000
DTEND;TZID=UTC:20250205T063000
DTSTAMP:20260419T153441
CREATED:20250123T043513Z
LAST-MODIFIED:20250204T081540Z
UID:14087-1738731600-1738737000@kpbsd.org
SUMMARY:Girls Varsity Basketball vs Soldotna High School
DESCRIPTION:Sport: Basketball\nLevel: Girls Varsity\nTeam: Nikiski High School\nSite: Nikiski High School\nSubsite: Gym
URL:https://kpbsd.org/schools/nikiski-middle-high/event/girls-varsity-basketball-vs-soldotna-high-school-4/
LOCATION:52275 Education Drive\, 52801 Nikiski Ave\, Kenai\, AK\, United States
END:VEVENT
BEGIN:VEVENT
DTSTART;TZID=UTC:20250205T210000
DTEND;TZID=UTC:20250205T230000
DTSTAMP:20260419T153441
CREATED:20240510T183622Z
LAST-MODIFIED:20250205T083009Z
UID:10926-1738789200-1738796400@kpbsd.org
SUMMARY:Girls 7/8th Volleyball vs Skyview Middle School
DESCRIPTION:Sport: Volleyball\nLevel: Girls 7/8th\nTeam: Nikiski High School\nSite: TBA\nSubsite: TBA
URL:https://kpbsd.org/schools/nikiski-middle-high/event/girls-7-8th-volleyball-vs-skyview-middle-school-5/
LOCATION:(unknown) (unknown)\, (unknown) (unknown)  (unknown)
END:VEVENT
END:VCALENDAR