BEGIN:VCALENDAR
VERSION:2.0
PRODID:-//Nikiski Middle &amp; High School - ECPv6.8.2//NONSGML v1.0//EN
CALSCALE:GREGORIAN
METHOD:PUBLISH
X-WR-CALNAME:Nikiski Middle &amp; High School
X-ORIGINAL-URL:https://kpbsd.org/schools/nikiski-middle-high
X-WR-CALDESC:Events for Nikiski Middle &amp; High School
REFRESH-INTERVAL;VALUE=DURATION:PT1H
X-Robots-Tag:noindex
X-PUBLISHED-TTL:PT1H
BEGIN:VTIMEZONE
TZID:UTC
BEGIN:STANDARD
TZOFFSETFROM:+0000
TZOFFSETTO:+0000
TZNAME:UTC
DTSTART:20260101T000000
END:STANDARD
END:VTIMEZONE
BEGIN:VEVENT
DTSTART;TZID=UTC:20260115T234500
DTEND;TZID=UTC:20260118T030000
DTSTAMP:20260419T092608
CREATED:20250221T122747Z
LAST-MODIFIED:20260117T095210Z
UID:14656-1768520700-1768705200@kpbsd.org
SUMMARY:Rus Hitchcock Nikiski Tip Off Tournament
DESCRIPTION:Games:\nSport: Basketball\nLevel: Girls Varsity\nTeam: Nikiski High School
URL:https://kpbsd.org/schools/nikiski-middle-high/event/rus-hitchcock-nikiski-tip-off-tournament-4/
LOCATION:AK
END:VEVENT
BEGIN:VEVENT
DTSTART;TZID=UTC:20260116T011500
DTEND;TZID=UTC:20260118T030000
DTSTAMP:20260419T092608
CREATED:20250221T122747Z
LAST-MODIFIED:20260117T095210Z
UID:14653-1768526100-1768705200@kpbsd.org
SUMMARY:Rus Hitchcock Nikiski Tip Off Tournament
DESCRIPTION:Games:\nSport: Basketball\nLevel: Boys Varsity\nTeam: Nikiski High School
URL:https://kpbsd.org/schools/nikiski-middle-high/event/rus-hitchcock-nikiski-tip-off-tournament-3/
LOCATION:AK
END:VEVENT
BEGIN:VEVENT
DTSTART;TZID=UTC:20260117T190000
DTEND;TZID=UTC:20260118T010000
DTSTAMP:20260419T092608
CREATED:20250517T163102Z
LAST-MODIFIED:20260117T095210Z
UID:15694-1768676400-1768698000@kpbsd.org
SUMMARY:Coed 6/7/8th Wrestling @ CHAPMAN SCHOOL
DESCRIPTION:Sport: Wrestling\nLevel: Coed 6/7/8th\nTeam: Nikiski High School\nSite: CHAPMAN SCHOOL
URL:https://kpbsd.org/schools/nikiski-middle-high/event/coed-6-7-8th-wrestling-chapman-school/
LOCATION:73286 School Ave\, Anchor Point\, AK\, United States
END:VEVENT
END:VCALENDAR