BEGIN:VCALENDAR
VERSION:2.0
PRODID:-//Nikiski Middle &amp; High School - ECPv6.8.2//NONSGML v1.0//EN
CALSCALE:GREGORIAN
METHOD:PUBLISH
X-WR-CALNAME:Nikiski Middle &amp; High School
X-ORIGINAL-URL:https://kpbsd.org/schools/nikiski-middle-high
X-WR-CALDESC:Events for Nikiski Middle &amp; High School
REFRESH-INTERVAL;VALUE=DURATION:PT1H
X-Robots-Tag:noindex
X-PUBLISHED-TTL:PT1H
BEGIN:VTIMEZONE
TZID:UTC
BEGIN:STANDARD
TZOFFSETFROM:+0000
TZOFFSETTO:+0000
TZNAME:UTC
DTSTART:20260101T000000
END:STANDARD
END:VTIMEZONE
BEGIN:VEVENT
DTSTART;TZID=UTC:20260822T000000
DTEND;TZID=UTC:20260822T010000
DTSTAMP:20260420T201156
CREATED:20260318T220536Z
LAST-MODIFIED:20260421T002138Z
UID:19064-1787356800-1787360400@kpbsd.org
SUMMARY:Girls JV Volleyball @ Seward High School
DESCRIPTION:Sport: Volleyball\nLevel: Girls JV\nTeam: Nikiski High School\nSite: Seward High School\nSubsite: Gym
URL:https://kpbsd.org/schools/nikiski-middle-high/event/girls-jv-volleyball-seward-high-school-6/
LOCATION:Po Box 1049\, Seward\, AK\, United States
END:VEVENT
BEGIN:VEVENT
DTSTART;TZID=UTC:20260822T010000
DTEND;TZID=UTC:20260822T030000
DTSTAMP:20260420T201156
CREATED:20260318T220536Z
LAST-MODIFIED:20260421T002139Z
UID:19067-1787360400-1787367600@kpbsd.org
SUMMARY:Girls Varsity Volleyball @ Seward High School
DESCRIPTION:Sport: Volleyball\nLevel: Girls Varsity\nTeam: Nikiski High School\nSite: Seward High School\nSubsite: Gym
URL:https://kpbsd.org/schools/nikiski-middle-high/event/girls-varsity-volleyball-seward-high-school-8/
LOCATION:Po Box 1049\, Seward\, AK\, United States
END:VEVENT
BEGIN:VEVENT
DTSTART;TZID=UTC:20260822T200000
DTEND;TZID=UTC:20260822T220000
DTSTAMP:20260420T201156
CREATED:20260128T110616Z
LAST-MODIFIED:20260421T002139Z
UID:18116-1787428800-1787436000@kpbsd.org
SUMMARY:Coed Varsity Football vs Seward High School
DESCRIPTION:Sport: Football\nLevel: Coed Varsity\nTeam: Nikiski High School\nSite: Nikiski High School\nSubsite: Football Field
URL:https://kpbsd.org/schools/nikiski-middle-high/event/coed-varsity-football-vs-seward-high-school-5/
LOCATION:52275 Education Drive\, 52801 Nikiski Ave\, Kenai\, AK\, United States
END:VEVENT
END:VCALENDAR