BEGIN:VCALENDAR
VERSION:2.0
PRODID:-//Nikiski Middle &amp; High School - ECPv6.8.2//NONSGML v1.0//EN
CALSCALE:GREGORIAN
METHOD:PUBLISH
X-ORIGINAL-URL:https://kpbsd.org/schools/nikiski-middle-high
X-WR-CALDESC:Events for Nikiski Middle &amp; High School
REFRESH-INTERVAL;VALUE=DURATION:PT1H
X-Robots-Tag:noindex
X-PUBLISHED-TTL:PT1H
BEGIN:VTIMEZONE
TZID:UTC
BEGIN:STANDARD
TZOFFSETFROM:+0000
TZOFFSETTO:+0000
TZNAME:UTC
DTSTART:20260101T000000
END:STANDARD
END:VTIMEZONE
BEGIN:VEVENT
DTSTART;TZID=UTC:20260828T080100
DTEND;TZID=UTC:20260829T080100
DTSTAMP:20260421T124958
CREATED:20260128T110616Z
LAST-MODIFIED:20260421T002139Z
UID:18122-1787904060-1787990460@kpbsd.org
SUMMARY:Shayna Marie Pritchard Memorial Volleyball Tournament
DESCRIPTION:Games:\nSport: Volleyball\nLevel: Girls Varsity\nTeam: Nikiski High School
URL:https://kpbsd.org/schools/nikiski-middle-high/event/shayna-marie-pritchard-memorial-volleyball-tournament-3/
LOCATION:AK
END:VEVENT
BEGIN:VEVENT
DTSTART;TZID=UTC:20260828T080100
DTEND;TZID=UTC:20260829T080100
DTSTAMP:20260421T124958
CREATED:20260318T220537Z
LAST-MODIFIED:20260421T002139Z
UID:19070-1787904060-1787990460@kpbsd.org
SUMMARY:North Sough Volleyball Tournament
DESCRIPTION:Games:\nSport: Volleyball\nLevel: Girls Varsity\nTeam: Nikiski High School
URL:https://kpbsd.org/schools/nikiski-middle-high/event/north-sough-volleyball-tournament/
LOCATION:AK
END:VEVENT
BEGIN:VEVENT
DTSTART;TZID=UTC:20260829T190000
DTEND;TZID=UTC:20260829T210000
DTSTAMP:20260421T124958
CREATED:20260215T175509Z
LAST-MODIFIED:20260421T002140Z
UID:18665-1788030000-1788037200@kpbsd.org
SUMMARY:Coed Varsity Football @ Monroe Catholic High School
DESCRIPTION:Sport: Football\nLevel: Coed Varsity\nTeam: Nikiski High School\nSite: Monroe Catholic High School\nSubsite: FYSA Turf Field
URL:https://kpbsd.org/schools/nikiski-middle-high/event/coed-varsity-football-monroe-catholic-high-school-4/
LOCATION:615 Monroe St.\, Fairbanks\, AK\, United States
END:VEVENT
END:VCALENDAR