BEGIN:VCALENDAR
VERSION:2.0
PRODID:-//Nikiski Middle &amp; High School - ECPv6.8.2//NONSGML v1.0//EN
CALSCALE:GREGORIAN
METHOD:PUBLISH
X-WR-CALNAME:Nikiski Middle &amp; High School
X-ORIGINAL-URL:https://kpbsd.org/schools/nikiski-middle-high
X-WR-CALDESC:Events for Nikiski Middle &amp; High School
REFRESH-INTERVAL;VALUE=DURATION:PT1H
X-Robots-Tag:noindex
X-PUBLISHED-TTL:PT1H
BEGIN:VTIMEZONE
TZID:UTC
BEGIN:STANDARD
TZOFFSETFROM:+0000
TZOFFSETTO:+0000
TZNAME:UTC
DTSTART:20260101T000000
END:STANDARD
TZID:America/Anchorage
BEGIN:DAYLIGHT
TZOFFSETFROM:-0900
TZOFFSETTO:-0800
TZNAME:AKDT
DTSTART:20260308T110000
END:DAYLIGHT
BEGIN:STANDARD
TZOFFSETFROM:-0800
TZOFFSETTO:-0900
TZNAME:AKST
DTSTART:20261101T100000
END:STANDARD
END:VTIMEZONE
BEGIN:VEVENT
DTSTART;TZID=UTC:20260911T020000
DTEND;TZID=UTC:20260911T040000
DTSTAMP:20260420T200821
CREATED:20260221T185132Z
LAST-MODIFIED:20260421T002142Z
UID:18731-1789092000-1789099200@kpbsd.org
SUMMARY:HOCO Peachfuzz Volleyball
DESCRIPTION:Site: Nikiski High School\nSubsite: Commons
URL:https://kpbsd.org/schools/nikiski-middle-high/event/hoco-peachfuzz-volleyball/
LOCATION:52275 Education Drive\, 52801 Nikiski Ave\, Kenai\, AK\, United States
END:VEVENT
BEGIN:VEVENT
DTSTART;TZID=America/Anchorage:20260911T080000
DTEND;TZID=America/Anchorage:20260911T170000
DTSTAMP:20260420T200821
CREATED:20260411T035002Z
LAST-MODIFIED:20260418T040222Z
UID:20582-1789113600-1789146000@kpbsd.org
SUMMARY:Early Release Day
DESCRIPTION:
URL:https://kpbsd.org/schools/nikiski-middle-high/event/early-release-day-15/
LOCATION:AK
CATEGORIES:Districtwide Calendar
END:VEVENT
BEGIN:VEVENT
DTSTART;TZID=UTC:20260911T210000
DTEND;TZID=UTC:20260911T220000
DTSTAMP:20260420T200821
CREATED:20260128T110617Z
LAST-MODIFIED:20260421T002142Z
UID:18125-1789160400-1789164000@kpbsd.org
SUMMARY:Girls Varsity Volleyball vs Palmer High School
DESCRIPTION:Sport: Volleyball\nLevel: Girls Varsity\nTeam: Nikiski High School\nSite: Nikiski High School\nSubsite: Gym
URL:https://kpbsd.org/schools/nikiski-middle-high/event/girls-varsity-volleyball-vs-palmer-high-school/
LOCATION:52275 Education Drive\, 52801 Nikiski Ave\, Kenai\, AK\, United States
END:VEVENT
BEGIN:VEVENT
DTSTART;TZID=UTC:20260911T220000
DTEND;TZID=UTC:20260912T020000
DTSTAMP:20260420T200821
CREATED:20260318T220542Z
LAST-MODIFIED:20260421T002142Z
UID:19073-1789164000-1789178400@kpbsd.org
SUMMARY:Coed Varsity Cross Country @ Seward High School
DESCRIPTION:Sport: Cross Country\nLevel: Coed Varsity\nTeam: Nikiski High School\nSite: Seward High School\nSubsite: XC Course
URL:https://kpbsd.org/schools/nikiski-middle-high/event/coed-varsity-cross-country-seward-high-school-8/
LOCATION:Po Box 1049\, Seward\, AK\, United States
END:VEVENT
BEGIN:VEVENT
DTSTART;TZID=UTC:20260911T223000
DTEND;TZID=UTC:20260911T233000
DTSTAMP:20260420T200821
CREATED:20260128T110618Z
LAST-MODIFIED:20260421T002143Z
UID:18131-1789165800-1789169400@kpbsd.org
SUMMARY:Girls JV Volleyball vs Palmer High School
DESCRIPTION:Sport: Volleyball\nLevel: Girls JV\nTeam: Nikiski High School\nSite: Nikiski High School\nSubsite: Gym
URL:https://kpbsd.org/schools/nikiski-middle-high/event/girls-jv-volleyball-vs-palmer-high-school/
LOCATION:52275 Education Drive\, 52801 Nikiski Ave\, Kenai\, AK\, United States
END:VEVENT
BEGIN:VEVENT
DTSTART;TZID=UTC:20260911T233000
DTEND;TZID=UTC:20260912T003000
DTSTAMP:20260420T200821
CREATED:20260128T110618Z
LAST-MODIFIED:20260421T002143Z
UID:18128-1789169400-1789173000@kpbsd.org
SUMMARY:Girls Freshman Volleyball vs Palmer High School
DESCRIPTION:Sport: Volleyball\nLevel: Girls Freshman\nTeam: Nikiski High School\nSite: Nikiski High School\nSubsite: Gym
URL:https://kpbsd.org/schools/nikiski-middle-high/event/girls-freshman-volleyball-vs-palmer-high-school/
LOCATION:52275 Education Drive\, 52801 Nikiski Ave\, Kenai\, AK\, United States
END:VEVENT
END:VCALENDAR