BEGIN:VCALENDAR
VERSION:2.0
PRODID:-//Nikiski Middle &amp; High School - ECPv6.8.2//NONSGML v1.0//EN
CALSCALE:GREGORIAN
METHOD:PUBLISH
X-ORIGINAL-URL:https://kpbsd.org/schools/nikiski-middle-high
X-WR-CALDESC:Events for Nikiski Middle &amp; High School
REFRESH-INTERVAL;VALUE=DURATION:PT1H
X-Robots-Tag:noindex
X-PUBLISHED-TTL:PT1H
BEGIN:VTIMEZONE
TZID:UTC
BEGIN:STANDARD
TZOFFSETFROM:+0000
TZOFFSETTO:+0000
TZNAME:UTC
DTSTART:20260101T000000
END:STANDARD
END:VTIMEZONE
BEGIN:VEVENT
DTSTART;TZID=UTC:20260919T200000
DTEND;TZID=UTC:20260919T210000
DTSTAMP:20260422T024152
CREATED:20260128T110620Z
LAST-MODIFIED:20260422T003516Z
UID:18146-1789848000-1789851600@kpbsd.org
SUMMARY:Girls Freshman Volleyball vs Houston High School
DESCRIPTION:Sport: Volleyball\nLevel: Girls Freshman\nTeam: Nikiski High School\nSite: Nikiski High School\nSubsite: Gym
URL:https://kpbsd.org/schools/nikiski-middle-high/event/girls-freshman-volleyball-vs-houston-high-school-2/
LOCATION:52275 Education Drive\, 52801 Nikiski Ave\, Kenai\, AK\, United States
END:VEVENT
BEGIN:VEVENT
DTSTART;TZID=UTC:20260919T210000
DTEND;TZID=UTC:20260919T220000
DTSTAMP:20260422T024152
CREATED:20260128T110621Z
LAST-MODIFIED:20260422T003516Z
UID:18152-1789851600-1789855200@kpbsd.org
SUMMARY:Girls JV Volleyball vs Houston High School
DESCRIPTION:Sport: Volleyball\nLevel: Girls JV\nTeam: Nikiski High School\nSite: Nikiski High School\nSubsite: Gym
URL:https://kpbsd.org/schools/nikiski-middle-high/event/girls-jv-volleyball-vs-houston-high-school-2/
LOCATION:52275 Education Drive\, 52801 Nikiski Ave\, Kenai\, AK\, United States
END:VEVENT
BEGIN:VEVENT
DTSTART;TZID=UTC:20260919T220000
DTEND;TZID=UTC:20260919T230000
DTSTAMP:20260422T024152
CREATED:20260128T110621Z
LAST-MODIFIED:20260422T003515Z
UID:18149-1789855200-1789858800@kpbsd.org
SUMMARY:Girls Varsity Volleyball vs Houston High School
DESCRIPTION:Sport: Volleyball\nLevel: Girls Varsity\nTeam: Nikiski High School\nSite: Nikiski High School\nSubsite: Gym
URL:https://kpbsd.org/schools/nikiski-middle-high/event/girls-varsity-volleyball-vs-houston-high-school-2/
LOCATION:52275 Education Drive\, 52801 Nikiski Ave\, Kenai\, AK\, United States
END:VEVENT
END:VCALENDAR