BEGIN:VCALENDAR
VERSION:2.0
PRODID:-//Nikiski Middle &amp; High School - ECPv6.8.2//NONSGML v1.0//EN
CALSCALE:GREGORIAN
METHOD:PUBLISH
X-WR-CALNAME:Nikiski Middle &amp; High School
X-ORIGINAL-URL:https://kpbsd.org/schools/nikiski-middle-high
X-WR-CALDESC:Events for Nikiski Middle &amp; High School
REFRESH-INTERVAL;VALUE=DURATION:PT1H
X-Robots-Tag:noindex
X-PUBLISHED-TTL:PT1H
BEGIN:VTIMEZONE
TZID:UTC
BEGIN:STANDARD
TZOFFSETFROM:+0000
TZOFFSETTO:+0000
TZNAME:UTC
DTSTART:20260101T000000
END:STANDARD
END:VTIMEZONE
BEGIN:VEVENT
DTSTART;TZID=UTC:20261024T170000
DTEND;TZID=UTC:20261025T010000
DTSTAMP:20260424T185843
CREATED:20260130T153529Z
LAST-MODIFIED:20260425T025054Z
UID:18498-1792861200-1792890000@kpbsd.org
SUMMARY:Coed Varsity Wrestling vs Barrow High School
DESCRIPTION:Sport: Wrestling\nLevel: Coed Varsity\nTeam: Nikiski High School\nSite: Nikiski High School\nSubsite: Gym
URL:https://kpbsd.org/schools/nikiski-middle-high/event/coed-varsity-wrestling-vs-barrow-high-school-4/
LOCATION:52275 Education Drive\, 52801 Nikiski Ave\, Kenai\, AK\, United States
END:VEVENT
END:VCALENDAR