BEGIN:VCALENDAR
VERSION:2.0
PRODID:-//Nikiski Middle &amp; High School - ECPv6.8.2//NONSGML v1.0//EN
CALSCALE:GREGORIAN
METHOD:PUBLISH
X-ORIGINAL-URL:https://kpbsd.org/schools/nikiski-middle-high
X-WR-CALDESC:Events for Nikiski Middle &amp; High School
REFRESH-INTERVAL;VALUE=DURATION:PT1H
X-Robots-Tag:noindex
X-PUBLISHED-TTL:PT1H
BEGIN:VTIMEZONE
TZID:UTC
BEGIN:STANDARD
TZOFFSETFROM:+0000
TZOFFSETTO:+0000
TZNAME:UTC
DTSTART:20260101T000000
END:STANDARD
END:VTIMEZONE
BEGIN:VEVENT
DTSTART;TZID=UTC:20261113T183000
DTEND;TZID=UTC:20261115T040000
DTSTAMP:20260425T041241
CREATED:20260203T155603Z
LAST-MODIFIED:20260425T120832Z
UID:18558-1794594600-1794715200@kpbsd.org
SUMMARY:LANCER SMITH MEMORIAL @ THE MENARD CENTER
DESCRIPTION:Games:\nSport: Wrestling\nLevel: Coed Varsity\nTeam: Nikiski High School
URL:https://kpbsd.org/schools/nikiski-middle-high/event/lancer-smith-memorial-the-menard-center/
LOCATION:AK
END:VEVENT
END:VCALENDAR