BEGIN:VCALENDAR
VERSION:2.0
PRODID:-//Nikiski Middle &amp; High School - ECPv6.8.2//NONSGML v1.0//EN
CALSCALE:GREGORIAN
METHOD:PUBLISH
X-WR-CALNAME:Nikiski Middle &amp; High School
X-ORIGINAL-URL:https://kpbsd.org/schools/nikiski-middle-high
X-WR-CALDESC:Events for Nikiski Middle &amp; High School
REFRESH-INTERVAL;VALUE=DURATION:PT1H
X-Robots-Tag:noindex
X-PUBLISHED-TTL:PT1H
BEGIN:VTIMEZONE
TZID:America/Anchorage
BEGIN:DAYLIGHT
TZOFFSETFROM:-0900
TZOFFSETTO:-0800
TZNAME:AKDT
DTSTART:20240310T110000
END:DAYLIGHT
BEGIN:STANDARD
TZOFFSETFROM:-0800
TZOFFSETTO:-0900
TZNAME:AKST
DTSTART:20241103T100000
END:STANDARD
BEGIN:DAYLIGHT
TZOFFSETFROM:-0900
TZOFFSETTO:-0800
TZNAME:AKDT
DTSTART:20250309T110000
END:DAYLIGHT
BEGIN:STANDARD
TZOFFSETFROM:-0800
TZOFFSETTO:-0900
TZNAME:AKST
DTSTART:20251102T100000
END:STANDARD
END:VTIMEZONE
BEGIN:VEVENT
DTSTART;TZID=America/Anchorage:20251222T080000
DTEND;TZID=America/Anchorage:20251224T170000
DTSTAMP:20260422T034620
CREATED:20250718T235638Z
LAST-MODIFIED:20251220T023740Z
UID:16645-1766390400-1766595600@kpbsd.org
SUMMARY:Vacation
DESCRIPTION:No School
URL:https://kpbsd.org/schools/nikiski-middle-high/event/vacation-15/
CATEGORIES:Districtwide Calendar
END:VEVENT
BEGIN:VEVENT
DTSTART;TZID=America/Anchorage:20251212T080000
DTEND;TZID=America/Anchorage:20251212T170000
DTSTAMP:20260422T034620
CREATED:20250906T010658Z
LAST-MODIFIED:20251206T022045Z
UID:17073-1765526400-1765558800@kpbsd.org
SUMMARY:Early Release
DESCRIPTION:
URL:https://kpbsd.org/schools/nikiski-middle-high/event/early-release-51/
CATEGORIES:Districtwide Calendar
END:VEVENT
BEGIN:VEVENT
DTSTART;TZID=America/Anchorage:20251127T080000
DTEND;TZID=America/Anchorage:20251128T170000
DTSTAMP:20260422T034620
CREATED:20250718T235637Z
LAST-MODIFIED:20251122T022258Z
UID:16642-1764230400-1764349200@kpbsd.org
SUMMARY:Holiday
DESCRIPTION:
URL:https://kpbsd.org/schools/nikiski-middle-high/event/holiday-16/
CATEGORIES:Districtwide Calendar
END:VEVENT
BEGIN:VEVENT
DTSTART;TZID=America/Anchorage:20251114T080000
DTEND;TZID=America/Anchorage:20251114T170000
DTSTAMP:20260422T034620
CREATED:20250906T010658Z
LAST-MODIFIED:20251108T020555Z
UID:17070-1763107200-1763139600@kpbsd.org
SUMMARY:Early Release
DESCRIPTION:
URL:https://kpbsd.org/schools/nikiski-middle-high/event/early-release-50/
CATEGORIES:Districtwide Calendar
END:VEVENT
BEGIN:VEVENT
DTSTART;TZID=America/Anchorage:20251017T080000
DTEND;TZID=America/Anchorage:20251017T170000
DTSTAMP:20260422T034620
CREATED:20250906T010657Z
LAST-MODIFIED:20251011T013931Z
UID:17067-1760688000-1760720400@kpbsd.org
SUMMARY:Early Release
DESCRIPTION:
URL:https://kpbsd.org/schools/nikiski-middle-high/event/early-release-49/
CATEGORIES:Districtwide Calendar
END:VEVENT
BEGIN:VEVENT
DTSTART;TZID=America/Anchorage:20251010T080000
DTEND;TZID=America/Anchorage:20251010T170000
DTSTAMP:20260422T034620
CREATED:20250718T235637Z
LAST-MODIFIED:20251004T014124Z
UID:16639-1760083200-1760115600@kpbsd.org
SUMMARY:In Service Day / End of Quarter
DESCRIPTION:No School
URL:https://kpbsd.org/schools/nikiski-middle-high/event/in-service-day-end-of-quarter/
CATEGORIES:Districtwide Calendar
END:VEVENT
BEGIN:VEVENT
DTSTART;TZID=America/Anchorage:20250912T080000
DTEND;TZID=America/Anchorage:20250912T170000
DTSTAMP:20260422T034620
CREATED:20250906T010657Z
LAST-MODIFIED:20250906T013832Z
UID:17064-1757664000-1757696400@kpbsd.org
SUMMARY:Early Release
DESCRIPTION:
URL:https://kpbsd.org/schools/nikiski-middle-high/event/early-release-48/
CATEGORIES:Districtwide Calendar
END:VEVENT
BEGIN:VEVENT
DTSTART;TZID=America/Anchorage:20250901T080000
DTEND;TZID=America/Anchorage:20250901T170000
DTSTAMP:20260422T034620
CREATED:20250718T235636Z
LAST-MODIFIED:20250830T005814Z
UID:16636-1756713600-1756746000@kpbsd.org
SUMMARY:Holiday
DESCRIPTION:
URL:https://kpbsd.org/schools/nikiski-middle-high/event/holiday-4/
CATEGORIES:Districtwide Calendar
END:VEVENT
BEGIN:VEVENT
DTSTART;TZID=America/Anchorage:20250820T080000
DTEND;TZID=America/Anchorage:20250820T170000
DTSTAMP:20260422T034620
CREATED:20250718T235636Z
LAST-MODIFIED:20250816T005240Z
UID:16633-1755676800-1755709200@kpbsd.org
SUMMARY:First Day of School
DESCRIPTION:
URL:https://kpbsd.org/schools/nikiski-middle-high/event/first-day-of-school-7/
CATEGORIES:Districtwide Calendar
END:VEVENT
BEGIN:VEVENT
DTSTART;TZID=America/Anchorage:20250523T080000
DTEND;TZID=America/Anchorage:20250523T170000
DTSTAMP:20260422T034620
CREATED:20240516T131138Z
LAST-MODIFIED:20250523T223533Z
UID:11481-1747987200-1748019600@kpbsd.org
SUMMARY:Last Teacher Work Day
DESCRIPTION:
URL:https://kpbsd.org/schools/nikiski-middle-high/event/last-teacher-work-day/
CATEGORIES:Districtwide Calendar
END:VEVENT
BEGIN:VEVENT
DTSTART;TZID=America/Anchorage:20250522T080000
DTEND;TZID=America/Anchorage:20250522T170000
DTSTAMP:20260422T034620
CREATED:20240516T131138Z
LAST-MODIFIED:20250516T221849Z
UID:11478-1747900800-1747933200@kpbsd.org
SUMMARY:Last Student Day of School
DESCRIPTION:
URL:https://kpbsd.org/schools/nikiski-middle-high/event/last-student-day-of-school/
CATEGORIES:Districtwide Calendar
END:VEVENT
BEGIN:VEVENT
DTSTART;TZID=America/Anchorage:20250418T080000
DTEND;TZID=America/Anchorage:20250418T170000
DTSTAMP:20260422T034620
CREATED:20240516T131137Z
LAST-MODIFIED:20250418T211922Z
UID:11475-1744963200-1744995600@kpbsd.org
SUMMARY:Vacation
DESCRIPTION:
URL:https://kpbsd.org/schools/nikiski-middle-high/event/vacation-14/
CATEGORIES:Districtwide Calendar
END:VEVENT
BEGIN:VEVENT
DTSTART;TZID=America/Anchorage:20250411T080000
DTEND;TZID=America/Anchorage:20250411T170000
DTSTAMP:20260422T034620
CREATED:20240516T131137Z
LAST-MODIFIED:20250411T204838Z
UID:11472-1744358400-1744390800@kpbsd.org
SUMMARY:Early Release
DESCRIPTION:
URL:https://kpbsd.org/schools/nikiski-middle-high/event/early-release-47/
CATEGORIES:Districtwide Calendar
END:VEVENT
BEGIN:VEVENT
DTSTART;TZID=America/Anchorage:20250310T080000
DTEND;TZID=America/Anchorage:20250314T170000
DTSTAMP:20260422T034620
CREATED:20240516T131137Z
LAST-MODIFIED:20250314T193413Z
UID:11469-1741593600-1741971600@kpbsd.org
SUMMARY:Vacation
DESCRIPTION:
URL:https://kpbsd.org/schools/nikiski-middle-high/event/vacation-13/
CATEGORIES:Districtwide Calendar
END:VEVENT
BEGIN:VEVENT
DTSTART;TZID=America/Anchorage:20250306T080000
DTEND;TZID=America/Anchorage:20250306T170000
DTSTAMP:20260422T034620
CREATED:20240516T131136Z
LAST-MODIFIED:20250228T190210Z
UID:11466-1741248000-1741280400@kpbsd.org
SUMMARY:Early Release
DESCRIPTION:
URL:https://kpbsd.org/schools/nikiski-middle-high/event/early-release-46/
CATEGORIES:Districtwide Calendar
END:VEVENT
BEGIN:VEVENT
DTSTART;TZID=America/Anchorage:20250217T080000
DTEND;TZID=America/Anchorage:20250217T170000
DTSTAMP:20260422T034620
CREATED:20240516T131136Z
LAST-MODIFIED:20250214T183529Z
UID:11463-1739779200-1739811600@kpbsd.org
SUMMARY:Vacation Day
DESCRIPTION:For Susan B. English\, Tubughna\, Moose Pass and Seward area schools only
URL:https://kpbsd.org/schools/nikiski-middle-high/event/vacation-day-18/
CATEGORIES:Districtwide Calendar
END:VEVENT
BEGIN:VEVENT
DTSTART;TZID=America/Anchorage:20250213T080000
DTEND;TZID=America/Anchorage:20250214T170000
DTSTAMP:20260422T034620
CREATED:20240516T131136Z
LAST-MODIFIED:20250214T183529Z
UID:11460-1739433600-1739552400@kpbsd.org
SUMMARY:Parent-Teacher Conferences
DESCRIPTION:
URL:https://kpbsd.org/schools/nikiski-middle-high/event/parent-teacher-conferences-8/
CATEGORIES:Districtwide Calendar
END:VEVENT
BEGIN:VEVENT
DTSTART;TZID=America/Anchorage:20250207T080000
DTEND;TZID=America/Anchorage:20250207T170000
DTSTAMP:20260422T034620
CREATED:20240516T131136Z
LAST-MODIFIED:20250207T181539Z
UID:11457-1738915200-1738947600@kpbsd.org
SUMMARY:Early Release
DESCRIPTION:
URL:https://kpbsd.org/schools/nikiski-middle-high/event/early-release-45/
CATEGORIES:Districtwide Calendar
END:VEVENT
BEGIN:VEVENT
DTSTART;TZID=America/Anchorage:20250117T080000
DTEND;TZID=America/Anchorage:20250117T170000
DTSTAMP:20260422T034620
CREATED:20240718T171109Z
LAST-MODIFIED:20250117T173345Z
UID:11893-1737100800-1737133200@kpbsd.org
SUMMARY:Early Release
DESCRIPTION:
URL:https://kpbsd.org/schools/nikiski-middle-high/event/early-release-44/
CATEGORIES:Districtwide Calendar
END:VEVENT
BEGIN:VEVENT
DTSTART;TZID=America/Anchorage:20250103T080000
DTEND;TZID=America/Anchorage:20250103T170000
DTSTAMP:20260422T034620
CREATED:20240516T131135Z
LAST-MODIFIED:20250103T164514Z
UID:11454-1735891200-1735923600@kpbsd.org
SUMMARY:Vacation
DESCRIPTION:
URL:https://kpbsd.org/schools/nikiski-middle-high/event/vacation-12/
CATEGORIES:Districtwide Calendar
END:VEVENT
BEGIN:VEVENT
DTSTART;TZID=America/Anchorage:20250102T080000
DTEND;TZID=America/Anchorage:20250102T170000
DTSTAMP:20260422T034620
CREATED:20240516T131135Z
LAST-MODIFIED:20241227T163304Z
UID:11451-1735804800-1735837200@kpbsd.org
SUMMARY:Vacation
DESCRIPTION:
URL:https://kpbsd.org/schools/nikiski-middle-high/event/vacation-11/
CATEGORIES:Districtwide Calendar
END:VEVENT
BEGIN:VEVENT
DTSTART;TZID=America/Anchorage:20241231T080000
DTEND;TZID=America/Anchorage:20241231T170000
DTSTAMP:20260422T034620
CREATED:20240516T131135Z
LAST-MODIFIED:20241227T163304Z
UID:11448-1735632000-1735664400@kpbsd.org
SUMMARY:Vacation
DESCRIPTION:
URL:https://kpbsd.org/schools/nikiski-middle-high/event/vacation-10/
CATEGORIES:Districtwide Calendar
END:VEVENT
BEGIN:VEVENT
DTSTART;TZID=America/Anchorage:20241230T080000
DTEND;TZID=America/Anchorage:20241230T170000
DTSTAMP:20260422T034620
CREATED:20240516T131135Z
LAST-MODIFIED:20241227T163304Z
UID:11445-1735545600-1735578000@kpbsd.org
SUMMARY:Vacation
DESCRIPTION:
URL:https://kpbsd.org/schools/nikiski-middle-high/event/vacation-9/
CATEGORIES:Districtwide Calendar
END:VEVENT
BEGIN:VEVENT
DTSTART;TZID=America/Anchorage:20241227T080000
DTEND;TZID=America/Anchorage:20241227T170000
DTSTAMP:20260422T034620
CREATED:20240516T131134Z
LAST-MODIFIED:20241227T163304Z
UID:11442-1735286400-1735318800@kpbsd.org
SUMMARY:Vacation
DESCRIPTION:
URL:https://kpbsd.org/schools/nikiski-middle-high/event/vacation-8/
CATEGORIES:Districtwide Calendar
END:VEVENT
BEGIN:VEVENT
DTSTART;TZID=America/Anchorage:20241226T080000
DTEND;TZID=America/Anchorage:20241226T170000
DTSTAMP:20260422T034620
CREATED:20240516T131134Z
LAST-MODIFIED:20241220T161727Z
UID:11439-1735200000-1735232400@kpbsd.org
SUMMARY:Vacation
DESCRIPTION:
URL:https://kpbsd.org/schools/nikiski-middle-high/event/vacation-7/
CATEGORIES:Districtwide Calendar
END:VEVENT
BEGIN:VEVENT
DTSTART;TZID=America/Anchorage:20241224T080000
DTEND;TZID=America/Anchorage:20241224T170000
DTSTAMP:20260422T034620
CREATED:20240516T131134Z
LAST-MODIFIED:20241220T161727Z
UID:11436-1735027200-1735059600@kpbsd.org
SUMMARY:Vacation
DESCRIPTION:
URL:https://kpbsd.org/schools/nikiski-middle-high/event/vacation-6/
CATEGORIES:Districtwide Calendar
END:VEVENT
BEGIN:VEVENT
DTSTART;TZID=America/Anchorage:20241223T080000
DTEND;TZID=America/Anchorage:20241223T170000
DTSTAMP:20260422T034620
CREATED:20240516T131133Z
LAST-MODIFIED:20241220T161727Z
UID:11427-1734940800-1734973200@kpbsd.org
SUMMARY:Vacation
DESCRIPTION:
URL:https://kpbsd.org/schools/nikiski-middle-high/event/vacation-5/
CATEGORIES:Districtwide Calendar
END:VEVENT
BEGIN:VEVENT
DTSTART;TZID=America/Anchorage:20241213T080000
DTEND;TZID=America/Anchorage:20241213T170000
DTSTAMP:20260422T034620
CREATED:20240516T131133Z
LAST-MODIFIED:20241213T160511Z
UID:11421-1734076800-1734109200@kpbsd.org
SUMMARY:Early Release
DESCRIPTION:
URL:https://kpbsd.org/schools/nikiski-middle-high/event/early-release-43/
CATEGORIES:Districtwide Calendar
END:VEVENT
BEGIN:VEVENT
DTSTART;TZID=America/Anchorage:20241115T080000
DTEND;TZID=America/Anchorage:20241115T170000
DTSTAMP:20260422T034620
CREATED:20240516T131133Z
LAST-MODIFIED:20241115T151137Z
UID:11418-1731657600-1731690000@kpbsd.org
SUMMARY:Early Release
DESCRIPTION:
URL:https://kpbsd.org/schools/nikiski-middle-high/event/early-release-42/
CATEGORIES:Districtwide Calendar
END:VEVENT
BEGIN:VEVENT
DTSTART;TZID=America/Anchorage:20241025T080000
DTEND;TZID=America/Anchorage:20241025T170000
DTSTAMP:20260422T034620
CREATED:20240516T131133Z
LAST-MODIFIED:20241024T195236Z
UID:11415-1729843200-1729875600@kpbsd.org
SUMMARY:Parent-Teacher Conferences
DESCRIPTION:
URL:https://kpbsd.org/schools/nikiski-middle-high/event/parent-teacher-conferences-7/
CATEGORIES:Districtwide Calendar
END:VEVENT
END:VCALENDAR