BEGIN:VCALENDAR
VERSION:2.0
PRODID:-//Nikiski Middle &amp; High School - ECPv6.8.2//NONSGML v1.0//EN
CALSCALE:GREGORIAN
METHOD:PUBLISH
X-WR-CALNAME:Nikiski Middle &amp; High School
X-ORIGINAL-URL:https://kpbsd.org/schools/nikiski-middle-high
X-WR-CALDESC:Events for Nikiski Middle &amp; High School
REFRESH-INTERVAL;VALUE=DURATION:PT1H
X-Robots-Tag:noindex
X-PUBLISHED-TTL:PT1H
BEGIN:VTIMEZONE
TZID:America/Anchorage
BEGIN:DAYLIGHT
TZOFFSETFROM:-0900
TZOFFSETTO:-0800
TZNAME:AKDT
DTSTART:20230312T110000
END:DAYLIGHT
BEGIN:STANDARD
TZOFFSETFROM:-0800
TZOFFSETTO:-0900
TZNAME:AKST
DTSTART:20231105T100000
END:STANDARD
BEGIN:DAYLIGHT
TZOFFSETFROM:-0900
TZOFFSETTO:-0800
TZNAME:AKDT
DTSTART:20240310T110000
END:DAYLIGHT
BEGIN:STANDARD
TZOFFSETFROM:-0800
TZOFFSETTO:-0900
TZNAME:AKST
DTSTART:20241103T100000
END:STANDARD
END:VTIMEZONE
BEGIN:VEVENT
DTSTART;TZID=America/Anchorage:20241226T080000
DTEND;TZID=America/Anchorage:20241226T170000
DTSTAMP:20260423T162532
CREATED:20240516T131134Z
LAST-MODIFIED:20241220T161727Z
UID:11439-1735200000-1735232400@kpbsd.org
SUMMARY:Vacation
DESCRIPTION:
URL:https://kpbsd.org/schools/nikiski-middle-high/event/vacation-7/
CATEGORIES:Districtwide Calendar
END:VEVENT
BEGIN:VEVENT
DTSTART;TZID=America/Anchorage:20241224T080000
DTEND;TZID=America/Anchorage:20241224T170000
DTSTAMP:20260423T162532
CREATED:20240516T131134Z
LAST-MODIFIED:20241220T161727Z
UID:11436-1735027200-1735059600@kpbsd.org
SUMMARY:Vacation
DESCRIPTION:
URL:https://kpbsd.org/schools/nikiski-middle-high/event/vacation-6/
CATEGORIES:Districtwide Calendar
END:VEVENT
BEGIN:VEVENT
DTSTART;TZID=America/Anchorage:20241223T080000
DTEND;TZID=America/Anchorage:20241223T170000
DTSTAMP:20260423T162532
CREATED:20240516T131133Z
LAST-MODIFIED:20241220T161727Z
UID:11427-1734940800-1734973200@kpbsd.org
SUMMARY:Vacation
DESCRIPTION:
URL:https://kpbsd.org/schools/nikiski-middle-high/event/vacation-5/
CATEGORIES:Districtwide Calendar
END:VEVENT
BEGIN:VEVENT
DTSTART;TZID=America/Anchorage:20241213T080000
DTEND;TZID=America/Anchorage:20241213T170000
DTSTAMP:20260423T162532
CREATED:20240516T131133Z
LAST-MODIFIED:20241213T160511Z
UID:11421-1734076800-1734109200@kpbsd.org
SUMMARY:Early Release
DESCRIPTION:
URL:https://kpbsd.org/schools/nikiski-middle-high/event/early-release-43/
CATEGORIES:Districtwide Calendar
END:VEVENT
BEGIN:VEVENT
DTSTART;TZID=America/Anchorage:20241115T080000
DTEND;TZID=America/Anchorage:20241115T170000
DTSTAMP:20260423T162532
CREATED:20240516T131133Z
LAST-MODIFIED:20241115T151137Z
UID:11418-1731657600-1731690000@kpbsd.org
SUMMARY:Early Release
DESCRIPTION:
URL:https://kpbsd.org/schools/nikiski-middle-high/event/early-release-42/
CATEGORIES:Districtwide Calendar
END:VEVENT
BEGIN:VEVENT
DTSTART;TZID=America/Anchorage:20241025T080000
DTEND;TZID=America/Anchorage:20241025T170000
DTSTAMP:20260423T162532
CREATED:20240516T131133Z
LAST-MODIFIED:20241024T195236Z
UID:11415-1729843200-1729875600@kpbsd.org
SUMMARY:Parent-Teacher Conferences
DESCRIPTION:
URL:https://kpbsd.org/schools/nikiski-middle-high/event/parent-teacher-conferences-7/
CATEGORIES:Districtwide Calendar
END:VEVENT
BEGIN:VEVENT
DTSTART;TZID=America/Anchorage:20241024T080000
DTEND;TZID=America/Anchorage:20241024T170000
DTSTAMP:20260423T162532
CREATED:20240516T131132Z
LAST-MODIFIED:20241024T195236Z
UID:11412-1729756800-1729789200@kpbsd.org
SUMMARY:Parent-Teacher Conferences
DESCRIPTION:
URL:https://kpbsd.org/schools/nikiski-middle-high/event/parent-teacher-conferences-6/
CATEGORIES:Districtwide Calendar
END:VEVENT
BEGIN:VEVENT
DTSTART;TZID=America/Anchorage:20241018T080000
DTEND;TZID=America/Anchorage:20241018T170000
DTSTAMP:20260423T162532
CREATED:20240516T131132Z
LAST-MODIFIED:20241017T194535Z
UID:11409-1729238400-1729270800@kpbsd.org
SUMMARY:Early Release
DESCRIPTION:
URL:https://kpbsd.org/schools/nikiski-middle-high/event/early-release-41/
CATEGORIES:Districtwide Calendar
END:VEVENT
BEGIN:VEVENT
DTSTART;TZID=America/Anchorage:20241011T080000
DTEND;TZID=America/Anchorage:20241011T170000
DTSTAMP:20260423T162532
CREATED:20240516T131132Z
LAST-MODIFIED:20241010T192302Z
UID:11406-1728633600-1728666000@kpbsd.org
SUMMARY:InService Work Day / End of Quarter
DESCRIPTION:
URL:https://kpbsd.org/schools/nikiski-middle-high/event/inservice-work-day-end-of-quarter/
CATEGORIES:Districtwide Calendar,In-Service
END:VEVENT
BEGIN:VEVENT
DTSTART;TZID=America/Anchorage:20240913T080000
DTEND;TZID=America/Anchorage:20240913T170000
DTSTAMP:20260423T162532
CREATED:20240516T131131Z
LAST-MODIFIED:20240912T185353Z
UID:11403-1726214400-1726246800@kpbsd.org
SUMMARY:Early Release
DESCRIPTION:
URL:https://kpbsd.org/schools/nikiski-middle-high/event/early-release-40/
CATEGORIES:Districtwide Calendar
END:VEVENT
BEGIN:VEVENT
DTSTART;TZID=America/Anchorage:20240902T080000
DTEND;TZID=America/Anchorage:20240902T170000
DTSTAMP:20260423T162532
CREATED:20240829T184255Z
LAST-MODIFIED:20240829T184259Z
UID:12231-1725264000-1725296400@kpbsd.org
SUMMARY:Holiday
DESCRIPTION:
URL:https://kpbsd.org/schools/nikiski-middle-high/event/holiday-3/
CATEGORIES:Districtwide Calendar,Holiday
END:VEVENT
BEGIN:VEVENT
DTSTART;TZID=America/Anchorage:20240821T080000
DTEND;TZID=America/Anchorage:20240821T170000
DTSTAMP:20260423T162532
CREATED:20240516T131131Z
LAST-MODIFIED:20240815T180859Z
UID:11400-1724227200-1724259600@kpbsd.org
SUMMARY:First Day of School
DESCRIPTION:
URL:https://kpbsd.org/schools/nikiski-middle-high/event/first-day-of-school-5/
CATEGORIES:Districtwide Calendar
END:VEVENT
BEGIN:VEVENT
DTSTART;TZID=America/Anchorage:20240412T000000
DTEND;TZID=America/Anchorage:20240412T235900
DTSTAMP:20260423T162532
CREATED:20230817T030525Z
LAST-MODIFIED:20240411T125247Z
UID:8514-1712880000-1712966340@kpbsd.org
SUMMARY:Early Release
DESCRIPTION:
URL:https://kpbsd.org/schools/nikiski-middle-high/event/early-release-39/
CATEGORIES:Districtwide Calendar
END:VEVENT
BEGIN:VEVENT
DTSTART;TZID=America/Anchorage:20240329T000000
DTEND;TZID=America/Anchorage:20240329T235900
DTSTAMP:20260423T162532
CREATED:20221215T005459Z
LAST-MODIFIED:20240321T123202Z
UID:5683-1711670400-1711756740@kpbsd.org
SUMMARY:Vacation Day
DESCRIPTION:
URL:https://kpbsd.org/schools/nikiski-middle-high/event/vacation-day-17/
CATEGORIES:Districtwide Calendar
END:VEVENT
BEGIN:VEVENT
DTSTART;TZID=America/Anchorage:20240311T000000
DTEND;TZID=America/Anchorage:20240315T235900
DTSTAMP:20260423T162532
CREATED:20221215T005458Z
LAST-MODIFIED:20240314T122245Z
UID:5682-1710115200-1710547140@kpbsd.org
SUMMARY:Vacation
DESCRIPTION:
URL:https://kpbsd.org/schools/nikiski-middle-high/event/vacation-4/
CATEGORIES:Districtwide Calendar
END:VEVENT
BEGIN:VEVENT
DTSTART;TZID=America/Anchorage:20240308T000000
DTEND;TZID=America/Anchorage:20240308T235900
DTSTAMP:20260423T162532
CREATED:20221215T005458Z
LAST-MODIFIED:20240307T114519Z
UID:5681-1709856000-1709942340@kpbsd.org
SUMMARY:End of Quarter / In-Service Day
DESCRIPTION:
URL:https://kpbsd.org/schools/nikiski-middle-high/event/end-of-quarter-in-service-day-5/
CATEGORIES:Districtwide Calendar,In-Service
END:VEVENT
BEGIN:VEVENT
DTSTART;TZID=America/Anchorage:20240307T000000
DTEND;TZID=America/Anchorage:20240307T235900
DTSTAMP:20260423T162532
CREATED:20230817T030524Z
LAST-MODIFIED:20240307T114519Z
UID:8511-1709769600-1709855940@kpbsd.org
SUMMARY:Early Release
DESCRIPTION:
URL:https://kpbsd.org/schools/nikiski-middle-high/event/early-release-38/
CATEGORIES:Districtwide Calendar
END:VEVENT
BEGIN:VEVENT
DTSTART;TZID=America/Anchorage:20240215T000000
DTEND;TZID=America/Anchorage:20240216T235900
DTSTAMP:20260423T162532
CREATED:20221215T005458Z
LAST-MODIFIED:20240215T110228Z
UID:5680-1707955200-1708127940@kpbsd.org
SUMMARY:Parent Teacher Conferences
DESCRIPTION:
URL:https://kpbsd.org/schools/nikiski-middle-high/event/parent-teacher-conferences-4/
CATEGORIES:Districtwide Calendar
END:VEVENT
BEGIN:VEVENT
DTSTART;TZID=America/Anchorage:20240209T000000
DTEND;TZID=America/Anchorage:20240209T235900
DTSTAMP:20260423T162532
CREATED:20230817T030511Z
LAST-MODIFIED:20240208T104051Z
UID:8510-1707436800-1707523140@kpbsd.org
SUMMARY:Early Release
DESCRIPTION:
URL:https://kpbsd.org/schools/nikiski-middle-high/event/early-release-37/
CATEGORIES:Districtwide Calendar
END:VEVENT
BEGIN:VEVENT
DTSTART;TZID=America/Anchorage:20240129T080000
DTEND;TZID=America/Anchorage:20240308T170000
DTSTAMP:20260423T162532
CREATED:20230727T023640Z
LAST-MODIFIED:20240307T114519Z
UID:8223-1706515200-1709917200@kpbsd.org
SUMMARY:NAEP Assessments
DESCRIPTION:
URL:https://kpbsd.org/schools/nikiski-middle-high/event/naep-assessments/
CATEGORIES:Districtwide Calendar
END:VEVENT
BEGIN:VEVENT
DTSTART;TZID=America/Anchorage:20240126T080000
DTEND;TZID=America/Anchorage:20240126T170000
DTSTAMP:20260423T162532
CREATED:20230817T030511Z
LAST-MODIFIED:20240125T095429Z
UID:8507-1706256000-1706288400@kpbsd.org
SUMMARY:Early Release
DESCRIPTION:
URL:https://kpbsd.org/schools/nikiski-middle-high/event/early-release-36/
CATEGORIES:Districtwide Calendar
END:VEVENT
BEGIN:VEVENT
DTSTART;TZID=America/Anchorage:20240112T000000
DTEND;TZID=America/Anchorage:20240112T235900
DTSTAMP:20260423T162532
CREATED:20230817T030510Z
LAST-MODIFIED:20240111T083913Z
UID:8504-1705017600-1705103940@kpbsd.org
SUMMARY:Early Release
DESCRIPTION:
URL:https://kpbsd.org/schools/nikiski-middle-high/event/early-release-35/
CATEGORIES:Districtwide Calendar
END:VEVENT
BEGIN:VEVENT
DTSTART;TZID=America/Anchorage:20240102T000000
DTEND;TZID=America/Anchorage:20240102T235900
DTSTAMP:20260423T162532
CREATED:20221215T005457Z
LAST-MODIFIED:20231228T075121Z
UID:5679-1704153600-1704239940@kpbsd.org
SUMMARY:End of Quarter / In-Service Day
DESCRIPTION:
URL:https://kpbsd.org/schools/nikiski-middle-high/event/end-of-quarter-in-service-day-4/
CATEGORIES:Districtwide Calendar,In-Service
END:VEVENT
BEGIN:VEVENT
DTSTART;TZID=America/Anchorage:20240101T000000
DTEND;TZID=America/Anchorage:20240101T235900
DTSTAMP:20260423T162532
CREATED:20221215T005457Z
LAST-MODIFIED:20231228T075121Z
UID:5678-1704067200-1704153540@kpbsd.org
SUMMARY:Holiday
DESCRIPTION:
URL:https://kpbsd.org/schools/nikiski-middle-high/event/holiday-14/
CATEGORIES:Districtwide Calendar,Holiday
END:VEVENT
BEGIN:VEVENT
DTSTART;TZID=America/Anchorage:20231225T000000
DTEND;TZID=America/Anchorage:20231229T235900
DTSTAMP:20260423T162532
CREATED:20221215T005457Z
LAST-MODIFIED:20231228T075121Z
UID:5676-1703462400-1703894340@kpbsd.org
SUMMARY:Vacation
DESCRIPTION:
URL:https://kpbsd.org/schools/nikiski-middle-high/event/vacation-3/
CATEGORIES:Districtwide Calendar
END:VEVENT
BEGIN:VEVENT
DTSTART;TZID=America/Anchorage:20231225T000000
DTEND;TZID=America/Anchorage:20231226T235900
DTSTAMP:20260423T162532
CREATED:20221215T005457Z
LAST-MODIFIED:20231221T073510Z
UID:5677-1703462400-1703635140@kpbsd.org
SUMMARY:Holiday
DESCRIPTION:
URL:https://kpbsd.org/schools/nikiski-middle-high/event/holiday-13/
CATEGORIES:Districtwide Calendar,Holiday
END:VEVENT
BEGIN:VEVENT
DTSTART;TZID=America/Anchorage:20231218T000000
DTEND;TZID=America/Anchorage:20231222T235900
DTSTAMP:20260423T162532
CREATED:20221215T005456Z
LAST-MODIFIED:20231221T073510Z
UID:5675-1702857600-1703289540@kpbsd.org
SUMMARY:Vacation
DESCRIPTION:
URL:https://kpbsd.org/schools/nikiski-middle-high/event/vacation-2/
CATEGORIES:Districtwide Calendar
END:VEVENT
BEGIN:VEVENT
DTSTART;TZID=America/Anchorage:20231208T000000
DTEND;TZID=America/Anchorage:20231208T235900
DTSTAMP:20260423T162532
CREATED:20230817T030456Z
LAST-MODIFIED:20231207T070447Z
UID:8503-1701993600-1702079940@kpbsd.org
SUMMARY:Early Release
DESCRIPTION:
URL:https://kpbsd.org/schools/nikiski-middle-high/event/early-release-34/
CATEGORIES:Districtwide Calendar
END:VEVENT
BEGIN:VEVENT
DTSTART;TZID=America/Anchorage:20231123T000000
DTEND;TZID=America/Anchorage:20231124T235900
DTSTAMP:20260423T162532
CREATED:20221215T005456Z
LAST-MODIFIED:20231123T062444Z
UID:5674-1700697600-1700870340@kpbsd.org
SUMMARY:Holiday
DESCRIPTION:
URL:https://kpbsd.org/schools/nikiski-middle-high/event/holiday-12/
CATEGORIES:Districtwide Calendar,Holiday
END:VEVENT
BEGIN:VEVENT
DTSTART;TZID=America/Anchorage:20231110T000000
DTEND;TZID=America/Anchorage:20231110T235900
DTSTAMP:20260423T162532
CREATED:20221215T005456Z
LAST-MODIFIED:20231109T055520Z
UID:5673-1699574400-1699660740@kpbsd.org
SUMMARY:Vacation Day
DESCRIPTION:
URL:https://kpbsd.org/schools/nikiski-middle-high/event/vacation-day-16/
CATEGORIES:Districtwide Calendar
END:VEVENT
END:VCALENDAR