BEGIN:VCALENDAR
VERSION:2.0
PRODID:-//Nikiski Middle &amp; High School - ECPv6.8.2//NONSGML v1.0//EN
CALSCALE:GREGORIAN
METHOD:PUBLISH
X-WR-CALNAME:Nikiski Middle &amp; High School
X-ORIGINAL-URL:https://kpbsd.org/schools/nikiski-middle-high
X-WR-CALDESC:Events for Nikiski Middle &amp; High School
REFRESH-INTERVAL;VALUE=DURATION:PT1H
X-Robots-Tag:noindex
X-PUBLISHED-TTL:PT1H
BEGIN:VTIMEZONE
TZID:UTC
BEGIN:STANDARD
TZOFFSETFROM:+0000
TZOFFSETTO:+0000
TZNAME:UTC
DTSTART:20240101T000000
END:STANDARD
END:VTIMEZONE
BEGIN:VEVENT
DTSTART;TZID=UTC:20240927T080100
DTEND;TZID=UTC:20240928T080100
DTSTAMP:20260422T184543
CREATED:20240306T052805Z
LAST-MODIFIED:20240928T013904Z
UID:10265-1727424060-1727510460@kpbsd.org
SUMMARY:Wasilla JV volleyball tournament
DESCRIPTION:Games:\nSport: Volleyball\nLevel: Girls JV\nTeam: Nikiski High School
URL:https://kpbsd.org/schools/nikiski-middle-high/event/wasilla-jv-volleyball-tournament/
LOCATION:AK
END:VEVENT
BEGIN:VEVENT
DTSTART;TZID=UTC:20240927T080100
DTEND;TZID=UTC:20240928T080100
DTSTAMP:20260422T184543
CREATED:20240502T040328Z
LAST-MODIFIED:20240928T013904Z
UID:10613-1727424060-1727510460@kpbsd.org
SUMMARY:West Spiketacular
DESCRIPTION:Games:\nSport: Volleyball\nLevel: Girls Varsity\nTeam: Nikiski High School
URL:https://kpbsd.org/schools/nikiski-middle-high/event/west-spiketacular-2/
LOCATION:AK
END:VEVENT
BEGIN:VEVENT
DTSTART;TZID=UTC:20240927T220000
DTEND;TZID=UTC:20240928T040000
DTSTAMP:20260422T184543
CREATED:20240515T190749Z
LAST-MODIFIED:20240928T013904Z
UID:11251-1727474400-1727496000@kpbsd.org
SUMMARY:Girls Freshman Volleyball @ Colony High School
DESCRIPTION:Sport: Volleyball\nLevel: Girls Freshman\nTeam: Nikiski High School\nSite: Colony High School\nSubsite: Gym
URL:https://kpbsd.org/schools/nikiski-middle-high/event/girls-freshman-volleyball-colony-high-school/
LOCATION:9550 East Bogard Road\, Palmer\, AK\, United States
END:VEVENT
BEGIN:VEVENT
DTSTART;TZID=UTC:20240928T000000
DTEND;TZID=UTC:20240928T013000
DTSTAMP:20260422T184543
CREATED:20240514T190922Z
LAST-MODIFIED:20240927T013657Z
UID:11050-1727481600-1727487000@kpbsd.org
SUMMARY:Coed 6/7/8th Cross Country @ Homer Middle School
DESCRIPTION:Sport: Cross Country\nLevel: Coed 6/7/8th\nTeam: Nikiski High School\nSite: Homer Middle School
URL:https://kpbsd.org/schools/nikiski-middle-high/event/coed-6-7-8th-cross-country-homer-middle-school-4/
LOCATION:500 Sterling Hwy\, Homer\, AK\, United States
END:VEVENT
BEGIN:VEVENT
DTSTART;TZID=UTC:20240928T080100
DTEND;TZID=UTC:20240928T090100
DTSTAMP:20260422T184543
CREATED:20240306T052806Z
LAST-MODIFIED:20240928T013904Z
UID:10268-1727510460-1727514060@kpbsd.org
SUMMARY:Region III Cross country championships at Wasilla
DESCRIPTION:Games:\nSport: Cross Country\nLevel: Coed Varsity\nTeam: Nikiski High School
URL:https://kpbsd.org/schools/nikiski-middle-high/event/region-iii-cross-country-championships-at-wasilla/
LOCATION:AK
END:VEVENT
BEGIN:VEVENT
DTSTART;TZID=UTC:20240928T200000
DTEND;TZID=UTC:20240928T210000
DTSTAMP:20260422T184543
CREATED:20240502T040328Z
LAST-MODIFIED:20240705T192129Z
UID:10616-1727553600-1727557200@kpbsd.org
SUMMARY:Boys Varsity Football @ Valdez High School
DESCRIPTION:Sport: Football\nLevel: Boys Varsity\nTeam: Nikiski High School\nSite: Valdez High School\nSubsite: Football Field
URL:https://kpbsd.org/schools/nikiski-middle-high/event/boys-varsity-football-valdez-high-school-2/
LOCATION:PO Box 398\, Valdez\, AK\, United States
END:VEVENT
BEGIN:VEVENT
DTSTART;TZID=UTC:20240928T200000
DTEND;TZID=UTC:20240928T221500
DTSTAMP:20260422T184543
CREATED:20240706T192107Z
LAST-MODIFIED:20240928T013904Z
UID:11856-1727553600-1727561700@kpbsd.org
SUMMARY:Coed Varsity Football @ Valdez High School
DESCRIPTION:Sport: Football\nLevel: Coed Varsity\nTeam: Nikiski High School\nSite: Valdez High School\nSubsite: Football Field
URL:https://kpbsd.org/schools/nikiski-middle-high/event/coed-varsity-football-valdez-high-school/
LOCATION:PO Box 398\, Valdez\, AK\, United States
END:VEVENT
BEGIN:VEVENT
DTSTART;TZID=UTC:20240928T200000
DTEND;TZID=UTC:20240928T230000
DTSTAMP:20260422T184543
CREATED:20240228T015719Z
LAST-MODIFIED:20240429T172149Z
UID:10171-1727553600-1727564400@kpbsd.org
SUMMARY:Coed Varsity Football @ Seward High School
DESCRIPTION:Sport: Football\nLevel: Coed Varsity\nTeam: Nikiski High School\nSite: Seward High School\nSubsite: Football Field
URL:https://kpbsd.org/schools/nikiski-middle-high/event/coed-varsity-football-seward-high-school-2/
LOCATION:Po Box 1049\, Seward AK  99664-1049
END:VEVENT
BEGIN:VEVENT
DTSTART;TZID=UTC:20240929T050000
DTEND;TZID=UTC:20240929T140000
DTSTAMP:20260422T184543
CREATED:20240515T190750Z
LAST-MODIFIED:20240929T013641Z
UID:11257-1727586000-1727618400@kpbsd.org
SUMMARY:Girls Freshman Volleyball @ Colony High School
DESCRIPTION:Sport: Volleyball\nLevel: Girls Freshman\nTeam: Nikiski High School\nSite: Colony High School\nSubsite: Gym
URL:https://kpbsd.org/schools/nikiski-middle-high/event/girls-freshman-volleyball-colony-high-school-2/
LOCATION:9550 East Bogard Road\, Palmer\, AK\, United States
END:VEVENT
BEGIN:VEVENT
DTSTART;TZID=UTC:20241001T020000
DTEND;TZID=UTC:20241001T033000
DTSTAMP:20260422T184543
CREATED:20240827T225110Z
LAST-MODIFIED:20241001T013810Z
UID:12201-1727748000-1727753400@kpbsd.org
SUMMARY:Awards Night/NHS Inductions
DESCRIPTION:Site: Nikiski High School\nSubsite: Auditorium
URL:https://kpbsd.org/schools/nikiski-middle-high/event/awards-night-nhs-inductions/
LOCATION:52275 Education Drive\, 52801 Nikiski Ave\, Kenai\, AK\, United States
END:VEVENT
BEGIN:VEVENT
DTSTART;TZID=UTC:20241001T180000
DTEND;TZID=UTC:20241001T200000
DTSTAMP:20260422T184543
CREATED:20240827T225111Z
LAST-MODIFIED:20241001T013810Z
UID:12204-1727805600-1727812800@kpbsd.org
SUMMARY:University of Alaska- South East
DESCRIPTION:Site: Nikiski High School\nSubsite: Commons
URL:https://kpbsd.org/schools/nikiski-middle-high/event/university-of-alaska-south-east/
LOCATION:52275 Education Drive\, 52801 Nikiski Ave\, Kenai\, AK\, United States
END:VEVENT
BEGIN:VEVENT
DTSTART;TZID=UTC:20241001T230000
DTEND;TZID=UTC:20241002T020000
DTSTAMP:20260422T184543
CREATED:20240514T190923Z
LAST-MODIFIED:20241002T015104Z
UID:11053-1727823600-1727834400@kpbsd.org
SUMMARY:Coed 6/7/8th Soccer vs Skyview Middle School
DESCRIPTION:Sport: Soccer\nLevel: Coed 6/7/8th\nTeam: Nikiski High School\nSite: Nikiski High School\nSubsite: Practice Field
URL:https://kpbsd.org/schools/nikiski-middle-high/event/coed-6-7-8th-soccer-vs-skyview-middle-school-3/
LOCATION:52275 Education Drive\, 52801 Nikiski Ave\, Kenai\, AK\, United States
END:VEVENT
BEGIN:VEVENT
DTSTART;TZID=UTC:20241002T000000
DTEND;TZID=UTC:20241002T010000
DTSTAMP:20260422T184543
CREATED:20240912T185114Z
LAST-MODIFIED:20241001T013811Z
UID:12406-1727827200-1727830800@kpbsd.org
SUMMARY:Girls Freshman Volleyball vs Cook Inlet Academy
DESCRIPTION:Sport: Volleyball\nLevel: Girls Freshman\nTeam: Nikiski High School\nSite: Nikiski High School\nSubsite: Nikiski High School
URL:https://kpbsd.org/schools/nikiski-middle-high/event/girls-freshman-volleyball-vs-cook-inlet-academy/
LOCATION:52275 Education Dr\, 52801 Nikiski Ave\, Kenai\, AK\, United States
END:VEVENT
BEGIN:VEVENT
DTSTART;TZID=UTC:20241002T010000
DTEND;TZID=UTC:20241002T023000
DTSTAMP:20260422T184543
CREATED:20240912T185114Z
LAST-MODIFIED:20241002T015104Z
UID:12403-1727830800-1727836200@kpbsd.org
SUMMARY:Girls JV Volleyball vs Cook Inlet Academy
DESCRIPTION:Sport: Volleyball\nLevel: Girls JV\nTeam: Nikiski High School\nSite: Nikiski High School\nSubsite: Nikiski High School
URL:https://kpbsd.org/schools/nikiski-middle-high/event/girls-jv-volleyball-vs-cook-inlet-academy/
LOCATION:52275 Education Dr\, 52801 Nikiski Ave\, Kenai\, AK\, United States
END:VEVENT
BEGIN:VEVENT
DTSTART;TZID=UTC:20241002T223000
DTEND;TZID=UTC:20241002T233000
DTSTAMP:20260422T184543
CREATED:20240514T190923Z
LAST-MODIFIED:20241002T015104Z
UID:11056-1727908200-1727911800@kpbsd.org
SUMMARY:First HS Wr estlingPractice
DESCRIPTION:Site: Nikiski High School\nSubsite: Commons
URL:https://kpbsd.org/schools/nikiski-middle-high/event/first-hs-wr-estlingpractice/
LOCATION:52275 Education Drive\, 52801 Nikiski Ave\, Kenai\, AK\, United States
END:VEVENT
BEGIN:VEVENT
DTSTART;TZID=UTC:20241004T000000
DTEND;TZID=UTC:20241004T010000
DTSTAMP:20260422T184543
CREATED:20240921T010605Z
LAST-MODIFIED:20241003T191116Z
UID:12495-1728000000-1728003600@kpbsd.org
SUMMARY:Girls Freshman Volleyball @ Cook Inlet Academy
DESCRIPTION:Sport: Volleyball\nLevel: Girls Freshman\nTeam: Nikiski High School\nSite: Cook Inlet Academy\nSubsite: Gym
URL:https://kpbsd.org/schools/nikiski-middle-high/event/girls-freshman-volleyball-cook-inlet-academy/
LOCATION:45872 K. Beach Road\, Soldotna\, AK\, United States
END:VEVENT
BEGIN:VEVENT
DTSTART;TZID=UTC:20241004T010000
DTEND;TZID=UTC:20241004T023000
DTSTAMP:20260422T184543
CREATED:20240921T010605Z
LAST-MODIFIED:20241004T020610Z
UID:12501-1728003600-1728009000@kpbsd.org
SUMMARY:Girls JV Volleyball @ Cook Inlet Academy
DESCRIPTION:Sport: Volleyball\nLevel: Girls JV\nTeam: Nikiski High School\nSite: Cook Inlet Academy\nSubsite: Gym
URL:https://kpbsd.org/schools/nikiski-middle-high/event/girls-jv-volleyball-cook-inlet-academy/
LOCATION:45872 K. Beach Road\, Soldotna\, AK\, United States
END:VEVENT
BEGIN:VEVENT
DTSTART;TZID=UTC:20241004T230000
DTEND;TZID=UTC:20241005T003000
DTSTAMP:20260422T184543
CREATED:20240514T190924Z
LAST-MODIFIED:20241004T020610Z
UID:11059-1728082800-1728088200@kpbsd.org
SUMMARY:Coed 6/7/8th Cross Country @ Kenai Middle School
DESCRIPTION:Sport: Cross Country\nLevel: Coed 6/7/8th\nTeam: Nikiski High School\nSite: Kenai Middle School
URL:https://kpbsd.org/schools/nikiski-middle-high/event/coed-6-7-8th-cross-country-seward-middle-school-5/
LOCATION:201 Tinker Ln\, Kenai\, AK\, United States
END:VEVENT
BEGIN:VEVENT
DTSTART;TZID=UTC:20241005T000000
DTEND;TZID=UTC:20241005T010000
DTSTAMP:20260422T184543
CREATED:20240214T220915Z
LAST-MODIFIED:20241004T020610Z
UID:9783-1728086400-1728090000@kpbsd.org
SUMMARY:Girls Freshman Volleyball vs Redington Jr/Sr High School
DESCRIPTION:Sport: Volleyball\nLevel: Girls Freshman\nTeam: Nikiski High School\nSite: Nikiski High School\nSubsite: Gym
URL:https://kpbsd.org/schools/nikiski-middle-high/event/girls-freshman-volleyball-vs-redington-jr-sr-high-school/
LOCATION:52275 Education Drive\, 52801 Nikiski Ave\, Kenai\, AK\, United States
END:VEVENT
BEGIN:VEVENT
DTSTART;TZID=UTC:20241005T010000
DTEND;TZID=UTC:20241005T020000
DTSTAMP:20260422T184543
CREATED:20240214T220915Z
LAST-MODIFIED:20241004T020610Z
UID:9786-1728090000-1728093600@kpbsd.org
SUMMARY:Girls JV Volleyball vs Redington Jr/Sr High School
DESCRIPTION:Sport: Volleyball\nLevel: Girls JV\nTeam: Nikiski High School\nSite: Nikiski High School\nSubsite: Gym
URL:https://kpbsd.org/schools/nikiski-middle-high/event/girls-jv-volleyball-vs-redington-jr-sr-high-school/
LOCATION:52275 Education Drive\, 52801 Nikiski Ave\, Kenai\, AK\, United States
END:VEVENT
BEGIN:VEVENT
DTSTART;TZID=UTC:20241005T010000
DTEND;TZID=UTC:20241005T020000
DTSTAMP:20260422T184543
CREATED:20240214T220915Z
LAST-MODIFIED:20240811T215120Z
UID:9789-1728090000-1728093600@kpbsd.org
SUMMARY:Boys Varsity Football
DESCRIPTION:Sport: Football\nLevel: Boys Varsity\nTeam: Nikiski High School\nSite: Nikiski High School\nSubsite: Football Field
URL:https://kpbsd.org/schools/nikiski-middle-high/event/boys-varsity-football-vs-eielson-junior-senior-high-school/
LOCATION:52275 Education Drive\, 52801 Nikiski Ave\, Kenai\, AK\, United States
END:VEVENT
BEGIN:VEVENT
DTSTART;TZID=UTC:20241005T020000
DTEND;TZID=UTC:20241005T030000
DTSTAMP:20260422T184543
CREATED:20240214T220915Z
LAST-MODIFIED:20241005T020604Z
UID:9780-1728093600-1728097200@kpbsd.org
SUMMARY:Girls Varsity Volleyball vs Redington Jr/Sr High School
DESCRIPTION:Sport: Volleyball\nLevel: Girls Varsity\nTeam: Nikiski High School\nSite: Nikiski High School\nSubsite: Gym
URL:https://kpbsd.org/schools/nikiski-middle-high/event/girls-varsity-volleyball-vs-redington-jr-sr-high-school/
LOCATION:52275 Education Drive\, 52801 Nikiski Ave\, Kenai\, AK\, United States
END:VEVENT
BEGIN:VEVENT
DTSTART;TZID=UTC:20241005T210000
DTEND;TZID=UTC:20241005T233000
DTSTAMP:20260422T184543
CREATED:20240812T215115Z
LAST-MODIFIED:20241005T020604Z
UID:11994-1728162000-1728171000@kpbsd.org
SUMMARY:Coed Varsity Football
DESCRIPTION:Sport: Football\nLevel: Coed Varsity\nTeam: Nikiski High School\nSite: Nikiski High School\nSubsite: Football Field
URL:https://kpbsd.org/schools/nikiski-middle-high/event/coed-varsity-football/
LOCATION:52275 Education Drive\, 52801 Nikiski Ave\, Kenai\, AK\, United States
END:VEVENT
BEGIN:VEVENT
DTSTART;TZID=UTC:20241006T070000
DTEND;TZID=UTC:20241006T130000
DTSTAMP:20260422T184543
CREATED:20240514T190924Z
LAST-MODIFIED:20241006T020757Z
UID:11062-1728198000-1728219600@kpbsd.org
SUMMARY:Coed 6/7/8th Soccer vs Skyview Middle School
DESCRIPTION:Sport: Soccer\nLevel: Coed 6/7/8th\nTeam: Nikiski High School\nSite: Nikiski High School\nSubsite: Practice Field
URL:https://kpbsd.org/schools/nikiski-middle-high/event/coed-6-7-8th-soccer-vs-skyview-middle-school-4/
LOCATION:52275 Education Drive\, 52801 Nikiski Ave\, Kenai\, AK\, United States
END:VEVENT
BEGIN:VEVENT
DTSTART;TZID=UTC:20241007T202500
DTEND;TZID=UTC:20241007T222500
DTSTAMP:20260422T184543
CREATED:20240815T180748Z
LAST-MODIFIED:20241007T022122Z
UID:12030-1728332700-1728339900@kpbsd.org
SUMMARY:Band and Choir Rehearsal 6th and 7th hour
DESCRIPTION:Site: Nikiski High School\nSubsite: Auditorium
URL:https://kpbsd.org/schools/nikiski-middle-high/event/band-and-choir-rehearsal-6th-and-7th-hour/
LOCATION:52275 Education Drive\, 52801 Nikiski Ave\, Kenai\, AK\, United States
END:VEVENT
BEGIN:VEVENT
DTSTART;TZID=UTC:20241007T223000
DTEND;TZID=UTC:20241007T233000
DTSTAMP:20260422T184543
CREATED:20240514T190924Z
LAST-MODIFIED:20241007T022122Z
UID:11065-1728340200-1728343800@kpbsd.org
SUMMARY:First MS Basketball Practice
DESCRIPTION:Site: Nikiski High School\nSubsite: Commons
URL:https://kpbsd.org/schools/nikiski-middle-high/event/first-ms-basketball-practice/
LOCATION:52275 Education Drive\, 52801 Nikiski Ave\, Kenai\, AK\, United States
END:VEVENT
BEGIN:VEVENT
DTSTART;TZID=UTC:20241008T010000
DTEND;TZID=UTC:20241008T020000
DTSTAMP:20260422T184543
CREATED:20240829T182118Z
LAST-MODIFIED:20241007T022122Z
UID:12220-1728349200-1728352800@kpbsd.org
SUMMARY:Site Council Meeting
DESCRIPTION:Site: Nikiski High School\nSubsite: Commons
URL:https://kpbsd.org/schools/nikiski-middle-high/event/site-council-meeting-16/
LOCATION:52275 Education Drive\, 52801 Nikiski Ave\, Kenai\, AK\, United States
END:VEVENT
BEGIN:VEVENT
DTSTART;TZID=UTC:20241009T030000
DTEND;TZID=UTC:20241009T040000
DTSTAMP:20260422T184543
CREATED:20240517T190855Z
LAST-MODIFIED:20241009T022101Z
UID:11489-1728442800-1728446400@kpbsd.org
SUMMARY:Fall Concert
DESCRIPTION:Site: Nikiski High School\nSubsite: Auditorium
URL:https://kpbsd.org/schools/nikiski-middle-high/event/fall-concert/
LOCATION:52275 Education Drive\, 52801 Nikiski Ave\, Kenai\, AK\, United States
END:VEVENT
BEGIN:VEVENT
DTSTART;TZID=UTC:20241009T160000
DTEND;TZID=UTC:20241009T200000
DTSTAMP:20260422T184543
CREATED:20240809T212109Z
LAST-MODIFIED:20241009T022101Z
UID:11983-1728489600-1728504000@kpbsd.org
SUMMARY:Picture Retake Day
DESCRIPTION:Site: Nikiski High School\nSubsite: Auditorium
URL:https://kpbsd.org/schools/nikiski-middle-high/event/picture-retake-day-2/
LOCATION:52275 Education Drive\, 52801 Nikiski Ave\, Kenai\, AK\, United States
END:VEVENT
BEGIN:VEVENT
DTSTART;TZID=UTC:20241010T020000
DTEND;TZID=UTC:20241010T033000
DTSTAMP:20260422T184543
CREATED:20240914T002154Z
LAST-MODIFIED:20241008T022102Z
UID:12429-1728525600-1728531000@kpbsd.org
SUMMARY:College/FAFSA Night
DESCRIPTION:Site: Nikiski High School\nSubsite: Commons
URL:https://kpbsd.org/schools/nikiski-middle-high/event/college-fafsa-night/
LOCATION:52275 Education Drive\, 52801 Nikiski Ave\, Kenai\, AK\, United States
END:VEVENT
END:VCALENDAR