BEGIN:VCALENDAR
VERSION:2.0
PRODID:-//Nikiski Middle &amp; High School - ECPv6.8.2//NONSGML v1.0//EN
CALSCALE:GREGORIAN
METHOD:PUBLISH
X-WR-CALNAME:Nikiski Middle &amp; High School
X-ORIGINAL-URL:https://kpbsd.org/schools/nikiski-middle-high
X-WR-CALDESC:Events for Nikiski Middle &amp; High School
REFRESH-INTERVAL;VALUE=DURATION:PT1H
X-Robots-Tag:noindex
X-PUBLISHED-TTL:PT1H
BEGIN:VTIMEZONE
TZID:UTC
BEGIN:STANDARD
TZOFFSETFROM:+0000
TZOFFSETTO:+0000
TZNAME:UTC
DTSTART:20240101T000000
END:STANDARD
TZID:America/Anchorage
BEGIN:DAYLIGHT
TZOFFSETFROM:-0900
TZOFFSETTO:-0800
TZNAME:AKDT
DTSTART:20240310T110000
END:DAYLIGHT
BEGIN:STANDARD
TZOFFSETFROM:-0800
TZOFFSETTO:-0900
TZNAME:AKST
DTSTART:20241103T100000
END:STANDARD
END:VTIMEZONE
BEGIN:VEVENT
DTSTART;TZID=UTC:20241018T000000
DTEND;TZID=UTC:20241018T003000
DTSTAMP:20260425T025431
CREATED:20240224T005818Z
LAST-MODIFIED:20241017T192354Z
UID:10122-1729209600-1729211400@kpbsd.org
SUMMARY:Girls Freshman Volleyball @ Homer High School
DESCRIPTION:Sport: Volleyball\nLevel: Girls Freshman\nTeam: Nikiski High School\nSite: Homer High School\nSubsite: Gym
URL:https://kpbsd.org/schools/nikiski-middle-high/event/girls-freshman-volleyball-homer-high-school-3/
LOCATION:600 E Fairview Ave\, Homer\, AK\, United States
END:VEVENT
BEGIN:VEVENT
DTSTART;TZID=UTC:20241018T010000
DTEND;TZID=UTC:20241018T020000
DTSTAMP:20260425T025431
CREATED:20240224T005819Z
LAST-MODIFIED:20241017T192354Z
UID:10125-1729213200-1729216800@kpbsd.org
SUMMARY:Girls JV Volleyball @ Homer High School
DESCRIPTION:Sport: Volleyball\nLevel: Girls JV\nTeam: Nikiski High School\nSite: Homer High School\nSubsite: Gym
URL:https://kpbsd.org/schools/nikiski-middle-high/event/girls-jv-volleyball-homer-high-school-5/
LOCATION:600 E Fairview Ave\, Homer\, AK\, United States
END:VEVENT
BEGIN:VEVENT
DTSTART;TZID=UTC:20241018T020000
DTEND;TZID=UTC:20241018T040000
DTSTAMP:20260425T025431
CREATED:20240224T005819Z
LAST-MODIFIED:20241018T023604Z
UID:10128-1729216800-1729224000@kpbsd.org
SUMMARY:Girls Varsity Volleyball @ Homer High School
DESCRIPTION:Sport: Volleyball\nLevel: Girls Varsity\nTeam: Nikiski High School\nSite: Homer High School\nSubsite: Alice Witte Gymnasium
URL:https://kpbsd.org/schools/nikiski-middle-high/event/girls-varsity-volleyball-homer-high-school-9/
LOCATION:600 E Fairview Ave\, Homer\, AK\, United States
END:VEVENT
BEGIN:VEVENT
DTSTART;TZID=America/Anchorage:20241018T080000
DTEND;TZID=America/Anchorage:20241018T170000
DTSTAMP:20260425T025431
CREATED:20240516T131132Z
LAST-MODIFIED:20241017T194535Z
UID:11409-1729238400-1729270800@kpbsd.org
SUMMARY:Early Release
DESCRIPTION:
URL:https://kpbsd.org/schools/nikiski-middle-high/event/early-release-41/
LOCATION:AK
CATEGORIES:Districtwide Calendar
END:VEVENT
BEGIN:VEVENT
DTSTART;TZID=UTC:20241018T080100
DTEND;TZID=UTC:20241019T080100
DTSTAMP:20260425T025431
CREATED:20240531T200700Z
LAST-MODIFIED:20240827T225115Z
UID:11708-1729238460-1729324860@kpbsd.org
SUMMARY:The Altercation Wrestling Tournament
DESCRIPTION:Games:\nSport: Wrestling\nLevel: Coed Varsity\nTeam: Nikiski High School
URL:https://kpbsd.org/schools/nikiski-middle-high/event/the-altercation-wrestling-tournament/
LOCATION:AK
END:VEVENT
BEGIN:VEVENT
DTSTART;TZID=UTC:20241018T154500
DTEND;TZID=UTC:20241018T224500
DTSTAMP:20260425T025431
CREATED:20240815T180753Z
LAST-MODIFIED:20241018T023605Z
UID:12031-1729266300-1729291500@kpbsd.org
SUMMARY:Wonka All Day Rehearsal
DESCRIPTION:Site: Nikiski High School\nSubsite: Auditorium
URL:https://kpbsd.org/schools/nikiski-middle-high/event/wonka-all-day-rehearsal-2/
LOCATION:52275 Education Drive\, 52801 Nikiski Ave\, Kenai\, AK\, United States
END:VEVENT
BEGIN:VEVENT
DTSTART;TZID=UTC:20241018T204500
DTEND;TZID=UTC:20241018T221500
DTSTAMP:20260425T025431
CREATED:20240908T233614Z
LAST-MODIFIED:20241018T023604Z
UID:12351-1729284300-1729289700@kpbsd.org
SUMMARY:Early Release Day
DESCRIPTION:Site: Nikiski High School\nSubsite: Commons
URL:https://kpbsd.org/schools/nikiski-middle-high/event/early-release-day-2/
LOCATION:52275 Education Drive\, 52801 Nikiski Ave\, Kenai\, AK\, United States
END:VEVENT
BEGIN:VEVENT
DTSTART;TZID=UTC:20241019T020000
DTEND;TZID=UTC:20241019T040000
DTSTAMP:20260425T025431
CREATED:20240927T013702Z
LAST-MODIFIED:20241019T023657Z
UID:12568-1729303200-1729310400@kpbsd.org
SUMMARY:Wrestling Taco Feed
DESCRIPTION:Site: Nikiski High School\nSubsite: Commons
URL:https://kpbsd.org/schools/nikiski-middle-high/event/wrestling-taco-feed-2/
LOCATION:52275 Education Drive\, 52801 Nikiski Ave\, Kenai\, AK\, United States
END:VEVENT
BEGIN:VEVENT
DTSTART;TZID=UTC:20241019T080100
DTEND;TZID=UTC:20241019T083100
DTSTAMP:20260425T025431
CREATED:20240927T013703Z
LAST-MODIFIED:20241019T023657Z
UID:12571-1729324860-1729326660@kpbsd.org
SUMMARY:Halloween Dance
DESCRIPTION:Site: Nikiski High School\nSubsite: Commons
URL:https://kpbsd.org/schools/nikiski-middle-high/event/halloween-dance/
LOCATION:52275 Education Drive\, 52801 Nikiski Ave\, Kenai\, AK\, United States
END:VEVENT
BEGIN:VEVENT
DTSTART;TZID=UTC:20241019T180000
DTEND;TZID=UTC:20241020T000000
DTSTAMP:20260425T025431
CREATED:20240208T202438Z
LAST-MODIFIED:20241019T023657Z
UID:9736-1729360800-1729382400@kpbsd.org
SUMMARY:Luke Spruill Tournament
DESCRIPTION:Games:\nSport: Wrestling\nLevel: Boys Varsity\nTeam: Nikiski High School
URL:https://kpbsd.org/schools/nikiski-middle-high/event/luke-spruill-tournament/
LOCATION:AK
END:VEVENT
BEGIN:VEVENT
DTSTART;TZID=UTC:20241019T180000
DTEND;TZID=UTC:20241020T000000
DTSTAMP:20260425T025431
CREATED:20240806T212110Z
LAST-MODIFIED:20241019T023657Z
UID:11962-1729360800-1729382400@kpbsd.org
SUMMARY:KCHS Luke Spruill Invitational
DESCRIPTION:Games:\nSport: Wrestling\nLevel: Coed Varsity\nTeam: Nikiski High School
URL:https://kpbsd.org/schools/nikiski-middle-high/event/kchs-luke-spruill-invitational/
LOCATION:AK
END:VEVENT
BEGIN:VEVENT
DTSTART;TZID=UTC:20241019T200000
DTEND;TZID=UTC:20241019T210000
DTSTAMP:20260425T025431
CREATED:20240214T220930Z
LAST-MODIFIED:20241019T023657Z
UID:9807-1729368000-1729371600@kpbsd.org
SUMMARY:Girls Freshman Volleyball vs Houston High School
DESCRIPTION:Sport: Volleyball\nLevel: Girls Freshman\nTeam: Nikiski High School\nSite: Nikiski High School\nSubsite: Gym
URL:https://kpbsd.org/schools/nikiski-middle-high/event/girls-freshman-volleyball-vs-houston-high-school/
LOCATION:52275 Education Drive\, 52801 Nikiski Ave\, Kenai\, AK\, United States
END:VEVENT
BEGIN:VEVENT
DTSTART;TZID=UTC:20241019T210000
DTEND;TZID=UTC:20241019T220000
DTSTAMP:20260425T025431
CREATED:20240214T220930Z
LAST-MODIFIED:20241019T023657Z
UID:9804-1729371600-1729375200@kpbsd.org
SUMMARY:Girls JV Volleyball vs Houston High School
DESCRIPTION:Sport: Volleyball\nLevel: Girls JV\nTeam: Nikiski High School\nSite: Nikiski High School\nSubsite: Gym
URL:https://kpbsd.org/schools/nikiski-middle-high/event/girls-jv-volleyball-vs-houston-high-school/
LOCATION:52275 Education Drive\, 52801 Nikiski Ave\, Kenai\, AK\, United States
END:VEVENT
BEGIN:VEVENT
DTSTART;TZID=UTC:20241019T220000
DTEND;TZID=UTC:20241019T230000
DTSTAMP:20260425T025431
CREATED:20240214T220930Z
LAST-MODIFIED:20241019T023657Z
UID:9801-1729375200-1729378800@kpbsd.org
SUMMARY:Girls Varsity Volleyball vs Houston High School
DESCRIPTION:Sport: Volleyball\nLevel: Girls Varsity\nTeam: Nikiski High School\nSite: Nikiski High School\nSubsite: Gym
URL:https://kpbsd.org/schools/nikiski-middle-high/event/girls-varsity-volleyball-vs-houston-high-school/
LOCATION:52275 Education Drive\, 52801 Nikiski Ave\, Kenai\, AK\, United States
END:VEVENT
BEGIN:VEVENT
DTSTART;TZID=UTC:20241023T000000
DTEND;TZID=UTC:20241023T010000
DTSTAMP:20260425T025431
CREATED:20240214T220931Z
LAST-MODIFIED:20241022T025519Z
UID:9810-1729641600-1729645200@kpbsd.org
SUMMARY:Girls Freshman Volleyball vs Kenai Central High School
DESCRIPTION:Sport: Volleyball\nLevel: Girls Freshman\nTeam: Nikiski High School\nSite: Nikiski High School\nSubsite: Gym
URL:https://kpbsd.org/schools/nikiski-middle-high/event/girls-freshman-volleyball-vs-kenai-central-high-school-3/
LOCATION:52275 Education Drive\, 52801 Nikiski Ave\, Kenai\, AK\, United States
END:VEVENT
BEGIN:VEVENT
DTSTART;TZID=UTC:20241023T010000
DTEND;TZID=UTC:20241023T020000
DTSTAMP:20260425T025431
CREATED:20240214T220931Z
LAST-MODIFIED:20241022T025519Z
UID:9813-1729645200-1729648800@kpbsd.org
SUMMARY:Girls JV Volleyball vs Kenai Central High School
DESCRIPTION:Sport: Volleyball\nLevel: Girls JV\nTeam: Nikiski High School\nSite: Nikiski High School\nSubsite: Gym
URL:https://kpbsd.org/schools/nikiski-middle-high/event/girls-jv-volleyball-vs-kenai-central-high-school-3/
LOCATION:52275 Education Drive\, 52801 Nikiski Ave\, Kenai\, AK\, United States
END:VEVENT
BEGIN:VEVENT
DTSTART;TZID=UTC:20241023T020000
DTEND;TZID=UTC:20241023T030000
DTSTAMP:20260425T025431
CREATED:20240214T220932Z
LAST-MODIFIED:20241022T025519Z
UID:9816-1729648800-1729652400@kpbsd.org
SUMMARY:Girls Varsity Volleyball vs Kenai Central High School
DESCRIPTION:Sport: Volleyball\nLevel: Girls Varsity\nTeam: Nikiski High School\nSite: Nikiski High School\nSubsite: Gym
URL:https://kpbsd.org/schools/nikiski-middle-high/event/girls-varsity-volleyball-vs-kenai-central-high-school-3/
LOCATION:52275 Education Drive\, 52801 Nikiski Ave\, Kenai\, AK\, United States
END:VEVENT
BEGIN:VEVENT
DTSTART;TZID=UTC:20241024T030000
DTEND;TZID=UTC:20241024T050000
DTSTAMP:20260425T025431
CREATED:20241015T022325Z
LAST-MODIFIED:20241024T030605Z
UID:12687-1729738800-1729746000@kpbsd.org
SUMMARY:MS Movie Night
DESCRIPTION:Site: Nikiski High School\nSubsite: Commons
URL:https://kpbsd.org/schools/nikiski-middle-high/event/ms-movie-night-2/
LOCATION:52275 Education Drive\, 52801 Nikiski Ave\, Kenai\, AK\, United States
END:VEVENT
BEGIN:VEVENT
DTSTART;TZID=America/Anchorage:20241024T080000
DTEND;TZID=America/Anchorage:20241024T170000
DTSTAMP:20260425T025431
CREATED:20240516T131132Z
LAST-MODIFIED:20241024T195236Z
UID:11412-1729756800-1729789200@kpbsd.org
SUMMARY:Parent-Teacher Conferences
DESCRIPTION:
URL:https://kpbsd.org/schools/nikiski-middle-high/event/parent-teacher-conferences-6/
LOCATION:AK
CATEGORIES:Districtwide Calendar
END:VEVENT
BEGIN:VEVENT
DTSTART;TZID=UTC:20241024T160000
DTEND;TZID=UTC:20241025T040000
DTSTAMP:20260425T025431
CREATED:20240503T180640Z
LAST-MODIFIED:20241025T030646Z
UID:10711-1729785600-1729828800@kpbsd.org
SUMMARY:Parent/Teacher Conferences
DESCRIPTION:Site: Nikiski High School\nSubsite: Commons
URL:https://kpbsd.org/schools/nikiski-middle-high/event/parent-teacher-conferences-2/
LOCATION:52275 Education Drive\, 52801 Nikiski Ave\, Kenai\, AK\, United States
END:VEVENT
BEGIN:VEVENT
DTSTART;TZID=UTC:20241025T080000
DTEND;TZID=UTC:20241025T160000
DTSTAMP:20260425T025431
CREATED:20240404T142405Z
LAST-MODIFIED:20241025T030646Z
UID:10405-1729843200-1729872000@kpbsd.org
SUMMARY:Coed Varsity Wrestling vs Barrow High School
DESCRIPTION:Sport: Wrestling\nLevel: Coed Varsity\nTeam: Nikiski High School\nSite: Nikiski High School\nSubsite: Gym
URL:https://kpbsd.org/schools/nikiski-middle-high/event/coed-varsity-wrestling-vs-barrow-high-school/
LOCATION:52275 Education Drive\, 52801 Nikiski Ave\, Kenai\, AK\, United States
END:VEVENT
BEGIN:VEVENT
DTSTART;TZID=America/Anchorage:20241025T080000
DTEND;TZID=America/Anchorage:20241025T170000
DTSTAMP:20260425T025431
CREATED:20240516T131133Z
LAST-MODIFIED:20241024T195236Z
UID:11415-1729843200-1729875600@kpbsd.org
SUMMARY:Parent-Teacher Conferences
DESCRIPTION:
URL:https://kpbsd.org/schools/nikiski-middle-high/event/parent-teacher-conferences-7/
LOCATION:AK
CATEGORIES:Districtwide Calendar
END:VEVENT
BEGIN:VEVENT
DTSTART;TZID=UTC:20241025T080100
DTEND;TZID=UTC:20241026T080100
DTSTAMP:20260425T025431
CREATED:20240404T142403Z
LAST-MODIFIED:20241026T031133Z
UID:10401-1729843260-1729929660@kpbsd.org
SUMMARY:Dimond/Service JV
DESCRIPTION:Games:\nSport: Volleyball\nLevel: Girls JV\nTeam: Nikiski High School
URL:https://kpbsd.org/schools/nikiski-middle-high/event/dimond-service-jv/
LOCATION:AK
END:VEVENT
BEGIN:VEVENT
DTSTART;TZID=UTC:20241025T080100
DTEND;TZID=UTC:20241026T080100
DTSTAMP:20260425T025431
CREATED:20240404T142404Z
LAST-MODIFIED:20241026T031133Z
UID:10402-1729843260-1729929660@kpbsd.org
SUMMARY:Dimond/Service
DESCRIPTION:Games:\nSport: Volleyball\nLevel: Girls Varsity\nTeam: Nikiski High School
URL:https://kpbsd.org/schools/nikiski-middle-high/event/dimond-service-3/
LOCATION:AK
END:VEVENT
BEGIN:VEVENT
DTSTART;TZID=UTC:20241025T160000
DTEND;TZID=UTC:20241026T000000
DTSTAMP:20260425T025431
CREATED:20240503T180641Z
LAST-MODIFIED:20241025T030646Z
UID:10714-1729872000-1729900800@kpbsd.org
SUMMARY:No School
DESCRIPTION:Site: Nikiski High School\nSubsite: Commons
URL:https://kpbsd.org/schools/nikiski-middle-high/event/no-school-28/
LOCATION:52275 Education Drive\, 52801 Nikiski Ave\, Kenai\, AK\, United States
END:VEVENT
BEGIN:VEVENT
DTSTART;TZID=UTC:20241027T050000
DTEND;TZID=UTC:20241027T140000
DTSTAMP:20260425T025431
CREATED:20240404T142405Z
LAST-MODIFIED:20241027T032623Z
UID:10408-1730005200-1730037600@kpbsd.org
SUMMARY:Coed Varsity Wrestling vs Barrow High School
DESCRIPTION:Sport: Wrestling\nLevel: Coed Varsity\nTeam: Nikiski High School\nSite: Nikiski High School\nSubsite: Gym
URL:https://kpbsd.org/schools/nikiski-middle-high/event/coed-varsity-wrestling-vs-barrow-high-school-2/
LOCATION:52275 Education Drive\, 52801 Nikiski Ave\, Kenai\, AK\, United States
END:VEVENT
BEGIN:VEVENT
DTSTART;TZID=UTC:20241030T000000
DTEND;TZID=UTC:20241030T010000
DTSTAMP:20260425T025431
CREATED:20240523T043723Z
LAST-MODIFIED:20241029T033557Z
UID:11563-1730246400-1730250000@kpbsd.org
SUMMARY:Girls Freshman Volleyball @ Soldotna High School
DESCRIPTION:Sport: Volleyball\nLevel: Girls Freshman\nTeam: Nikiski High School\nSite: Soldotna High School\nSubsite: Gym
URL:https://kpbsd.org/schools/nikiski-middle-high/event/girls-freshman-volleyball-soldotna-high-school-3/
LOCATION:425 W Marydale Ave\, Soldotna\, AK\, United States
END:VEVENT
BEGIN:VEVENT
DTSTART;TZID=UTC:20241030T010000
DTEND;TZID=UTC:20241030T020000
DTSTAMP:20260425T025431
CREATED:20240523T043722Z
LAST-MODIFIED:20241029T033557Z
UID:11560-1730250000-1730253600@kpbsd.org
SUMMARY:Girls JV Volleyball @ Soldotna High School
DESCRIPTION:Sport: Volleyball\nLevel: Girls JV\nTeam: Nikiski High School\nSite: Soldotna High School\nSubsite: Gym
URL:https://kpbsd.org/schools/nikiski-middle-high/event/girls-jv-volleyball-soldotna-high-school-3/
LOCATION:425 W Marydale Ave\, Soldotna\, AK\, United States
END:VEVENT
BEGIN:VEVENT
DTSTART;TZID=UTC:20241030T023000
DTEND;TZID=UTC:20241030T033000
DTSTAMP:20260425T025431
CREATED:20240522T192030Z
LAST-MODIFIED:20241029T033557Z
UID:11538-1730255400-1730259000@kpbsd.org
SUMMARY:Girls Varsity Volleyball @ Soldotna High School
DESCRIPTION:Sport: Volleyball\nLevel: Girls Varsity\nTeam: Nikiski High School\nSite: Soldotna High School\nSubsite: Gym
URL:https://kpbsd.org/schools/nikiski-middle-high/event/girls-varsity-volleyball-soldotna-high-school-3/
LOCATION:425 W Marydale Ave\, Soldotna\, AK\, United States
END:VEVENT
BEGIN:VEVENT
DTSTART;TZID=UTC:20241031T170000
DTEND;TZID=UTC:20241031T190000
DTSTAMP:20260425T025431
CREATED:20240905T230710Z
LAST-MODIFIED:20241030T033708Z
UID:12334-1730394000-1730401200@kpbsd.org
SUMMARY:ASVAB Testing
DESCRIPTION:Site: Nikiski High School\nSubsite: Commons
URL:https://kpbsd.org/schools/nikiski-middle-high/event/asvab-testing-2/
LOCATION:52275 Education Drive\, 52801 Nikiski Ave\, Kenai\, AK\, United States
END:VEVENT
END:VCALENDAR