BEGIN:VCALENDAR
VERSION:2.0
PRODID:-//Nikiski Middle &amp; High School - ECPv6.8.2//NONSGML v1.0//EN
CALSCALE:GREGORIAN
METHOD:PUBLISH
X-WR-CALNAME:Nikiski Middle &amp; High School
X-ORIGINAL-URL:https://kpbsd.org/schools/nikiski-middle-high
X-WR-CALDESC:Events for Nikiski Middle &amp; High School
REFRESH-INTERVAL;VALUE=DURATION:PT1H
X-Robots-Tag:noindex
X-PUBLISHED-TTL:PT1H
BEGIN:VTIMEZONE
TZID:UTC
BEGIN:STANDARD
TZOFFSETFROM:+0000
TZOFFSETTO:+0000
TZNAME:UTC
DTSTART:20240101T000000
END:STANDARD
TZID:America/Anchorage
BEGIN:DAYLIGHT
TZOFFSETFROM:-0900
TZOFFSETTO:-0800
TZNAME:AKDT
DTSTART:20240310T110000
END:DAYLIGHT
BEGIN:STANDARD
TZOFFSETFROM:-0800
TZOFFSETTO:-0900
TZNAME:AKST
DTSTART:20241103T100000
END:STANDARD
END:VTIMEZONE
BEGIN:VEVENT
DTSTART;TZID=UTC:20241113T000000
DTEND;TZID=UTC:20241113T013000
DTSTAMP:20260422T152102
CREATED:20241016T022554Z
LAST-MODIFIED:20241112T030624Z
UID:12697-1731456000-1731461400@kpbsd.org
SUMMARY:Girls 7/8/9th Basketball vs Skyview Middle School
DESCRIPTION:Sport: Basketball\nLevel: Girls 7/8/9th\nTeam: Nikiski High School\nSite: Nikiski High School\nSubsite: Gym
URL:https://kpbsd.org/schools/nikiski-middle-high/event/girls-7-8-9th-basketball-vs-skyview-middle-school-2/
LOCATION:52275 Education Drive\, 52801 Nikiski Ave\, Kenai\, AK\, United States
END:VEVENT
BEGIN:VEVENT
DTSTART;TZID=UTC:20241113T000000
DTEND;TZID=UTC:20241113T030000
DTSTAMP:20260422T152102
CREATED:20240514T190929Z
LAST-MODIFIED:20241015T022329Z
UID:11074-1731456000-1731466800@kpbsd.org
SUMMARY:Coed 6/7/8th Basketball vs Skyview Middle School
DESCRIPTION:Sport: Basketball\nLevel: Coed 6/7/8th\nTeam: Nikiski High School\nSite: Nikiski High School\nSubsite: Gym
URL:https://kpbsd.org/schools/nikiski-middle-high/event/coed-6-7-8th-basketball-vs-skyview-middle-school-5/
LOCATION:52275 Education Drive\, 52801 Nikiski Ave\, Kenai\, AK\, United States
END:VEVENT
BEGIN:VEVENT
DTSTART;TZID=UTC:20241113T013000
DTEND;TZID=UTC:20241113T030000
DTSTAMP:20260422T152102
CREATED:20241016T022554Z
LAST-MODIFIED:20241112T030624Z
UID:12694-1731461400-1731466800@kpbsd.org
SUMMARY:Boys 7/8th Basketball vs Skyview Middle School
DESCRIPTION:Sport: Basketball\nLevel: Boys 7/8th\nTeam: Nikiski High School\nSite: Nikiski High School\nSubsite: Gym
URL:https://kpbsd.org/schools/nikiski-middle-high/event/boys-7-8th-basketball-vs-skyview-middle-school-2/
LOCATION:PO Box 7112\, Nikiski\, AK\, United States
END:VEVENT
BEGIN:VEVENT
DTSTART;TZID=UTC:20241114T090100
DTEND;TZID=UTC:20241116T090100
DTSTAMP:20260422T152102
CREATED:20240404T142406Z
LAST-MODIFIED:20241116T033414Z
UID:10414-1731574860-1731747660@kpbsd.org
SUMMARY:State Volleyball Tournament
DESCRIPTION:Games:\nSport: Volleyball\nLevel: Girls Varsity\nTeam: Nikiski High School
URL:https://kpbsd.org/schools/nikiski-middle-high/event/state-volleyball-tournament/
LOCATION:AK
END:VEVENT
BEGIN:VEVENT
DTSTART;TZID=America/Anchorage:20241115T080000
DTEND;TZID=America/Anchorage:20241115T170000
DTSTAMP:20260422T152102
CREATED:20240516T131133Z
LAST-MODIFIED:20241115T151137Z
UID:11418-1731657600-1731690000@kpbsd.org
SUMMARY:Early Release
DESCRIPTION:
URL:https://kpbsd.org/schools/nikiski-middle-high/event/early-release-42/
LOCATION:AK
CATEGORIES:Districtwide Calendar
END:VEVENT
BEGIN:VEVENT
DTSTART;TZID=UTC:20241115T090100
DTEND;TZID=UTC:20241116T090100
DTSTAMP:20260422T152102
CREATED:20240219T235431Z
LAST-MODIFIED:20241116T033414Z
UID:10089-1731661260-1731747660@kpbsd.org
SUMMARY:2024 LANCER SMITH MEMORIAL
DESCRIPTION:Games:\nSport: Wrestling\nLevel: Coed Varsity\nTeam: Nikiski High School
URL:https://kpbsd.org/schools/nikiski-middle-high/event/2024-lancer-smith-memorial/
LOCATION:AK
END:VEVENT
BEGIN:VEVENT
DTSTART;TZID=UTC:20241115T164500
DTEND;TZID=UTC:20241115T234500
DTSTAMP:20260422T152102
CREATED:20240815T180759Z
LAST-MODIFIED:20241115T151029Z
UID:12034-1731689100-1731714300@kpbsd.org
SUMMARY:Wonka All Day Rehearsal
DESCRIPTION:Site: Nikiski High School\nSubsite: Auditorium
URL:https://kpbsd.org/schools/nikiski-middle-high/event/wonka-all-day-rehearsal-3/
LOCATION:52275 Education Drive\, 52801 Nikiski Ave\, Kenai\, AK\, United States
END:VEVENT
BEGIN:VEVENT
DTSTART;TZID=UTC:20241115T214500
DTEND;TZID=UTC:20241115T231500
DTSTAMP:20260422T152102
CREATED:20240908T233620Z
LAST-MODIFIED:20241115T151029Z
UID:12354-1731707100-1731712500@kpbsd.org
SUMMARY:Early Release Day
DESCRIPTION:Site: Nikiski High School\nSubsite: Commons
URL:https://kpbsd.org/schools/nikiski-middle-high/event/early-release-day-3/
LOCATION:52275 Education Drive\, 52801 Nikiski Ave\, Kenai\, AK\, United States
END:VEVENT
BEGIN:VEVENT
DTSTART;TZID=UTC:20241116T040000
DTEND;TZID=UTC:20241116T054500
DTSTAMP:20260422T152102
CREATED:20241116T033411Z
LAST-MODIFIED:20241116T033414Z
UID:13587-1731729600-1731735900@kpbsd.org
SUMMARY:Girls Varsity Volleyball @ Seward High School
DESCRIPTION:Sport: Volleyball\nLevel: Girls Varsity\nTeam: Nikiski High School\nSite: Alaska Airlines Center\nSubsite: Center Court 2
URL:https://kpbsd.org/schools/nikiski-middle-high/event/girls-varsity-volleyball-seward-high-school-6/
LOCATION:3550 Providence Dr.\, Anchorage\, AK\, United States
END:VEVENT
BEGIN:VEVENT
DTSTART;TZID=UTC:20241120T000000
DTEND;TZID=UTC:20241120T013000
DTSTAMP:20260422T152102
CREATED:20240514T190929Z
LAST-MODIFIED:20241119T041257Z
UID:11077-1732060800-1732066200@kpbsd.org
SUMMARY:Girls 7/8/9th Basketball vs Homer Middle School
DESCRIPTION:Sport: Basketball\nLevel: Girls 7/8/9th\nTeam: Nikiski High School\nSite: Nikiski High School\nSubsite: Gym
URL:https://kpbsd.org/schools/nikiski-middle-high/event/coed-6-7-8th-basketball-vs-homer-middle-school-3/
LOCATION:52275 Education Drive\, 52801 Nikiski Ave\, Kenai\, AK\, United States
END:VEVENT
BEGIN:VEVENT
DTSTART;TZID=UTC:20241120T013000
DTEND;TZID=UTC:20241120T030000
DTSTAMP:20260422T152102
CREATED:20241016T022556Z
LAST-MODIFIED:20241119T041257Z
UID:12700-1732066200-1732071600@kpbsd.org
SUMMARY:Boys 7/8th Basketball vs Homer Middle School
DESCRIPTION:Sport: Basketball\nLevel: Boys 7/8th\nTeam: Nikiski High School\nSite: Nikiski High School\nSubsite: Gym
URL:https://kpbsd.org/schools/nikiski-middle-high/event/boys-7-8th-basketball-vs-homer-middle-school-2/
LOCATION:PO Box 7112\, Nikiski\, AK\, United States
END:VEVENT
BEGIN:VEVENT
DTSTART;TZID=UTC:20241120T150000
DTEND;TZID=UTC:20241120T230000
DTSTAMP:20260422T152102
CREATED:20240816T220615Z
LAST-MODIFIED:20241120T043004Z
UID:12080-1732114800-1732143600@kpbsd.org
SUMMARY:All State Music
DESCRIPTION:Site: TBA\nSubsite: TBA
URL:https://kpbsd.org/schools/nikiski-middle-high/event/all-state-music/
LOCATION:(unknown) (unknown)\, (unknown) (unknown)  (unknown)
END:VEVENT
BEGIN:VEVENT
DTSTART;TZID=UTC:20241120T223000
DTEND;TZID=UTC:20241120T231500
DTSTAMP:20260422T152102
CREATED:20241026T031135Z
LAST-MODIFIED:20241120T043004Z
UID:12841-1732141800-1732144500@kpbsd.org
SUMMARY:SOS Activity Day
DESCRIPTION:Site: Nikiski High School\nSubsite: Auditorium
URL:https://kpbsd.org/schools/nikiski-middle-high/event/sos-activity-day/
LOCATION:52275 Education Drive\, 52801 Nikiski Ave\, Kenai\, AK\, United States
END:VEVENT
BEGIN:VEVENT
DTSTART;TZID=UTC:20241121T150000
DTEND;TZID=UTC:20241121T230000
DTSTAMP:20260422T152102
CREATED:20240816T220616Z
LAST-MODIFIED:20241121T045917Z
UID:12083-1732201200-1732230000@kpbsd.org
SUMMARY:All State Music
DESCRIPTION:Site: TBA\nSubsite: TBA
URL:https://kpbsd.org/schools/nikiski-middle-high/event/all-state-music-2/
LOCATION:(unknown) (unknown)\, (unknown) (unknown)  (unknown)
END:VEVENT
BEGIN:VEVENT
DTSTART;TZID=UTC:20241122T000000
DTEND;TZID=UTC:20241122T030000
DTSTAMP:20260422T152102
CREATED:20240514T190930Z
LAST-MODIFIED:20241121T045917Z
UID:11080-1732233600-1732244400@kpbsd.org
SUMMARY:Coed 6/7/8th Basketball @ Seward Middle School
DESCRIPTION:Sport: Basketball\nLevel: Coed 6/7/8th\nTeam: Nikiski High School\nSite: Seward Middle School
URL:https://kpbsd.org/schools/nikiski-middle-high/event/coed-6-7-8th-basketball-seward-middle-school-3/
LOCATION:PO Box 1149\, Seward\, AK\, United States
END:VEVENT
BEGIN:VEVENT
DTSTART;TZID=UTC:20241122T020000
DTEND;TZID=UTC:20241122T050000
DTSTAMP:20260422T152102
CREATED:20240523T043736Z
LAST-MODIFIED:20241114T030904Z
UID:11566-1732240800-1732251600@kpbsd.org
SUMMARY:Coed Varsity Wrestling @ Soldotna High School
DESCRIPTION:Sport: Wrestling\nLevel: Coed Varsity\nTeam: Nikiski High School\nSite: Soldotna High School\nSubsite: Gym
URL:https://kpbsd.org/schools/nikiski-middle-high/event/coed-varsity-wrestling-soldotna-high-school-5/
LOCATION:425 W Marydale Ave\, Soldotna\, AK\, United States
END:VEVENT
BEGIN:VEVENT
DTSTART;TZID=UTC:20241122T090100
DTEND;TZID=UTC:20241123T090100
DTSTAMP:20260422T152102
CREATED:20240228T015722Z
LAST-MODIFIED:20241123T053618Z
UID:10174-1732266060-1732352460@kpbsd.org
SUMMARY:"Bad to the Bone"  Wrestling Tournament
DESCRIPTION:Games:\nSport: Wrestling\nLevel: Coed Varsity\nTeam: Nikiski High School
URL:https://kpbsd.org/schools/nikiski-middle-high/event/bad-to-the-bone-wrestling-tournament/
LOCATION:AK
END:VEVENT
BEGIN:VEVENT
DTSTART;TZID=UTC:20241122T150000
DTEND;TZID=UTC:20241122T230000
DTSTAMP:20260422T152102
CREATED:20240816T220616Z
LAST-MODIFIED:20241122T052008Z
UID:12086-1732287600-1732316400@kpbsd.org
SUMMARY:All State Music
DESCRIPTION:Site: TBA\nSubsite: TBA
URL:https://kpbsd.org/schools/nikiski-middle-high/event/all-state-music-3/
LOCATION:(unknown) (unknown)\, (unknown) (unknown)  (unknown)
END:VEVENT
BEGIN:VEVENT
DTSTART;TZID=UTC:20241123T150000
DTEND;TZID=UTC:20241123T230000
DTSTAMP:20260422T152102
CREATED:20240816T220616Z
LAST-MODIFIED:20241123T053618Z
UID:12089-1732374000-1732402800@kpbsd.org
SUMMARY:All State Music
DESCRIPTION:Site: TBA\nSubsite: TBA
URL:https://kpbsd.org/schools/nikiski-middle-high/event/all-state-music-4/
LOCATION:(unknown) (unknown)\, (unknown) (unknown)  (unknown)
END:VEVENT
BEGIN:VEVENT
DTSTART;TZID=UTC:20241127T000000
DTEND;TZID=UTC:20241127T013000
DTSTAMP:20260422T152102
CREATED:20241017T022820Z
LAST-MODIFIED:20241126T061826Z
UID:12721-1732665600-1732671000@kpbsd.org
SUMMARY:Girls 7/8/9th Basketball @ Kenai Middle School
DESCRIPTION:Sport: Basketball\nLevel: Girls 7/8/9th\nTeam: Nikiski High School\nSite: Kenai Middle School\nSubsite: Kenai Middle School
URL:https://kpbsd.org/schools/nikiski-middle-high/event/girls-7-8-9th-basketball-kenai-middle-school/
LOCATION:201 Tinker Ln\, Kenai\, AK\, United States
END:VEVENT
BEGIN:VEVENT
DTSTART;TZID=UTC:20241127T000000
DTEND;TZID=UTC:20241127T030000
DTSTAMP:20260422T152102
CREATED:20240514T190930Z
LAST-MODIFIED:20241126T061825Z
UID:11086-1732665600-1732676400@kpbsd.org
SUMMARY:Coed 6/7/8th Basketball @ Kenai Middle School
DESCRIPTION:Sport: Basketball\nLevel: Coed 6/7/8th\nTeam: Nikiski High School\nSite: Kenai Middle School
URL:https://kpbsd.org/schools/nikiski-middle-high/event/coed-6-7-8th-basketball-kenai-middle-school-4/
LOCATION:201 Tinker Ln\, Kenai\, AK\, United States
END:VEVENT
BEGIN:VEVENT
DTSTART;TZID=UTC:20241127T010000
DTEND;TZID=UTC:20241127T040000
DTSTAMP:20260422T152102
CREATED:20240404T142406Z
LAST-MODIFIED:20241126T061826Z
UID:10417-1732669200-1732680000@kpbsd.org
SUMMARY:Coed Varsity Wrestling vs Homer High School
DESCRIPTION:Sport: Wrestling\nLevel: Coed Varsity\nTeam: Nikiski High School\nSite: Nikiski High School\nSubsite: Gym
URL:https://kpbsd.org/schools/nikiski-middle-high/event/coed-varsity-wrestling-vs-homer-high-school-5/
LOCATION:52275 Education Drive\, 52801 Nikiski Ave\, Kenai\, AK\, United States
END:VEVENT
BEGIN:VEVENT
DTSTART;TZID=UTC:20241127T013000
DTEND;TZID=UTC:20241127T030000
DTSTAMP:20260422T152102
CREATED:20241017T022820Z
LAST-MODIFIED:20241126T061826Z
UID:12718-1732671000-1732676400@kpbsd.org
SUMMARY:Boys 7/8th Basketball @ Kenai Middle School
DESCRIPTION:Sport: Basketball\nLevel: Boys 7/8th\nTeam: Nikiski High School\nSite: Kenai Central High School\nSubsite: KCHS
URL:https://kpbsd.org/schools/nikiski-middle-high/event/boys-7-8th-basketball-kenai-middle-school/
LOCATION:9583 Kenai Spur Hwy\, Kenai\, AK\, United States
END:VEVENT
BEGIN:VEVENT
DTSTART;TZID=UTC:20241127T013000
DTEND;TZID=UTC:20241127T030000
DTSTAMP:20260422T152102
CREATED:20241017T022821Z
LAST-MODIFIED:20241126T061825Z
UID:12727-1732671000-1732676400@kpbsd.org
SUMMARY:Boys 7/8/9th Basketball @ Kenai Middle School
DESCRIPTION:Sport: Basketball\nLevel: Boys 7/8/9th\nTeam: Nikiski High School\nSite: Kenai Middle School\nSubsite: Kenai Middle School
URL:https://kpbsd.org/schools/nikiski-middle-high/event/boys-7-8-9th-basketball-kenai-middle-school/
LOCATION:201 Tinker Ln\, Kenai\, AK\, United States
END:VEVENT
BEGIN:VEVENT
DTSTART;TZID=UTC:20241128T170000
DTEND;TZID=UTC:20241129T010000
DTSTAMP:20260422T152102
CREATED:20240503T180643Z
LAST-MODIFIED:20241128T064618Z
UID:10717-1732813200-1732842000@kpbsd.org
SUMMARY:No School
DESCRIPTION:Site: Nikiski High School\nSubsite: Commons
URL:https://kpbsd.org/schools/nikiski-middle-high/event/no-school-29/
LOCATION:52275 Education Drive\, 52801 Nikiski Ave\, Kenai\, AK\, United States
END:VEVENT
BEGIN:VEVENT
DTSTART;TZID=UTC:20241129T170000
DTEND;TZID=UTC:20241130T010000
DTSTAMP:20260422T152102
CREATED:20240503T180643Z
LAST-MODIFIED:20241129T070148Z
UID:10720-1732899600-1732928400@kpbsd.org
SUMMARY:No School
DESCRIPTION:Site: Nikiski High School\nSubsite: Commons
URL:https://kpbsd.org/schools/nikiski-middle-high/event/no-school-30/
LOCATION:52275 Education Drive\, 52801 Nikiski Ave\, Kenai\, AK\, United States
END:VEVENT
BEGIN:VEVENT
DTSTART;TZID=UTC:20241201T090000
DTEND;TZID=UTC:20241201T100000
DTSTAMP:20260422T152102
CREATED:20241114T030848Z
LAST-MODIFIED:20241201T073026Z
UID:13531-1733043600-1733047200@kpbsd.org
SUMMARY:FAFSA Application Window Opens
DESCRIPTION:Site: Nikiski High School\nSubsite: Auditorium
URL:https://kpbsd.org/schools/nikiski-middle-high/event/fafsa-application-window-opens/
LOCATION:52275 Education Drive\, 52801 Nikiski Ave\, Kenai\, AK\, United States
END:VEVENT
BEGIN:VEVENT
DTSTART;TZID=UTC:20241204T000000
DTEND;TZID=UTC:20241204T013000
DTSTAMP:20260422T152102
CREATED:20241101T023519Z
LAST-MODIFIED:20241203T080411Z
UID:13072-1733270400-1733275800@kpbsd.org
SUMMARY:Girls 7/8/9th Basketball @ Skyview Middle School
DESCRIPTION:Sport: Basketball\nLevel: Girls 7/8/9th\nTeam: Nikiski High School\nSite: Skyview Middle School\nSubsite: Default Facility
URL:https://kpbsd.org/schools/nikiski-middle-high/event/girls-7-8-9th-basketball-skyview-middle-school-3/
LOCATION:46188 Sterling Hwy\, 100 N Soldotna Ave\, Soldotna\, AK\, United States
END:VEVENT
BEGIN:VEVENT
DTSTART;TZID=UTC:20241204T000000
DTEND;TZID=UTC:20241204T030000
DTSTAMP:20260422T152102
CREATED:20240514T190931Z
LAST-MODIFIED:20241203T080411Z
UID:11101-1733270400-1733281200@kpbsd.org
SUMMARY:Coed 6/7/8th Basketball @ Skyview Middle School
DESCRIPTION:Sport: Basketball\nLevel: Coed 6/7/8th\nTeam: Nikiski High School\nSite: Skyview Middle School
URL:https://kpbsd.org/schools/nikiski-middle-high/event/coed-6-7-8th-basketball-skyview-middle-school-6/
LOCATION:46188 Sterling Hwy\, 100 N Soldotna Ave\, Soldotna\, AK\, United States
END:VEVENT
BEGIN:VEVENT
DTSTART;TZID=UTC:20241204T013000
DTEND;TZID=UTC:20241204T030000
DTSTAMP:20260422T152102
CREATED:20241101T023519Z
LAST-MODIFIED:20241203T080411Z
UID:13075-1733275800-1733281200@kpbsd.org
SUMMARY:Boys 7/8/9th Basketball @ Skyview Middle School
DESCRIPTION:Sport: Basketball\nLevel: Boys 7/8/9th\nTeam: Nikiski High School\nSite: Skyview Middle School\nSubsite: Default Facility
URL:https://kpbsd.org/schools/nikiski-middle-high/event/boys-7-8-9th-basketball-skyview-middle-school/
LOCATION:46188 Sterling Hwy\, 100 N Soldotna Ave\, Soldotna\, AK\, United States
END:VEVENT
END:VCALENDAR