BEGIN:VCALENDAR
VERSION:2.0
PRODID:-//Nikiski Middle &amp; High School - ECPv6.8.2//NONSGML v1.0//EN
CALSCALE:GREGORIAN
METHOD:PUBLISH
X-WR-CALNAME:Nikiski Middle &amp; High School
X-ORIGINAL-URL:https://kpbsd.org/schools/nikiski-middle-high
X-WR-CALDESC:Events for Nikiski Middle &amp; High School
REFRESH-INTERVAL;VALUE=DURATION:PT1H
X-Robots-Tag:noindex
X-PUBLISHED-TTL:PT1H
BEGIN:VTIMEZONE
TZID:UTC
BEGIN:STANDARD
TZOFFSETFROM:+0000
TZOFFSETTO:+0000
TZNAME:UTC
DTSTART:20250101T000000
END:STANDARD
TZID:America/Anchorage
BEGIN:DAYLIGHT
TZOFFSETFROM:-0900
TZOFFSETTO:-0800
TZNAME:AKDT
DTSTART:20250309T110000
END:DAYLIGHT
BEGIN:STANDARD
TZOFFSETFROM:-0800
TZOFFSETTO:-0900
TZNAME:AKST
DTSTART:20251102T100000
END:STANDARD
END:VTIMEZONE
BEGIN:VEVENT
DTSTART;TZID=UTC:20250103T170000
DTEND;TZID=UTC:20250104T010000
DTSTAMP:20260420T102152
CREATED:20240503T180647Z
LAST-MODIFIED:20250103T233444Z
UID:10750-1735923600-1735952400@kpbsd.org
SUMMARY:No School
DESCRIPTION:Site: Nikiski High School\nSubsite: Commons
URL:https://kpbsd.org/schools/nikiski-middle-high/event/no-school-40/
LOCATION:52275 Education Drive\, 52801 Nikiski Ave\, Kenai\, AK\, United States
END:VEVENT
BEGIN:VEVENT
DTSTART;TZID=UTC:20250104T183000
DTEND;TZID=UTC:20250104T200000
DTSTAMP:20260420T102152
CREATED:20241218T190746Z
LAST-MODIFIED:20250103T233444Z
UID:13691-1736015400-1736020800@kpbsd.org
SUMMARY:Girls JV Basketball vs Barrow High School
DESCRIPTION:Sport: Basketball\nLevel: Girls JV\nTeam: Nikiski High School\nSite: Mountain City Christian Academy\nSubsite: CMC
URL:https://kpbsd.org/schools/nikiski-middle-high/event/girls-jv-basketball-vs-barrow-high-school/
LOCATION:6575 E. Northern Lights Blvd\, Anchorage\, AK\, United States
END:VEVENT
BEGIN:VEVENT
DTSTART;TZID=UTC:20250106T170000
DTEND;TZID=UTC:20250107T010000
DTSTAMP:20260420T102152
CREATED:20240503T180647Z
LAST-MODIFIED:20250107T003048Z
UID:10753-1736182800-1736211600@kpbsd.org
SUMMARY:No School
DESCRIPTION:Site: Nikiski High School\nSubsite: Commons
URL:https://kpbsd.org/schools/nikiski-middle-high/event/no-school-41/
LOCATION:52275 Education Drive\, 52801 Nikiski Ave\, Kenai\, AK\, United States
END:VEVENT
BEGIN:VEVENT
DTSTART;TZID=UTC:20250107T233000
DTEND;TZID=UTC:20250108T003000
DTSTAMP:20260420T102152
CREATED:20240514T190935Z
LAST-MODIFIED:20250107T003048Z
UID:11128-1736292600-1736296200@kpbsd.org
SUMMARY:First MS Wrestling Practice
DESCRIPTION:Site: Nikiski High School\nSubsite: Commons
URL:https://kpbsd.org/schools/nikiski-middle-high/event/first-ms-wrestling-practice-2/
LOCATION:52275 Education Drive\, 52801 Nikiski Ave\, Kenai\, AK\, United States
END:VEVENT
BEGIN:VEVENT
DTSTART;TZID=UTC:20250107T233000
DTEND;TZID=UTC:20250108T003000
DTSTAMP:20260420T102152
CREATED:20240514T190936Z
LAST-MODIFIED:20250107T003048Z
UID:11131-1736292600-1736296200@kpbsd.org
SUMMARY:First MS Volleyball Practice
DESCRIPTION:Site: Nikiski High School\nSubsite: Commons
URL:https://kpbsd.org/schools/nikiski-middle-high/event/first-ms-volleyball-practice-2/
LOCATION:52275 Education Drive\, 52801 Nikiski Ave\, Kenai\, AK\, United States
END:VEVENT
BEGIN:VEVENT
DTSTART;TZID=UTC:20250108T020000
DTEND;TZID=UTC:20250108T023000
DTSTAMP:20260420T102152
CREATED:20241115T032521Z
LAST-MODIFIED:20250108T004955Z
UID:13556-1736301600-1736303400@kpbsd.org
SUMMARY:Girls Freshman Basketball @ Soldotna High School
DESCRIPTION:Sport: Basketball\nLevel: Girls Freshman\nTeam: Nikiski High School\nSite: Soldotna High School\nSubsite: Gym
URL:https://kpbsd.org/schools/nikiski-middle-high/event/girls-freshman-basketball-soldotna-high-school-4/
LOCATION:425 W Marydale Ave\, Soldotna\, AK\, United States
END:VEVENT
BEGIN:VEVENT
DTSTART;TZID=UTC:20250108T033000
DTEND;TZID=UTC:20250108T040000
DTSTAMP:20260420T102152
CREATED:20241115T032521Z
LAST-MODIFIED:20250108T004955Z
UID:13553-1736307000-1736308800@kpbsd.org
SUMMARY:Boys Freshman Basketball @ Soldotna High School
DESCRIPTION:Sport: Basketball\nLevel: Boys Freshman\nTeam: Nikiski High School\nSite: Soldotna High School\nSubsite: Gym
URL:https://kpbsd.org/schools/nikiski-middle-high/event/boys-freshman-basketball-soldotna-high-school-3/
LOCATION:425 W Marydale Ave\, Soldotna\, AK\, United States
END:VEVENT
BEGIN:VEVENT
DTSTART;TZID=UTC:20250110T000000
DTEND;TZID=UTC:20250110T000000
DTSTAMP:20260420T102152
CREATED:20240214T220947Z
LAST-MODIFIED:20250109T010651Z
UID:9827-1736467200-1736467200@kpbsd.org
SUMMARY:Girls JV Basketball vs Kenai Central High School
DESCRIPTION:Sport: Basketball\nLevel: Girls JV\nTeam: Nikiski High School\nSite: Nikiski High School\nSubsite: Gym
URL:https://kpbsd.org/schools/nikiski-middle-high/event/girls-jv-basketball-vs-kenai-central-high-school-5/
LOCATION:52275 Education Drive\, 52801 Nikiski Ave\, Kenai\, AK\, United States
END:VEVENT
BEGIN:VEVENT
DTSTART;TZID=UTC:20250110T013000
DTEND;TZID=UTC:20250110T013000
DTSTAMP:20260420T102152
CREATED:20240214T220947Z
LAST-MODIFIED:20250110T012143Z
UID:9830-1736472600-1736472600@kpbsd.org
SUMMARY:Boys JV Basketball vs Kenai Central High School
DESCRIPTION:Sport: Basketball\nLevel: Boys JV\nTeam: Nikiski High School\nSite: Nikiski High School\nSubsite: Gym
URL:https://kpbsd.org/schools/nikiski-middle-high/event/boys-jv-basketball-vs-kenai-central-high-school-5/
LOCATION:52275 Education Drive\, 52801 Nikiski Ave\, Kenai\, AK\, United States
END:VEVENT
BEGIN:VEVENT
DTSTART;TZID=UTC:20250110T030000
DTEND;TZID=UTC:20250110T030000
DTSTAMP:20260420T102152
CREATED:20240214T220948Z
LAST-MODIFIED:20250110T013054Z
UID:9833-1736478000-1736478000@kpbsd.org
SUMMARY:Girls Varsity Basketball vs Kenai Central High School
DESCRIPTION:Sport: Basketball\nLevel: Girls Varsity\nTeam: Nikiski High School\nSite: Nikiski High School\nSubsite: Gym
URL:https://kpbsd.org/schools/nikiski-middle-high/event/girls-varsity-basketball-vs-kenai-central-high-school-5/
LOCATION:52275 Education Drive\, 52801 Nikiski Ave\, Kenai\, AK\, United States
END:VEVENT
BEGIN:VEVENT
DTSTART;TZID=UTC:20250110T043000
DTEND;TZID=UTC:20250110T043000
DTSTAMP:20260420T102152
CREATED:20240214T220948Z
LAST-MODIFIED:20250110T013054Z
UID:9836-1736483400-1736483400@kpbsd.org
SUMMARY:Boys Varsity Basketball vs Kenai Central High School
DESCRIPTION:Sport: Basketball\nLevel: Boys Varsity\nTeam: Nikiski High School\nSite: Nikiski High School\nSubsite: Gym
URL:https://kpbsd.org/schools/nikiski-middle-high/event/boys-varsity-basketball-vs-kenai-central-high-school-5/
LOCATION:52275 Education Drive\, 52801 Nikiski Ave\, Kenai\, AK\, United States
END:VEVENT
BEGIN:VEVENT
DTSTART;TZID=UTC:20250111T000000
DTEND;TZID=UTC:20250111T013000
DTSTAMP:20260420T102152
CREATED:20240229T021122Z
LAST-MODIFIED:20250110T013055Z
UID:10207-1736553600-1736559000@kpbsd.org
SUMMARY:Girls JV Basketball @ Seward High School
DESCRIPTION:Sport: Basketball\nLevel: Girls JV\nTeam: Nikiski High School\nSite: Seward High School\nSubsite: Gym
URL:https://kpbsd.org/schools/nikiski-middle-high/event/girls-jv-basketball-seward-high-school-5/
LOCATION:Po Box 1049\, Seward\, AK\, United States
END:VEVENT
BEGIN:VEVENT
DTSTART;TZID=UTC:20250111T013000
DTEND;TZID=UTC:20250111T030000
DTSTAMP:20260420T102152
CREATED:20240229T021122Z
LAST-MODIFIED:20250111T015157Z
UID:10210-1736559000-1736564400@kpbsd.org
SUMMARY:Boys JV Basketball @ Seward High School
DESCRIPTION:Sport: Basketball\nLevel: Boys JV\nTeam: Nikiski High School\nSite: Seward High School\nSubsite: Gym
URL:https://kpbsd.org/schools/nikiski-middle-high/event/boys-jv-basketball-seward-high-school-5/
LOCATION:Po Box 1049\, Seward\, AK\, United States
END:VEVENT
BEGIN:VEVENT
DTSTART;TZID=UTC:20250111T030000
DTEND;TZID=UTC:20250111T043000
DTSTAMP:20260420T102152
CREATED:20240229T021123Z
LAST-MODIFIED:20250111T015157Z
UID:10213-1736564400-1736569800@kpbsd.org
SUMMARY:Girls Varsity Basketball @ Seward High School
DESCRIPTION:Sport: Basketball\nLevel: Girls Varsity\nTeam: Nikiski High School\nSite: Seward High School\nSubsite: Gym
URL:https://kpbsd.org/schools/nikiski-middle-high/event/girls-varsity-basketball-seward-high-school-5/
LOCATION:Po Box 1049\, Seward\, AK\, United States
END:VEVENT
BEGIN:VEVENT
DTSTART;TZID=UTC:20250111T043000
DTEND;TZID=UTC:20250111T060000
DTSTAMP:20260420T102152
CREATED:20240229T021123Z
LAST-MODIFIED:20250111T015157Z
UID:10216-1736569800-1736575200@kpbsd.org
SUMMARY:Boys Varsity Basketball @ Seward High School
DESCRIPTION:Sport: Basketball\nLevel: Boys Varsity\nTeam: Nikiski High School\nSite: Seward High School\nSubsite: Gym
URL:https://kpbsd.org/schools/nikiski-middle-high/event/boys-varsity-basketball-seward-high-school-5/
LOCATION:Po Box 1049\, Seward\, AK\, United States
END:VEVENT
BEGIN:VEVENT
DTSTART;TZID=UTC:20250115T000000
DTEND;TZID=UTC:20250115T013000
DTSTAMP:20260420T102152
CREATED:20241115T032523Z
LAST-MODIFIED:20250114T023027Z
UID:13562-1736899200-1736904600@kpbsd.org
SUMMARY:Girls Freshman Basketball vs Kenai Central High School
DESCRIPTION:Sport: Basketball\nLevel: Girls Freshman\nTeam: Nikiski High School\nSite: Nikiski High School\nSubsite: Gym
URL:https://kpbsd.org/schools/nikiski-middle-high/event/girls-freshman-basketball-vs-kenai-central-high-school-2/
LOCATION:52275 Education Drive\, 52801 Nikiski Ave\, Kenai\, AK\, United States
END:VEVENT
BEGIN:VEVENT
DTSTART;TZID=UTC:20250115T013000
DTEND;TZID=UTC:20250115T030000
DTSTAMP:20260420T102152
CREATED:20241115T032523Z
LAST-MODIFIED:20250115T024535Z
UID:13559-1736904600-1736910000@kpbsd.org
SUMMARY:Boys Freshman Basketball vs Kenai Central High School
DESCRIPTION:Sport: Basketball\nLevel: Boys Freshman\nTeam: Nikiski High School\nSite: Nikiski High School\nSubsite: Gym
URL:https://kpbsd.org/schools/nikiski-middle-high/event/boys-freshman-basketball-vs-kenai-central-high-school-4/
LOCATION:52275 Education Drive\, 52801 Nikiski Ave\, Kenai\, AK\, United States
END:VEVENT
BEGIN:VEVENT
DTSTART;TZID=UTC:20250115T140000
DTEND;TZID=UTC:20250115T200000
DTSTAMP:20260420T102152
CREATED:20241218T190749Z
LAST-MODIFIED:20250115T024535Z
UID:13694-1736949600-1736971200@kpbsd.org
SUMMARY:SOS Training
DESCRIPTION:Site: TBA\nSubsite: TBA
URL:https://kpbsd.org/schools/nikiski-middle-high/event/sos-training/
LOCATION:(unknown) (unknown)\, (unknown) (unknown)  (unknown)
END:VEVENT
BEGIN:VEVENT
DTSTART;TZID=UTC:20250116T234500
DTEND;TZID=UTC:20250119T030000
DTSTAMP:20260420T102152
CREATED:20240404T142408Z
LAST-MODIFIED:20250118T033102Z
UID:10420-1737071100-1737255600@kpbsd.org
SUMMARY:Rus Hitchcock Nikiski Tip Off Tournament
DESCRIPTION:Games:\n1/16/2025 G-Varsity Basketball\n1/17/2025 G-Varsity Basketball\n1/18/2025 G-Varsity Basketball\nSport: Basketball\nLevel: Girls Varsity\nTeam: Nikiski High School
URL:https://kpbsd.org/schools/nikiski-middle-high/event/rus-hitchcock-nikiski-tip-off-tournament/
LOCATION:AK
END:VEVENT
BEGIN:VEVENT
DTSTART;TZID=UTC:20250117T024500
DTEND;TZID=UTC:20250117T041500
DTSTAMP:20260420T102152
CREATED:20241017T022828Z
LAST-MODIFIED:20250117T031845Z
UID:12730-1737081900-1737087300@kpbsd.org
SUMMARY:G-Varsity Basketball vs Ninilchik High School
DESCRIPTION:Sport: Basketball\nLevel: G-Varsity\nTeam: Nikiski High School\nSite: Nikiski High School\nSubsite: Gym
URL:https://kpbsd.org/schools/nikiski-middle-high/event/g-varsity-basketball/
LOCATION:52275 Education Drive\, 52801 Nikiski Ave\, Kenai\, AK\, United States
END:VEVENT
BEGIN:VEVENT
DTSTART;TZID=UTC:20250117T041500
DTEND;TZID=UTC:20250117T054500
DTSTAMP:20260420T102152
CREATED:20241218T190750Z
LAST-MODIFIED:20250117T031845Z
UID:13697-1737087300-1737092700@kpbsd.org
SUMMARY:B-Varsity Basketball vs Dimond High School
DESCRIPTION:Sport: Basketball\nLevel: B-Varsity\nTeam: Nikiski High School\nSite: Nikiski High School\nSubsite: Gym
URL:https://kpbsd.org/schools/nikiski-middle-high/event/b-varsity-basketball-vs-dimond-high-school/
LOCATION:52275 Education Drive\, 52801 Nikiski Ave\, Kenai\, AK\, United States
END:VEVENT
BEGIN:VEVENT
DTSTART;TZID=America/Anchorage:20250117T080000
DTEND;TZID=America/Anchorage:20250117T170000
DTSTAMP:20260420T102152
CREATED:20240718T171109Z
LAST-MODIFIED:20250117T173345Z
UID:11893-1737100800-1737133200@kpbsd.org
SUMMARY:Early Release
DESCRIPTION:
URL:https://kpbsd.org/schools/nikiski-middle-high/event/early-release-44/
LOCATION:AK
CATEGORIES:Districtwide Calendar
END:VEVENT
BEGIN:VEVENT
DTSTART;TZID=UTC:20250117T214500
DTEND;TZID=UTC:20250117T231500
DTSTAMP:20260420T102152
CREATED:20240908T233629Z
LAST-MODIFIED:20250117T031845Z
UID:12359-1737150300-1737155700@kpbsd.org
SUMMARY:Early Release Day
DESCRIPTION:Site: Nikiski High School\nSubsite: Commons
URL:https://kpbsd.org/schools/nikiski-middle-high/event/early-release-day-5/
LOCATION:52275 Education Drive\, 52801 Nikiski Ave\, Kenai\, AK\, United States
END:VEVENT
BEGIN:VEVENT
DTSTART;TZID=UTC:20250118T024500
DTEND;TZID=UTC:20250118T041500
DTSTAMP:20260420T102152
CREATED:20241017T022828Z
LAST-MODIFIED:20250118T033102Z
UID:12733-1737168300-1737173700@kpbsd.org
SUMMARY:G-Varsity Basketball vs Kotzebue High School
DESCRIPTION:Sport: Basketball\nLevel: G-Varsity\nTeam: Nikiski High School\nSite: Nikiski High School\nSubsite: Gym
URL:https://kpbsd.org/schools/nikiski-middle-high/event/g-varsity-basketball-2/
LOCATION:52275 Education Drive\, 52801 Nikiski Ave\, Kenai\, AK\, United States
END:VEVENT
BEGIN:VEVENT
DTSTART;TZID=UTC:20250118T041500
DTEND;TZID=UTC:20250118T054500
DTSTAMP:20260420T102152
CREATED:20241218T190751Z
LAST-MODIFIED:20250118T033102Z
UID:13709-1737173700-1737179100@kpbsd.org
SUMMARY:B-Varsity Basketball vs Kotzebue High School
DESCRIPTION:Sport: Basketball\nLevel: B-Varsity\nTeam: Nikiski High School\nSite: Nikiski High School\nSubsite: Gym
URL:https://kpbsd.org/schools/nikiski-middle-high/event/b-varsity-basketball-vs-kotzebue-high-school-2/
LOCATION:52275 Education Drive\, 52801 Nikiski Ave\, Kenai\, AK\, United States
END:VEVENT
BEGIN:VEVENT
DTSTART;TZID=UTC:20250118T190000
DTEND;TZID=UTC:20250119T010000
DTSTAMP:20260420T102152
CREATED:20240514T190937Z
LAST-MODIFIED:20250118T033102Z
UID:11134-1737226800-1737248400@kpbsd.org
SUMMARY:Coed 6/7/8th Wrestling @ Seward Middle School
DESCRIPTION:Sport: Wrestling\nLevel: Coed 6/7/8th\nTeam: Nikiski High School\nSite: Seward Middle School
URL:https://kpbsd.org/schools/nikiski-middle-high/event/coed-6-7-8th-wrestling-seward-middle-school-5/
LOCATION:PO Box 1149\, Seward\, AK\, United States
END:VEVENT
BEGIN:VEVENT
DTSTART;TZID=UTC:20250119T000000
DTEND;TZID=UTC:20250119T013000
DTSTAMP:20260420T102152
CREATED:20241017T022829Z
LAST-MODIFIED:20250118T033103Z
UID:12736-1737244800-1737250200@kpbsd.org
SUMMARY:G-Varsity Basketball vs Redington Jr/Sr High School
DESCRIPTION:Sport: Basketball\nLevel: G-Varsity\nTeam: Nikiski High School\nSite: Nikiski High School\nSubsite: Gym
URL:https://kpbsd.org/schools/nikiski-middle-high/event/g-varsity-basketball-3/
LOCATION:52275 Education Drive\, 52801 Nikiski Ave\, Kenai\, AK\, United States
END:VEVENT
BEGIN:VEVENT
DTSTART;TZID=UTC:20250119T013000
DTEND;TZID=UTC:20250119T030000
DTSTAMP:20260420T102152
CREATED:20241218T190751Z
LAST-MODIFIED:20250118T033102Z
UID:13712-1737250200-1737255600@kpbsd.org
SUMMARY:B-Varsity Basketball vs Redington Jr/Sr High School
DESCRIPTION:Sport: Basketball\nLevel: B-Varsity\nTeam: Nikiski High School\nSite: Nikiski High School\nSubsite: Gym
URL:https://kpbsd.org/schools/nikiski-middle-high/event/b-varsity-basketball-vs-redington-jr-sr-high-school/
LOCATION:52275 Education Drive\, 52801 Nikiski Ave\, Kenai\, AK\, United States
END:VEVENT
BEGIN:VEVENT
DTSTART;TZID=UTC:20250121T000000
DTEND;TZID=UTC:20250121T013000
DTSTAMP:20260420T102152
CREATED:20241218T190752Z
LAST-MODIFIED:20250120T040309Z
UID:13718-1737417600-1737423000@kpbsd.org
SUMMARY:Boys Freshman Basketball @ Kenai Central High School
DESCRIPTION:Sport: Basketball\nLevel: Boys Freshman\nTeam: Nikiski High School\nSite: Kenai Central High School\nSubsite: Gym
URL:https://kpbsd.org/schools/nikiski-middle-high/event/boys-freshman-basketball-kenai-central-high-school-3/
LOCATION:9583 Kenai Spur Hwy\, Kenai\, AK\, United States
END:VEVENT
BEGIN:VEVENT
DTSTART;TZID=UTC:20250121T013000
DTEND;TZID=UTC:20250121T030000
DTSTAMP:20260420T102152
CREATED:20241218T190752Z
LAST-MODIFIED:20250120T040309Z
UID:13721-1737423000-1737428400@kpbsd.org
SUMMARY:Girls Freshman Basketball @ Kenai Central High School
DESCRIPTION:Sport: Basketball\nLevel: Girls Freshman\nTeam: Nikiski High School\nSite: Kenai Central High School\nSubsite: Gym
URL:https://kpbsd.org/schools/nikiski-middle-high/event/girls-freshman-basketball-kenai-central-high-school-4/
LOCATION:9583 Kenai Spur Hwy\, Kenai\, AK\, United States
END:VEVENT
END:VCALENDAR