BEGIN:VCALENDAR
VERSION:2.0
PRODID:-//Nikiski Middle &amp; High School - ECPv6.8.2//NONSGML v1.0//EN
CALSCALE:GREGORIAN
METHOD:PUBLISH
X-WR-CALNAME:Nikiski Middle &amp; High School
X-ORIGINAL-URL:https://kpbsd.org/schools/nikiski-middle-high
X-WR-CALDESC:Events for Nikiski Middle &amp; High School
REFRESH-INTERVAL;VALUE=DURATION:PT1H
X-Robots-Tag:noindex
X-PUBLISHED-TTL:PT1H
BEGIN:VTIMEZONE
TZID:UTC
BEGIN:STANDARD
TZOFFSETFROM:+0000
TZOFFSETTO:+0000
TZNAME:UTC
DTSTART:20250101T000000
END:STANDARD
TZID:America/Anchorage
BEGIN:DAYLIGHT
TZOFFSETFROM:-0900
TZOFFSETTO:-0800
TZNAME:AKDT
DTSTART:20250309T110000
END:DAYLIGHT
BEGIN:STANDARD
TZOFFSETFROM:-0800
TZOFFSETTO:-0900
TZNAME:AKST
DTSTART:20251102T100000
END:STANDARD
END:VTIMEZONE
BEGIN:VEVENT
DTSTART;TZID=UTC:20250212T013000
DTEND;TZID=UTC:20250212T013000
DTSTAMP:20260422T135346
CREATED:20240214T220949Z
LAST-MODIFIED:20250211T094611Z
UID:9848-1739323800-1739323800@kpbsd.org
SUMMARY:Boys JV Basketball vs Homer High School
DESCRIPTION:Sport: Basketball\nLevel: Boys JV\nTeam: Nikiski High School\nSite: Nikiski High School\nSubsite: Gym
URL:https://kpbsd.org/schools/nikiski-middle-high/event/boys-jv-basketball-vs-homer-high-school-5/
LOCATION:52275 Education Drive\, 52801 Nikiski Ave\, Kenai\, AK\, United States
END:VEVENT
BEGIN:VEVENT
DTSTART;TZID=UTC:20250212T030000
DTEND;TZID=UTC:20250212T030000
DTSTAMP:20260422T135346
CREATED:20240214T220950Z
LAST-MODIFIED:20250211T094611Z
UID:9851-1739329200-1739329200@kpbsd.org
SUMMARY:Girls Varsity Basketball vs Homer High School
DESCRIPTION:Sport: Basketball\nLevel: Girls Varsity\nTeam: Nikiski High School\nSite: Nikiski High School\nSubsite: Gym
URL:https://kpbsd.org/schools/nikiski-middle-high/event/girls-varsity-basketball-vs-homer-high-school-5/
LOCATION:52275 Education Drive\, 52801 Nikiski Ave\, Kenai\, AK\, United States
END:VEVENT
BEGIN:VEVENT
DTSTART;TZID=UTC:20250212T043000
DTEND;TZID=UTC:20250212T043000
DTSTAMP:20260422T135346
CREATED:20240214T221003Z
LAST-MODIFIED:20250211T094611Z
UID:9852-1739334600-1739334600@kpbsd.org
SUMMARY:Boys Varsity Basketball vs Homer High School
DESCRIPTION:Sport: Basketball\nLevel: Boys Varsity\nTeam: Nikiski High School\nSite: Nikiski High School\nSubsite: Gym
URL:https://kpbsd.org/schools/nikiski-middle-high/event/boys-varsity-basketball-vs-homer-high-school-5/
LOCATION:52275 Education Drive\, 52801 Nikiski Ave\, Kenai\, AK\, United States
END:VEVENT
BEGIN:VEVENT
DTSTART;TZID=America/Anchorage:20250213T080000
DTEND;TZID=America/Anchorage:20250214T170000
DTSTAMP:20260422T135346
CREATED:20240516T131136Z
LAST-MODIFIED:20250214T183529Z
UID:11460-1739433600-1739552400@kpbsd.org
SUMMARY:Parent-Teacher Conferences
DESCRIPTION:
URL:https://kpbsd.org/schools/nikiski-middle-high/event/parent-teacher-conferences-8/
LOCATION:AK
CATEGORIES:Districtwide Calendar
END:VEVENT
BEGIN:VEVENT
DTSTART;TZID=UTC:20250213T090100
DTEND;TZID=UTC:20250215T090100
DTSTAMP:20260422T135346
CREATED:20240404T142410Z
LAST-MODIFIED:20250214T103528Z
UID:10435-1739437260-1739610060@kpbsd.org
SUMMARY:Ninilchik Tournament
DESCRIPTION:Games:\nSport: Basketball\nLevel: Boys Varsity\nTeam: Nikiski High School
URL:https://kpbsd.org/schools/nikiski-middle-high/event/ninilchik-tournament/
LOCATION:AK
END:VEVENT
BEGIN:VEVENT
DTSTART;TZID=UTC:20250213T170000
DTEND;TZID=UTC:20250214T050000
DTSTAMP:20260422T135346
CREATED:20240503T180651Z
LAST-MODIFIED:20250213T101605Z
UID:10756-1739466000-1739509200@kpbsd.org
SUMMARY:Parent/Teacher Conferences
DESCRIPTION:Site: Nikiski High School\nSubsite: Commons
URL:https://kpbsd.org/schools/nikiski-middle-high/event/parent-teacher-conferences-5/
LOCATION:52275 Education Drive\, 52801 Nikiski Ave\, Kenai\, AK\, United States
END:VEVENT
BEGIN:VEVENT
DTSTART;TZID=UTC:20250213T230000
DTEND;TZID=UTC:20250214T001500
DTSTAMP:20260422T135346
CREATED:20250116T025129Z
LAST-MODIFIED:20250213T101605Z
UID:13941-1739487600-1739492100@kpbsd.org
SUMMARY:Girls Varsity Basketball vs Unalaska High School
DESCRIPTION:Sport: Basketball\nLevel: Girls Varsity\nTeam: Nikiski High School\nSite: Ninilchik High School\nSubsite: Gym
URL:https://kpbsd.org/schools/nikiski-middle-high/event/girls-varsity-basketball-vs-unalaska-high-school/
LOCATION:Po Box 39010\, Ninilchik\, AK\, United States
END:VEVENT
BEGIN:VEVENT
DTSTART;TZID=UTC:20250214T000000
DTEND;TZID=UTC:20250214T011500
DTSTAMP:20260422T135346
CREATED:20250209T090526Z
LAST-MODIFIED:20250213T101605Z
UID:14294-1739491200-1739495700@kpbsd.org
SUMMARY:Girls Varsity\, Grace Christian Basketball @ Grace Christian High School - Varsity
DESCRIPTION:Sport: Basketball Level: Girls Varsity\, Grace Christian Team: Nikiski High School Site: Grace Christian High School Subsite: South Gym
URL:https://kpbsd.org/schools/nikiski-middle-high/event/girls-varsity-grace-christian-basketball-grace-christian-high-school-varsity/
LOCATION:12407 Pintail St\, Anchorage\, AK\, United States
END:VEVENT
BEGIN:VEVENT
DTSTART;TZID=UTC:20250214T003000
DTEND;TZID=UTC:20250214T014500
DTSTAMP:20260422T135346
CREATED:20250116T025130Z
LAST-MODIFIED:20250213T101606Z
UID:13944-1739493000-1739497500@kpbsd.org
SUMMARY:Boys Varsity Basketball vs Unalaska High School
DESCRIPTION:Sport: Basketball\nLevel: Boys Varsity\nTeam: Nikiski High School\nSite: Ninilchik High School\nSubsite: Gym
URL:https://kpbsd.org/schools/nikiski-middle-high/event/boys-varsity-basketball-vs-unalaska-high-school/
LOCATION:Po Box 39010\, Ninilchik\, AK\, United States
END:VEVENT
BEGIN:VEVENT
DTSTART;TZID=UTC:20250214T170000
DTEND;TZID=UTC:20250215T010000
DTSTAMP:20260422T135346
CREATED:20240503T180651Z
LAST-MODIFIED:20250214T103528Z
UID:10759-1739552400-1739581200@kpbsd.org
SUMMARY:No School
DESCRIPTION:Site: Nikiski High School\nSubsite: Commons
URL:https://kpbsd.org/schools/nikiski-middle-high/event/no-school-42/
LOCATION:52275 Education Drive\, 52801 Nikiski Ave\, Kenai\, AK\, United States
END:VEVENT
BEGIN:VEVENT
DTSTART;TZID=UTC:20250215T020000
DTEND;TZID=UTC:20250215T031500
DTSTAMP:20260422T135346
CREATED:20250116T025130Z
LAST-MODIFIED:20250214T103528Z
UID:13947-1739584800-1739589300@kpbsd.org
SUMMARY:Girls Varsity Basketball @ Ninilchik High School
DESCRIPTION:Sport: Basketball\nLevel: Girls Varsity\nTeam: Nikiski High School\nSite: Ninilchik High School\nSubsite: Gym
URL:https://kpbsd.org/schools/nikiski-middle-high/event/girls-varsity-basketball-ninilchik-high-school-2/
LOCATION:Po Box 39010\, Ninilchik\, AK\, United States
END:VEVENT
BEGIN:VEVENT
DTSTART;TZID=UTC:20250215T034500
DTEND;TZID=UTC:20250215T050000
DTSTAMP:20260422T135346
CREATED:20250116T025145Z
LAST-MODIFIED:20250214T103528Z
UID:13950-1739591100-1739595600@kpbsd.org
SUMMARY:Boys Varsity Basketball @ Ninilchik High School
DESCRIPTION:Sport: Basketball\nLevel: Boys Varsity\nTeam: Nikiski High School\nSite: Ninilchik High School\nSubsite: Gym
URL:https://kpbsd.org/schools/nikiski-middle-high/event/boys-varsity-basketball-ninilchik-high-school-5/
LOCATION:Po Box 39010\, Ninilchik\, AK\, United States
END:VEVENT
BEGIN:VEVENT
DTSTART;TZID=UTC:20250215T190000
DTEND;TZID=UTC:20250216T010000
DTSTAMP:20260422T135346
CREATED:20240514T190942Z
LAST-MODIFIED:20250215T110042Z
UID:11149-1739646000-1739667600@kpbsd.org
SUMMARY:Coed 6/7/8th Wrestling @ Homer Middle School
DESCRIPTION:Sport: Wrestling\nLevel: Coed 6/7/8th\nTeam: Nikiski High School\nSite: Homer Middle School
URL:https://kpbsd.org/schools/nikiski-middle-high/event/coed-6-7-8th-wrestling-homer-middle-school-4/
LOCATION:500 Sterling Hwy\, Homer\, AK\, United States
END:VEVENT
BEGIN:VEVENT
DTSTART;TZID=UTC:20250215T200000
DTEND;TZID=UTC:20250215T211500
DTSTAMP:20260422T135346
CREATED:20250116T025146Z
LAST-MODIFIED:20250215T110042Z
UID:13953-1739649600-1739654100@kpbsd.org
SUMMARY:Girls Varsity Basketball @ Tok School
DESCRIPTION:Sport: Basketball\nLevel: Girls Varsity\nTeam: Nikiski High School\nSite: Ninilchik High School\nSubsite: Gym
URL:https://kpbsd.org/schools/nikiski-middle-high/event/girls-varsity-basketball-tok-school-2/
LOCATION:Po Box 39010\, Ninilchik\, AK\, United States
END:VEVENT
BEGIN:VEVENT
DTSTART;TZID=UTC:20250215T213000
DTEND;TZID=UTC:20250215T224500
DTSTAMP:20260422T135346
CREATED:20250116T025147Z
LAST-MODIFIED:20250215T110043Z
UID:13956-1739655000-1739659500@kpbsd.org
SUMMARY:Boys Varsity Basketball @ Tok School
DESCRIPTION:Sport: Basketball\nLevel: Boys Varsity\nTeam: Nikiski High School\nSite: Ninilchik High School\nSubsite: Gym
URL:https://kpbsd.org/schools/nikiski-middle-high/event/boys-varsity-basketball-tok-school-2/
LOCATION:Po Box 39010\, Ninilchik\, AK\, United States
END:VEVENT
BEGIN:VEVENT
DTSTART;TZID=America/Anchorage:20250217T080000
DTEND;TZID=America/Anchorage:20250217T170000
DTSTAMP:20260422T135346
CREATED:20240516T131136Z
LAST-MODIFIED:20250214T183529Z
UID:11463-1739779200-1739811600@kpbsd.org
SUMMARY:Vacation Day
DESCRIPTION:For Susan B. English\, Tubughna\, Moose Pass and Seward area schools only
URL:https://kpbsd.org/schools/nikiski-middle-high/event/vacation-day-18/
LOCATION:AK
CATEGORIES:Districtwide Calendar
END:VEVENT
BEGIN:VEVENT
DTSTART;TZID=UTC:20250217T170000
DTEND;TZID=UTC:20250218T010000
DTSTAMP:20260422T135346
CREATED:20240503T180652Z
LAST-MODIFIED:20241030T033820Z
UID:10762-1739811600-1739840400@kpbsd.org
SUMMARY:No School
DESCRIPTION:Site: Nikiski High School\nSubsite: Commons
URL:https://kpbsd.org/schools/nikiski-middle-high/event/no-school-43/
LOCATION:52275 Education Drive\, 52801 Nikiski Ave\, Kenai\, AK\, United States
END:VEVENT
BEGIN:VEVENT
DTSTART;TZID=UTC:20250217T210000
DTEND;TZID=UTC:20250217T213000
DTSTAMP:20260422T135346
CREATED:20250207T084700Z
LAST-MODIFIED:20250217T113453Z
UID:14276-1739826000-1739827800@kpbsd.org
SUMMARY:Industrial Painting Presentation
DESCRIPTION:Site: Nikiski High School\nSubsite: Commons
URL:https://kpbsd.org/schools/nikiski-middle-high/event/industrial-painting-presentation/
LOCATION:52275 Education Drive\, 52801 Nikiski Ave\, Kenai\, AK\, United States
END:VEVENT
BEGIN:VEVENT
DTSTART;TZID=UTC:20250218T210000
DTEND;TZID=UTC:20250218T230000
DTSTAMP:20260422T135346
CREATED:20240510T183625Z
LAST-MODIFIED:20250218T114552Z
UID:10932-1739912400-1739919600@kpbsd.org
SUMMARY:Girls 7/8th Volleyball vs Kenai Middle School
DESCRIPTION:Sport: Volleyball\nLevel: Girls 7/8th\nTeam: Nikiski High School\nSite: TBA\nSubsite: TBA
URL:https://kpbsd.org/schools/nikiski-middle-high/event/girls-7-8th-volleyball-vs-kenai-middle-school-5/
LOCATION:(unknown) (unknown)\, (unknown) (unknown)  (unknown)
END:VEVENT
BEGIN:VEVENT
DTSTART;TZID=UTC:20250219T010000
DTEND;TZID=UTC:20250219T020000
DTSTAMP:20260422T135346
CREATED:20241218T190800Z
LAST-MODIFIED:20250218T114552Z
UID:13727-1739926800-1739930400@kpbsd.org
SUMMARY:Girls Freshman Basketball @ Homer High School
DESCRIPTION:Sport: Basketball\nLevel: Girls Freshman\nTeam: Nikiski High School\nSite: Homer High School\nSubsite: Gym
URL:https://kpbsd.org/schools/nikiski-middle-high/event/girls-freshman-basketball-homer-high-school/
LOCATION:600 E Fairview Ave\, Homer\, AK\, United States
END:VEVENT
BEGIN:VEVENT
DTSTART;TZID=UTC:20250219T023000
DTEND;TZID=UTC:20250219T033000
DTSTAMP:20260422T135346
CREATED:20241218T190800Z
LAST-MODIFIED:20250218T114552Z
UID:13730-1739932200-1739935800@kpbsd.org
SUMMARY:Boys Freshman Basketball @ Homer High School
DESCRIPTION:Sport: Basketball\nLevel: Boys Freshman\nTeam: Nikiski High School\nSite: Homer High School\nSubsite: Gym
URL:https://kpbsd.org/schools/nikiski-middle-high/event/boys-freshman-basketball-homer-high-school/
LOCATION:600 E Fairview Ave\, Homer\, AK\, United States
END:VEVENT
BEGIN:VEVENT
DTSTART;TZID=UTC:20250219T164000
DTEND;TZID=UTC:20250219T231000
DTSTAMP:20260422T135346
CREATED:20250118T032202Z
LAST-MODIFIED:20250219T120006Z
UID:14057-1739983200-1740006600@kpbsd.org
SUMMARY:All Day Rehearsal
DESCRIPTION:Site: Nikiski High School\nSubsite: Auditorium
URL:https://kpbsd.org/schools/nikiski-middle-high/event/all-day-rehearsal-6/
LOCATION:52275 Education Drive\, 52801 Nikiski Ave\, Kenai\, AK\, United States
END:VEVENT
BEGIN:VEVENT
DTSTART;TZID=UTC:20250220T013000
DTEND;TZID=UTC:20250220T030000
DTSTAMP:20260422T135346
CREATED:20240502T040341Z
LAST-MODIFIED:20241115T151046Z
UID:10634-1740015000-1740020400@kpbsd.org
SUMMARY:Boys JV Basketball vs Birchwood Christian School
DESCRIPTION:Sport: Basketball\nLevel: Boys JV\nTeam: Nikiski High School\nSite: Nikiski High School\nSubsite: Gym
URL:https://kpbsd.org/schools/nikiski-middle-high/event/boys-jv-basketball-vs-birchwood-christian-school/
LOCATION:52275 Education Drive\, 52801 Nikiski Ave\, Kenai\, AK\, United States
END:VEVENT
BEGIN:VEVENT
DTSTART;TZID=UTC:20250220T030000
DTEND;TZID=UTC:20250220T043000
DTSTAMP:20260422T135346
CREATED:20240502T040341Z
LAST-MODIFIED:20241115T151046Z
UID:10637-1740020400-1740025800@kpbsd.org
SUMMARY:Girls Varsity Basketball vs Birchwood Christian School
DESCRIPTION:Sport: Basketball\nLevel: Girls Varsity\nTeam: Nikiski High School\nSite: Nikiski High School\nSubsite: Gym
URL:https://kpbsd.org/schools/nikiski-middle-high/event/girls-varsity-basketball-vs-birchwood-christian-school/
LOCATION:52275 Education Drive\, 52801 Nikiski Ave\, Kenai\, AK\, United States
END:VEVENT
BEGIN:VEVENT
DTSTART;TZID=UTC:20250220T043000
DTEND;TZID=UTC:20250220T050000
DTSTAMP:20260422T135346
CREATED:20240502T040341Z
LAST-MODIFIED:20241115T151046Z
UID:10640-1740025800-1740027600@kpbsd.org
SUMMARY:Boys Varsity Basketball vs Birchwood Christian School
DESCRIPTION:Sport: Basketball\nLevel: Boys Varsity\nTeam: Nikiski High School\nSite: Nikiski High School\nSubsite: Gym
URL:https://kpbsd.org/schools/nikiski-middle-high/event/boys-varsity-basketball-vs-birchwood-christian-school/
LOCATION:52275 Education Drive\, 52801 Nikiski Ave\, Kenai\, AK\, United States
END:VEVENT
BEGIN:VEVENT
DTSTART;TZID=UTC:20250220T210000
DTEND;TZID=UTC:20250220T220000
DTSTAMP:20260422T135346
CREATED:20240510T183625Z
LAST-MODIFIED:20250220T121517Z
UID:10935-1740085200-1740088800@kpbsd.org
SUMMARY:Girls 7/8th Volleyball @ Homer Middle School
DESCRIPTION:Sport: Volleyball\nLevel: Girls 7/8th\nTeam: Nikiski High School\nSite: TBA\nSubsite: TBA
URL:https://kpbsd.org/schools/nikiski-middle-high/event/girls-7-8th-volleyball-homer-middle-school-5/
LOCATION:(unknown) (unknown)\, (unknown) (unknown)  (unknown)
END:VEVENT
BEGIN:VEVENT
DTSTART;TZID=UTC:20250221T210000
DTEND;TZID=UTC:20250221T220000
DTSTAMP:20260422T135346
CREATED:20240510T183625Z
LAST-MODIFIED:20250221T123631Z
UID:10938-1740171600-1740175200@kpbsd.org
SUMMARY:Girls 7/8th Volleyball @ Kenai Middle School
DESCRIPTION:Sport: Volleyball\nLevel: Girls 7/8th\nTeam: Nikiski High School\nSite: TBA\nSubsite: TBA
URL:https://kpbsd.org/schools/nikiski-middle-high/event/girls-7-8th-volleyball-kenai-middle-school-6/
LOCATION:(unknown) (unknown)\, (unknown) (unknown)  (unknown)
END:VEVENT
BEGIN:VEVENT
DTSTART;TZID=UTC:20250222T000000
DTEND;TZID=UTC:20250222T013000
DTSTAMP:20260422T135346
CREATED:20240404T142410Z
LAST-MODIFIED:20250221T123631Z
UID:10441-1740182400-1740187800@kpbsd.org
SUMMARY:Girls JV Basketball vs Grace Christian High School
DESCRIPTION:Sport: Basketball\nLevel: Girls JV\nTeam: Nikiski High School\nSite: Nikiski High School\nSubsite: Gym
URL:https://kpbsd.org/schools/nikiski-middle-high/event/girls-jv-basketball-vs-grace-christian-high-school-3/
LOCATION:52275 Education Drive\, 52801 Nikiski Ave\, Kenai\, AK\, United States
END:VEVENT
BEGIN:VEVENT
DTSTART;TZID=UTC:20250222T013000
DTEND;TZID=UTC:20250222T030000
DTSTAMP:20260422T135346
CREATED:20240214T221004Z
LAST-MODIFIED:20250221T123631Z
UID:9858-1740187800-1740193200@kpbsd.org
SUMMARY:Boys Freshman Basketball vs Kenai Central High School
DESCRIPTION:Sport: Basketball\nLevel: Boys Freshman\nTeam: Nikiski High School\nSite: Nikiski High School\nSubsite: Gym
URL:https://kpbsd.org/schools/nikiski-middle-high/event/boys-freshman-basketball-vs-kenai-central-high-school-3/
LOCATION:52275 Education Drive\, 52801 Nikiski Ave\, Kenai\, AK\, United States
END:VEVENT
BEGIN:VEVENT
DTSTART;TZID=UTC:20250222T030000
DTEND;TZID=UTC:20250222T030000
DTSTAMP:20260422T135346
CREATED:20240214T221004Z
LAST-MODIFIED:20250221T123631Z
UID:9855-1740193200-1740193200@kpbsd.org
SUMMARY:Girls Varsity Basketball vs Grace Christian High School - Varsity
DESCRIPTION:Sport: Basketball\nLevel: Girls Varsity\nTeam: Nikiski High School\nSite: Nikiski High School\nSubsite: Gym
URL:https://kpbsd.org/schools/nikiski-middle-high/event/girls-varsity-basketball-vs-grace-christian-high-school-3/
LOCATION:52275 Education Drive\, 52801 Nikiski Ave\, Kenai\, AK\, United States
END:VEVENT
END:VCALENDAR