BEGIN:VCALENDAR
VERSION:2.0
PRODID:-//Nikiski Middle &amp; High School - ECPv6.8.2//NONSGML v1.0//EN
CALSCALE:GREGORIAN
METHOD:PUBLISH
X-WR-CALNAME:Nikiski Middle &amp; High School
X-ORIGINAL-URL:https://kpbsd.org/schools/nikiski-middle-high
X-WR-CALDESC:Events for Nikiski Middle &amp; High School
REFRESH-INTERVAL;VALUE=DURATION:PT1H
X-Robots-Tag:noindex
X-PUBLISHED-TTL:PT1H
BEGIN:VTIMEZONE
TZID:UTC
BEGIN:STANDARD
TZOFFSETFROM:+0000
TZOFFSETTO:+0000
TZNAME:UTC
DTSTART:20250101T000000
END:STANDARD
TZID:America/Anchorage
BEGIN:DAYLIGHT
TZOFFSETFROM:-0900
TZOFFSETTO:-0800
TZNAME:AKDT
DTSTART:20250309T110000
END:DAYLIGHT
BEGIN:STANDARD
TZOFFSETFROM:-0800
TZOFFSETTO:-0900
TZNAME:AKST
DTSTART:20251102T100000
END:STANDARD
END:VTIMEZONE
BEGIN:VEVENT
DTSTART;TZID=UTC:20250307T090100
DTEND;TZID=UTC:20250308T090100
DTSTAMP:20260421T124507
CREATED:20240404T142412Z
LAST-MODIFIED:20250307T165709Z
UID:10444-1741338060-1741424460@kpbsd.org
SUMMARY:Peninsula Conference Tournament
DESCRIPTION:Games:\nSport: Basketball\nLevel: Girls Varsity\nTeam: Nikiski High School
URL:https://kpbsd.org/schools/nikiski-middle-high/event/peninsula-conference-tournament-2/
LOCATION:AK
END:VEVENT
BEGIN:VEVENT
DTSTART;TZID=UTC:20250307T170000
DTEND;TZID=UTC:20250308T010000
DTSTAMP:20260421T124507
CREATED:20240503T180654Z
LAST-MODIFIED:20250307T165709Z
UID:10765-1741366800-1741395600@kpbsd.org
SUMMARY:No School
DESCRIPTION:Site: Nikiski High School\nSubsite: Commons
URL:https://kpbsd.org/schools/nikiski-middle-high/event/no-school-44/
LOCATION:52275 Education Drive\, 52801 Nikiski Ave\, Kenai\, AK\, United States
END:VEVENT
BEGIN:VEVENT
DTSTART;TZID=America/Anchorage:20250310T080000
DTEND;TZID=America/Anchorage:20250314T170000
DTSTAMP:20260421T124507
CREATED:20240516T131137Z
LAST-MODIFIED:20250314T193413Z
UID:11469-1741593600-1741971600@kpbsd.org
SUMMARY:Vacation
DESCRIPTION:
URL:https://kpbsd.org/schools/nikiski-middle-high/event/vacation-13/
LOCATION:AK
CATEGORIES:Districtwide Calendar
END:VEVENT
BEGIN:VEVENT
DTSTART;TZID=UTC:20250310T160000
DTEND;TZID=UTC:20250311T000000
DTSTAMP:20260421T124507
CREATED:20240503T180654Z
LAST-MODIFIED:20250310T182117Z
UID:10768-1741622400-1741651200@kpbsd.org
SUMMARY:No School
DESCRIPTION:Site: Nikiski High School\nSubsite: Commons
URL:https://kpbsd.org/schools/nikiski-middle-high/event/no-school-45/
LOCATION:52275 Education Drive\, 52801 Nikiski Ave\, Kenai\, AK\, United States
END:VEVENT
BEGIN:VEVENT
DTSTART;TZID=UTC:20250310T223000
DTEND;TZID=UTC:20250310T233000
DTSTAMP:20260421T124507
CREATED:20240514T190949Z
LAST-MODIFIED:20250310T182117Z
UID:11164-1741645800-1741649400@kpbsd.org
SUMMARY:First HS Track Practice
DESCRIPTION:Site: Nikiski High School\nSubsite: Gym
URL:https://kpbsd.org/schools/nikiski-middle-high/event/first-hs-track-practice/
LOCATION:52275 Education Drive\, 52801 Nikiski Ave\, Kenai\, AK\, United States
END:VEVENT
BEGIN:VEVENT
DTSTART;TZID=UTC:20250310T223000
DTEND;TZID=UTC:20250310T233000
DTSTAMP:20260421T124507
CREATED:20240514T190949Z
LAST-MODIFIED:20250310T182117Z
UID:11167-1741645800-1741649400@kpbsd.org
SUMMARY:First HS Soccer Practice
DESCRIPTION:Site: Nikiski High School\nSubsite: Gym
URL:https://kpbsd.org/schools/nikiski-middle-high/event/first-hs-soccer-practice/
LOCATION:52275 Education Drive\, 52801 Nikiski Ave\, Kenai\, AK\, United States
END:VEVENT
BEGIN:VEVENT
DTSTART;TZID=UTC:20250311T160000
DTEND;TZID=UTC:20250312T000000
DTSTAMP:20260421T124507
CREATED:20240503T180655Z
LAST-MODIFIED:20250311T190706Z
UID:10771-1741708800-1741737600@kpbsd.org
SUMMARY:No School
DESCRIPTION:Site: Nikiski High School\nSubsite: Commons
URL:https://kpbsd.org/schools/nikiski-middle-high/event/no-school-46/
LOCATION:52275 Education Drive\, 52801 Nikiski Ave\, Kenai\, AK\, United States
END:VEVENT
BEGIN:VEVENT
DTSTART;TZID=UTC:20250312T160000
DTEND;TZID=UTC:20250313T000000
DTSTAMP:20260421T124507
CREATED:20240503T180655Z
LAST-MODIFIED:20250312T220337Z
UID:10774-1741795200-1741824000@kpbsd.org
SUMMARY:No School
DESCRIPTION:Site: Nikiski High School\nSubsite: Commons
URL:https://kpbsd.org/schools/nikiski-middle-high/event/no-school-47/
LOCATION:52275 Education Drive\, 52801 Nikiski Ave\, Kenai\, AK\, United States
END:VEVENT
BEGIN:VEVENT
DTSTART;TZID=UTC:20250313T160000
DTEND;TZID=UTC:20250314T000000
DTSTAMP:20260421T124507
CREATED:20240503T180655Z
LAST-MODIFIED:20250313T200029Z
UID:10777-1741881600-1741910400@kpbsd.org
SUMMARY:No School
DESCRIPTION:Site: Nikiski High School\nSubsite: Commons
URL:https://kpbsd.org/schools/nikiski-middle-high/event/no-school-48/
LOCATION:52275 Education Drive\, 52801 Nikiski Ave\, Kenai\, AK\, United States
END:VEVENT
BEGIN:VEVENT
DTSTART;TZID=UTC:20250314T160000
DTEND;TZID=UTC:20250315T000000
DTSTAMP:20260421T124507
CREATED:20240503T180655Z
LAST-MODIFIED:20250314T202136Z
UID:10780-1741968000-1741996800@kpbsd.org
SUMMARY:No School
DESCRIPTION:Site: Nikiski High School\nSubsite: Commons
URL:https://kpbsd.org/schools/nikiski-middle-high/event/no-school-49/
LOCATION:52275 Education Drive\, 52801 Nikiski Ave\, Kenai\, AK\, United States
END:VEVENT
BEGIN:VEVENT
DTSTART;TZID=UTC:20250318T154000
DTEND;TZID=UTC:20250318T221000
DTSTAMP:20260421T124507
CREATED:20250118T032314Z
LAST-MODIFIED:20250318T213023Z
UID:14059-1742312400-1742335800@kpbsd.org
SUMMARY:All Day Rehearsal
DESCRIPTION:Site: Nikiski High School\nSubsite: Auditorium
URL:https://kpbsd.org/schools/nikiski-middle-high/event/all-day-rehearsal-7/
LOCATION:52275 Education Drive\, 52801 Nikiski Ave\, Kenai\, AK\, United States
END:VEVENT
BEGIN:VEVENT
DTSTART;TZID=UTC:20250318T163000
DTEND;TZID=UTC:20250318T180000
DTSTAMP:20260421T124507
CREATED:20250207T084700Z
LAST-MODIFIED:20250317T211518Z
UID:14279-1742315400-1742320800@kpbsd.org
SUMMARY:PWSC Presentation
DESCRIPTION:Site: Nikiski High School\nSubsite: Commons
URL:https://kpbsd.org/schools/nikiski-middle-high/event/pwsc-presentation/
LOCATION:52275 Education Drive\, 52801 Nikiski Ave\, Kenai\, AK\, United States
END:VEVENT
BEGIN:VEVENT
DTSTART;TZID=UTC:20250319T080100
DTEND;TZID=UTC:20250322T080100
DTSTAMP:20260421T124507
CREATED:20240404T142413Z
LAST-MODIFIED:20250321T223126Z
UID:10450-1742371260-1742630460@kpbsd.org
SUMMARY:State Basketball Tournament
DESCRIPTION:Games:\nSport: Basketball\nLevel: Girls Varsity\nTeam: Nikiski High School
URL:https://kpbsd.org/schools/nikiski-middle-high/event/state-basketball-tournament/
LOCATION:AK
END:VEVENT
BEGIN:VEVENT
DTSTART;TZID=UTC:20250321T230000
DTEND;TZID=UTC:20250322T060000
DTSTAMP:20260421T124507
CREATED:20241017T022844Z
LAST-MODIFIED:20250321T223126Z
UID:12740-1742598000-1742623200@kpbsd.org
SUMMARY:Nikiski Freestyle Tournament
DESCRIPTION:Site: Nikiski High School\nSubsite: Gym
URL:https://kpbsd.org/schools/nikiski-middle-high/event/nikiski-freestyle-tournament-3/
LOCATION:52275 Education Drive\, 52801 Nikiski Ave\, Kenai\, AK\, United States
END:VEVENT
BEGIN:VEVENT
DTSTART;TZID=UTC:20250322T150000
DTEND;TZID=UTC:20250323T030000
DTSTAMP:20260421T124507
CREATED:20241017T022844Z
LAST-MODIFIED:20250322T225523Z
UID:12743-1742655600-1742698800@kpbsd.org
SUMMARY:Nikiski Freestyle Tournament
DESCRIPTION:Site: Nikiski High School\nSubsite: Gym
URL:https://kpbsd.org/schools/nikiski-middle-high/event/nikiski-freestyle-tournament-4/
LOCATION:52275 Education Drive\, 52801 Nikiski Ave\, Kenai\, AK\, United States
END:VEVENT
BEGIN:VEVENT
DTSTART;TZID=UTC:20250324T223000
DTEND;TZID=UTC:20250324T233000
DTSTAMP:20260421T124507
CREATED:20240514T190951Z
LAST-MODIFIED:20250324T232230Z
UID:11170-1742855400-1742859000@kpbsd.org
SUMMARY:First MS Track Practice
DESCRIPTION:Site: Nikiski High School\nSubsite: Commons
URL:https://kpbsd.org/schools/nikiski-middle-high/event/first-ms-track-practice/
LOCATION:52275 Education Drive\, 52801 Nikiski Ave\, Kenai\, AK\, United States
END:VEVENT
BEGIN:VEVENT
DTSTART;TZID=UTC:20250326T020000
DTEND;TZID=UTC:20250326T040000
DTSTAMP:20260421T124507
CREATED:20250318T212816Z
LAST-MODIFIED:20250326T001733Z
UID:14821-1742954400-1742961600@kpbsd.org
SUMMARY:Basketball Awards Night
DESCRIPTION:Site: Nikiski High School\nSubsite: Commons
URL:https://kpbsd.org/schools/nikiski-middle-high/event/basketball-awards-night/
LOCATION:52275 Education Drive\, 52801 Nikiski Ave\, Kenai\, AK\, United States
END:VEVENT
BEGIN:VEVENT
DTSTART;TZID=UTC:20250329T030000
DTEND;TZID=UTC:20250329T050000
DTSTAMP:20260421T124507
CREATED:20241102T001815Z
LAST-MODIFIED:20250329T010538Z
UID:13134-1743217200-1743224400@kpbsd.org
SUMMARY:MS Dance
DESCRIPTION:Site: Nikiski High School\nSubsite: Commons
URL:https://kpbsd.org/schools/nikiski-middle-high/event/ms-dance-7/
LOCATION:52275 Education Drive\, 52801 Nikiski Ave\, Kenai\, AK\, United States
END:VEVENT
BEGIN:VEVENT
DTSTART;TZID=UTC:20250401T110000
DTEND;TZID=UTC:20250401T230000
DTSTAMP:20260421T124507
CREATED:20250212T095309Z
LAST-MODIFIED:20250401T021514Z
UID:14303-1743505200-1743548400@kpbsd.org
SUMMARY:Alyeska Field Trip
DESCRIPTION:Site: TBA\nSubsite: TBA
URL:https://kpbsd.org/schools/nikiski-middle-high/event/alyeska-field-trip/
LOCATION:(unknown) (unknown)\, (unknown) (unknown)  (unknown)
END:VEVENT
BEGIN:VEVENT
DTSTART;TZID=UTC:20250404T050100
DTEND;TZID=UTC:20250404T050100
DTSTAMP:20260421T124507
CREATED:20250201T072513Z
LAST-MODIFIED:20250316T211115Z
UID:14149-1743742860-1743742860@kpbsd.org
SUMMARY:Coed Varsity Track - Outdoor
DESCRIPTION:Sport: Track – Outdoor\nLevel: Coed Varsity\nTeam: Nikiski High School\nSite: Not Listed
URL:https://kpbsd.org/schools/nikiski-middle-high/event/coed-varsity-track-outdoor-2/
LOCATION:Unknown\, Long Island City\, NY\, United States
END:VEVENT
BEGIN:VEVENT
DTSTART;TZID=UTC:20250404T080100
DTEND;TZID=UTC:20250405T080100
DTSTAMP:20260421T124507
CREATED:20241127T062841Z
LAST-MODIFIED:20250405T041257Z
UID:13626-1743753660-1743840060@kpbsd.org
SUMMARY:Boys Soccer Jamboree
DESCRIPTION:Games:\nSport: Soccer\nLevel: Boys Varsity\nTeam: Nikiski High School
URL:https://kpbsd.org/schools/nikiski-middle-high/event/boys-soccer-jamboree-2/
LOCATION:AK
END:VEVENT
BEGIN:VEVENT
DTSTART;TZID=UTC:20250404T080100
DTEND;TZID=UTC:20250405T080100
DTSTAMP:20260421T124507
CREATED:20250201T072515Z
LAST-MODIFIED:20250405T041257Z
UID:14158-1743753660-1743840060@kpbsd.org
SUMMARY:Girls Soccer Jamboree
DESCRIPTION:Games:\nSport: Soccer\nLevel: Girls Varsity\nTeam: Nikiski High School
URL:https://kpbsd.org/schools/nikiski-middle-high/event/girls-soccer-jamboree-2/
LOCATION:AK
END:VEVENT
BEGIN:VEVENT
DTSTART;TZID=UTC:20250405T050100
DTEND;TZID=UTC:20250405T050100
DTSTAMP:20260421T124507
CREATED:20250201T072514Z
LAST-MODIFIED:20250316T211115Z
UID:14155-1743829260-1743829260@kpbsd.org
SUMMARY:Coed Varsity Track - Outdoor
DESCRIPTION:Sport: Track – Outdoor\nLevel: Coed Varsity\nTeam: Nikiski High School\nSite: Not Listed
URL:https://kpbsd.org/schools/nikiski-middle-high/event/coed-varsity-track-outdoor-3/
LOCATION:Unknown\, Long Island City\, NY\, United States
END:VEVENT
BEGIN:VEVENT
DTSTART;TZID=UTC:20250407T140000
DTEND;TZID=UTC:20250407T210000
DTSTAMP:20260421T124507
CREATED:20240816T220641Z
LAST-MODIFIED:20250407T043105Z
UID:12094-1744034400-1744059600@kpbsd.org
SUMMARY:HS Honor Band
DESCRIPTION:Site: TBA\nSubsite: TBA
URL:https://kpbsd.org/schools/nikiski-middle-high/event/hs-honor-band/
LOCATION:(unknown) (unknown)\, (unknown) (unknown)  (unknown)
END:VEVENT
BEGIN:VEVENT
DTSTART;TZID=UTC:20250408T000000
DTEND;TZID=UTC:20250408T020000
DTSTAMP:20260421T124507
CREATED:20250130T065221Z
LAST-MODIFIED:20250407T043105Z
UID:14119-1744070400-1744077600@kpbsd.org
SUMMARY:Girls Varsity Soccer @ Kenai Central High School
DESCRIPTION:Sport: Soccer\nLevel: Girls Varsity\nTeam: Nikiski High School\nSite: Kenai Central High School\nSubsite: Ed Hollier Stadium
URL:https://kpbsd.org/schools/nikiski-middle-high/event/girls-varsity-soccer-kenai-central-high-school-8/
LOCATION:9583 Kenai Spur Hwy\, Kenai\, AK\, United States
END:VEVENT
BEGIN:VEVENT
DTSTART;TZID=UTC:20250408T230000
DTEND;TZID=UTC:20250409T010000
DTSTAMP:20260421T124507
CREATED:20240816T220641Z
LAST-MODIFIED:20250408T045150Z
UID:12097-1744153200-1744160400@kpbsd.org
SUMMARY:HS Mass Band @ Homer
DESCRIPTION:Site: TBA\nSubsite: TBA
URL:https://kpbsd.org/schools/nikiski-middle-high/event/hs-mass-band-homer/
LOCATION:(unknown) (unknown)\, (unknown) (unknown)  (unknown)
END:VEVENT
BEGIN:VEVENT
DTSTART;TZID=America/Anchorage:20250411T080000
DTEND;TZID=America/Anchorage:20250411T170000
DTSTAMP:20260421T124507
CREATED:20240516T131137Z
LAST-MODIFIED:20250411T204838Z
UID:11472-1744358400-1744390800@kpbsd.org
SUMMARY:Early Release
DESCRIPTION:
URL:https://kpbsd.org/schools/nikiski-middle-high/event/early-release-47/
LOCATION:AK
CATEGORIES:Districtwide Calendar
END:VEVENT
BEGIN:VEVENT
DTSTART;TZID=UTC:20250411T204500
DTEND;TZID=UTC:20250411T221500
DTSTAMP:20260421T124507
CREATED:20240908T233642Z
LAST-MODIFIED:20250411T053140Z
UID:12368-1744404300-1744409700@kpbsd.org
SUMMARY:Early Release Day
DESCRIPTION:Site: Nikiski High School\nSubsite: Commons
URL:https://kpbsd.org/schools/nikiski-middle-high/event/early-release-day-8/
LOCATION:52275 Education Drive\, 52801 Nikiski Ave\, Kenai\, AK\, United States
END:VEVENT
BEGIN:VEVENT
DTSTART;TZID=UTC:20250412T080100
DTEND;TZID=UTC:20250412T083100
DTSTAMP:20260421T124507
CREATED:20250201T072530Z
LAST-MODIFIED:20250412T054552Z
UID:14159-1744444860-1744446660@kpbsd.org
SUMMARY:Prom
DESCRIPTION:Site: Nikiski High School\nSubsite: Commons
URL:https://kpbsd.org/schools/nikiski-middle-high/event/prom-3/
LOCATION:52275 Education Drive\, 52801 Nikiski Ave\, Kenai\, AK\, United States
END:VEVENT
BEGIN:VEVENT
DTSTART;TZID=UTC:20250415T133000
DTEND;TZID=UTC:20250415T193000
DTSTAMP:20260421T124507
CREATED:20240514T190951Z
LAST-MODIFIED:20250415T063329Z
UID:11173-1744723800-1744745400@kpbsd.org
SUMMARY:Mass Choir @ SOHI
DESCRIPTION:Site: TBA\nSubsite: TBA
URL:https://kpbsd.org/schools/nikiski-middle-high/event/mass-choir-sohi/
LOCATION:(unknown) (unknown)\, (unknown) (unknown)  (unknown)
END:VEVENT
END:VCALENDAR