BEGIN:VCALENDAR
VERSION:2.0
PRODID:-//Nikiski Middle &amp; High School - ECPv6.8.2//NONSGML v1.0//EN
CALSCALE:GREGORIAN
METHOD:PUBLISH
X-WR-CALNAME:Nikiski Middle &amp; High School
X-ORIGINAL-URL:https://kpbsd.org/schools/nikiski-middle-high
X-WR-CALDESC:Events for Nikiski Middle &amp; High School
REFRESH-INTERVAL;VALUE=DURATION:PT1H
X-Robots-Tag:noindex
X-PUBLISHED-TTL:PT1H
BEGIN:VTIMEZONE
TZID:UTC
BEGIN:STANDARD
TZOFFSETFROM:+0000
TZOFFSETTO:+0000
TZNAME:UTC
DTSTART:20260101T000000
END:STANDARD
TZID:America/Anchorage
BEGIN:DAYLIGHT
TZOFFSETFROM:-0900
TZOFFSETTO:-0800
TZNAME:AKDT
DTSTART:20260308T110000
END:DAYLIGHT
BEGIN:STANDARD
TZOFFSETFROM:-0800
TZOFFSETTO:-0900
TZNAME:AKST
DTSTART:20261101T100000
END:STANDARD
END:VTIMEZONE
BEGIN:VEVENT
DTSTART;TZID=UTC:20260124T190000
DTEND;TZID=UTC:20260125T010000
DTSTAMP:20260421T235837
CREATED:20250517T163105Z
LAST-MODIFIED:20260124T103616Z
UID:15697-1769281200-1769302800@kpbsd.org
SUMMARY:Coed 6/7/8th Wrestling vs CHAPMAN SCHOOL
DESCRIPTION:Sport: Wrestling\nLevel: Coed 6/7/8th\nTeam: Nikiski High School\nSite: Nikiski High School\nSubsite: Gym
URL:https://kpbsd.org/schools/nikiski-middle-high/event/coed-6-7-8th-wrestling-vs-chapman-school/
LOCATION:52275 Education Drive\, 52801 Nikiski Ave\, Kenai\, AK\, United States
END:VEVENT
BEGIN:VEVENT
DTSTART;TZID=UTC:20260126T150000
DTEND;TZID=UTC:20260126T220000
DTSTAMP:20260421T235837
CREATED:20250819T102449Z
LAST-MODIFIED:20260126T105416Z
UID:16944-1769439600-1769464800@kpbsd.org
SUMMARY:Region Meeting
DESCRIPTION:Site: TBA\nSubsite: TBA
URL:https://kpbsd.org/schools/nikiski-middle-high/event/region-meeting/
LOCATION:(unknown) (unknown)\, (unknown) (unknown)  (unknown)
END:VEVENT
BEGIN:VEVENT
DTSTART;TZID=UTC:20260127T150000
DTEND;TZID=UTC:20260127T220000
DTSTAMP:20260421T235837
CREATED:20250819T102449Z
LAST-MODIFIED:20260127T110505Z
UID:16947-1769526000-1769551200@kpbsd.org
SUMMARY:Region Meeting
DESCRIPTION:Site: TBA\nSubsite: TBA
URL:https://kpbsd.org/schools/nikiski-middle-high/event/region-meeting-2/
LOCATION:(unknown) (unknown)\, (unknown) (unknown)  (unknown)
END:VEVENT
BEGIN:VEVENT
DTSTART;TZID=UTC:20260128T000000
DTEND;TZID=UTC:20260128T003000
DTSTAMP:20260421T235837
CREATED:20251203T030917Z
LAST-MODIFIED:20260127T110505Z
UID:17785-1769558400-1769560200@kpbsd.org
SUMMARY:Girls Freshman Basketball @ Soldotna High School
DESCRIPTION:Sport: Basketball\nLevel: Girls Freshman\nTeam: Nikiski High School\nSite: Soldotna High School\nSubsite: Gym
URL:https://kpbsd.org/schools/nikiski-middle-high/event/girls-freshman-basketball-soldotna-high-school-5/
LOCATION:425 W Marydale Ave\, Soldotna\, AK\, United States
END:VEVENT
BEGIN:VEVENT
DTSTART;TZID=UTC:20260128T000000
DTEND;TZID=UTC:20260128T020000
DTSTAMP:20260421T235837
CREATED:20250517T163105Z
LAST-MODIFIED:20260127T110506Z
UID:15700-1769558400-1769565600@kpbsd.org
SUMMARY:Girls 7/8th Volleyball vs Homer Middle School
DESCRIPTION:Sport: Volleyball\nLevel: Girls 7/8th\nTeam: Nikiski High School\nSite: Nikiski High School\nSubsite: Gym
URL:https://kpbsd.org/schools/nikiski-middle-high/event/girls-7-8th-volleyball-vs-homer-middle-school-4/
LOCATION:52275 Education Drive\, 52801 Nikiski Ave\, Kenai\, AK\, United States
END:VEVENT
BEGIN:VEVENT
DTSTART;TZID=UTC:20260128T013000
DTEND;TZID=UTC:20260128T020000
DTSTAMP:20260421T235837
CREATED:20251203T030917Z
LAST-MODIFIED:20260127T110505Z
UID:17788-1769563800-1769565600@kpbsd.org
SUMMARY:Boys Freshman Basketball @ Soldotna High School
DESCRIPTION:Sport: Basketball\nLevel: Boys Freshman\nTeam: Nikiski High School\nSite: Soldotna High School\nSubsite: Gym
URL:https://kpbsd.org/schools/nikiski-middle-high/event/boys-freshman-basketball-soldotna-high-school-4/
LOCATION:425 W Marydale Ave\, Soldotna\, AK\, United States
END:VEVENT
BEGIN:VEVENT
DTSTART;TZID=UTC:20260128T030000
DTEND;TZID=UTC:20260128T033000
DTSTAMP:20260421T235837
CREATED:20251203T030918Z
LAST-MODIFIED:20260127T110506Z
UID:17791-1769569200-1769571000@kpbsd.org
SUMMARY:Girls JV Basketball @ Soldotna High School
DESCRIPTION:Sport: Basketball\nLevel: Girls JV\nTeam: Nikiski High School\nSite: Soldotna High School\nSubsite: Gym
URL:https://kpbsd.org/schools/nikiski-middle-high/event/girls-jv-basketball-soldotna-high-school-4/
LOCATION:425 W Marydale Ave\, Soldotna\, AK\, United States
END:VEVENT
BEGIN:VEVENT
DTSTART;TZID=UTC:20260128T043000
DTEND;TZID=UTC:20260128T050000
DTSTAMP:20260421T235837
CREATED:20251203T030918Z
LAST-MODIFIED:20260127T110506Z
UID:17794-1769574600-1769576400@kpbsd.org
SUMMARY:Boys JV Basketball @ Soldotna High School
DESCRIPTION:Sport: Basketball\nLevel: Boys JV\nTeam: Nikiski High School\nSite: Soldotna High School\nSubsite: Gym
URL:https://kpbsd.org/schools/nikiski-middle-high/event/boys-jv-basketball-soldotna-high-school-4/
LOCATION:425 W Marydale Ave\, Soldotna\, AK\, United States
END:VEVENT
BEGIN:VEVENT
DTSTART;TZID=UTC:20260128T150000
DTEND;TZID=UTC:20260128T220000
DTSTAMP:20260421T235837
CREATED:20250819T102450Z
LAST-MODIFIED:20260128T155313Z
UID:16950-1769612400-1769637600@kpbsd.org
SUMMARY:Region Meeting
DESCRIPTION:Site: TBA\nSubsite: TBA
URL:https://kpbsd.org/schools/nikiski-middle-high/event/region-meeting-3/
LOCATION:(unknown) (unknown)\, (unknown) (unknown)  (unknown)
END:VEVENT
BEGIN:VEVENT
DTSTART;TZID=UTC:20260130T000000
DTEND;TZID=UTC:20260130T000000
DTSTAMP:20260421T235837
CREATED:20250220T120906Z
LAST-MODIFIED:20260129T152001Z
UID:14505-1769731200-1769731200@kpbsd.org
SUMMARY:Girls JV Basketball vs Homer High School
DESCRIPTION:Sport: Basketball\nLevel: Girls JV\nTeam: Nikiski High School\nSite: Nikiski High School\nSubsite: Gym
URL:https://kpbsd.org/schools/nikiski-middle-high/event/girls-jv-basketball-vs-homer-high-school-6/
LOCATION:52275 Education Drive\, 52801 Nikiski Ave\, Kenai\, AK\, United States
END:VEVENT
BEGIN:VEVENT
DTSTART;TZID=UTC:20260130T013000
DTEND;TZID=UTC:20260130T013000
DTSTAMP:20260421T235837
CREATED:20250220T120906Z
LAST-MODIFIED:20260129T152002Z
UID:14508-1769736600-1769736600@kpbsd.org
SUMMARY:Boys JV Basketball vs Homer High School
DESCRIPTION:Sport: Basketball\nLevel: Boys JV\nTeam: Nikiski High School\nSite: Nikiski High School\nSubsite: Gym
URL:https://kpbsd.org/schools/nikiski-middle-high/event/boys-jv-basketball-vs-homer-high-school-6/
LOCATION:52275 Education Drive\, 52801 Nikiski Ave\, Kenai\, AK\, United States
END:VEVENT
BEGIN:VEVENT
DTSTART;TZID=UTC:20260130T030000
DTEND;TZID=UTC:20260130T030000
DTSTAMP:20260421T235837
CREATED:20250220T120907Z
LAST-MODIFIED:20260129T152002Z
UID:14511-1769742000-1769742000@kpbsd.org
SUMMARY:Girls Varsity Basketball vs Homer High School
DESCRIPTION:Sport: Basketball\nLevel: Girls Varsity\nTeam: Nikiski High School\nSite: Nikiski High School\nSubsite: Gym
URL:https://kpbsd.org/schools/nikiski-middle-high/event/girls-varsity-basketball-vs-homer-high-school-6/
LOCATION:52275 Education Drive\, 52801 Nikiski Ave\, Kenai\, AK\, United States
END:VEVENT
BEGIN:VEVENT
DTSTART;TZID=UTC:20260130T043000
DTEND;TZID=UTC:20260130T043000
DTSTAMP:20260421T235837
CREATED:20250220T120907Z
LAST-MODIFIED:20260129T152002Z
UID:14514-1769747400-1769747400@kpbsd.org
SUMMARY:Boys Varsity Basketball vs Homer High School
DESCRIPTION:Sport: Basketball\nLevel: Boys Varsity\nTeam: Nikiski High School\nSite: Nikiski High School\nSubsite: Gym
URL:https://kpbsd.org/schools/nikiski-middle-high/event/boys-varsity-basketball-vs-homer-high-school-6/
LOCATION:52275 Education Drive\, 52801 Nikiski Ave\, Kenai\, AK\, United States
END:VEVENT
BEGIN:VEVENT
DTSTART;TZID=UTC:20260131T190000
DTEND;TZID=UTC:20260131T230000
DTSTAMP:20260421T235837
CREATED:20260115T095259Z
LAST-MODIFIED:20260131T153740Z
UID:18015-1769886000-1769900400@kpbsd.org
SUMMARY:Girls 7/8th Volleyball @ Kenai Middle School
DESCRIPTION:Sport: Volleyball\nLevel: Girls 7/8th\nTeam: Nikiski High School\nSite: Kenai Middle School
URL:https://kpbsd.org/schools/nikiski-middle-high/event/girls-7-8th-volleyball-kenai-middle-school-8/
LOCATION:201 Tinker Ln\, Kenai\, AK\, United States
END:VEVENT
BEGIN:VEVENT
DTSTART;TZID=UTC:20260131T190000
DTEND;TZID=UTC:20260201T010000
DTSTAMP:20260421T235837
CREATED:20250517T163107Z
LAST-MODIFIED:20260131T153740Z
UID:15703-1769886000-1769907600@kpbsd.org
SUMMARY:Coed 6/7/8th Wrestling @ Skyview Middle School
DESCRIPTION:Sport: Wrestling\nLevel: Coed 6/7/8th\nTeam: Nikiski High School\nSite: Skyview Middle School
URL:https://kpbsd.org/schools/nikiski-middle-high/event/coed-6-7-8th-wrestling-skyview-middle-school-4/
LOCATION:46188 Sterling Hwy\, 100 N Soldotna Ave\, Soldotna\, AK\, United States
END:VEVENT
BEGIN:VEVENT
DTSTART;TZID=UTC:20260131T193000
DTEND;TZID=UTC:20260131T210000
DTSTAMP:20260421T235837
CREATED:20260120T101139Z
LAST-MODIFIED:20260131T153740Z
UID:18031-1769887800-1769893200@kpbsd.org
SUMMARY:Boys Freshman Basketball vs Grace Christian High School
DESCRIPTION:Sport: Basketball\nLevel: Boys Freshman\nTeam: Nikiski High School\nSite: Nikiski High School\nSubsite: Gym
URL:https://kpbsd.org/schools/nikiski-middle-high/event/boys-freshman-basketball-vs-grace-christian-high-school/
LOCATION:52275 Education Drive\, 52801 Nikiski Ave\, Kenai\, AK\, United States
END:VEVENT
BEGIN:VEVENT
DTSTART;TZID=UTC:20260131T210000
DTEND;TZID=UTC:20260131T210000
DTSTAMP:20260421T235837
CREATED:20250220T120907Z
LAST-MODIFIED:20260131T153740Z
UID:14517-1769893200-1769893200@kpbsd.org
SUMMARY:Girls JV Basketball vs Grace Christian High School
DESCRIPTION:Sport: Basketball\nLevel: Girls JV\nTeam: Nikiski High School\nSite: Nikiski High School\nSubsite: Gym
URL:https://kpbsd.org/schools/nikiski-middle-high/event/girls-jv-basketball-vs-grace-christian-high-school-4/
LOCATION:52275 Education Drive\, 52801 Nikiski Ave\, Kenai\, AK\, United States
END:VEVENT
BEGIN:VEVENT
DTSTART;TZID=UTC:20260131T223000
DTEND;TZID=UTC:20260131T223000
DTSTAMP:20260421T235837
CREATED:20250220T120908Z
LAST-MODIFIED:20260131T153740Z
UID:14520-1769898600-1769898600@kpbsd.org
SUMMARY:Boys JV Basketball vs Grace Christian High School
DESCRIPTION:Sport: Basketball\nLevel: Boys JV\nTeam: Nikiski High School\nSite: Nikiski High School\nSubsite: Gym
URL:https://kpbsd.org/schools/nikiski-middle-high/event/boys-jv-basketball-vs-grace-christian-high-school-3/
LOCATION:52275 Education Drive\, 52801 Nikiski Ave\, Kenai\, AK\, United States
END:VEVENT
BEGIN:VEVENT
DTSTART;TZID=UTC:20260201T000000
DTEND;TZID=UTC:20260201T013000
DTSTAMP:20260421T235837
CREATED:20250220T120922Z
LAST-MODIFIED:20260131T153741Z
UID:14522-1769904000-1769909400@kpbsd.org
SUMMARY:Girls Varsity Basketball vs Grace Christian High School
DESCRIPTION:Sport: Basketball\nLevel: Girls Varsity\nTeam: Nikiski High School\nSite: Nikiski High School\nSubsite: Gym
URL:https://kpbsd.org/schools/nikiski-middle-high/event/girls-varsity-basketball-vs-grace-christian-high-school-varsity-girls/
LOCATION:52275 Education Drive\, 52801 Nikiski Ave\, Kenai\, AK\, United States
END:VEVENT
BEGIN:VEVENT
DTSTART;TZID=UTC:20260202T180000
DTEND;TZID=UTC:20260203T000000
DTSTAMP:20260421T235837
CREATED:20250915T162038Z
LAST-MODIFIED:20260202T154810Z
UID:17162-1770055200-1770076800@kpbsd.org
SUMMARY:HS Mass Choir @ KCHS
DESCRIPTION:Site: Nikiski High School\nSubsite: Auditorium
URL:https://kpbsd.org/schools/nikiski-middle-high/event/hs-mass-choir-kchs-2/
LOCATION:52275 Education Drive\, 52801 Nikiski Ave\, Kenai\, AK\, United States
END:VEVENT
BEGIN:VEVENT
DTSTART;TZID=UTC:20260203T001500
DTEND;TZID=UTC:20260203T021500
DTSTAMP:20260421T235837
CREATED:20260110T082707Z
LAST-MODIFIED:20260202T154811Z
UID:17975-1770077700-1770084900@kpbsd.org
SUMMARY:Girls 7/8th Volleyball @ CHAPMAN SCHOOL
DESCRIPTION:Sport: Volleyball\nLevel: Girls 7/8th\nTeam: Nikiski High School\nSite: CHAPMAN SCHOOL\nSubsite: Gym
URL:https://kpbsd.org/schools/nikiski-middle-high/event/girls-7-8th-volleyball-chapman-school/
LOCATION:73286 School Ave\, Anchor Point\, AK\, United States
END:VEVENT
BEGIN:VEVENT
DTSTART;TZID=UTC:20260204T000000
DTEND;TZID=UTC:20260204T020000
DTSTAMP:20260421T235837
CREATED:20250517T163108Z
LAST-MODIFIED:20260203T155529Z
UID:15706-1770163200-1770170400@kpbsd.org
SUMMARY:Girls 7/8th Volleyball @ Seward Middle School
DESCRIPTION:Sport: Volleyball\nLevel: Girls 7/8th\nTeam: Nikiski High School\nSite: Seward Middle School
URL:https://kpbsd.org/schools/nikiski-middle-high/event/girls-7-8th-volleyball-seward-middle-school-4/
LOCATION:PO Box 1149\, Seward\, AK\, United States
END:VEVENT
BEGIN:VEVENT
DTSTART;TZID=UTC:20260204T040000
DTEND;TZID=UTC:20260204T060000
DTSTAMP:20260421T235837
CREATED:20250915T162039Z
LAST-MODIFIED:20260203T155529Z
UID:17165-1770177600-1770184800@kpbsd.org
SUMMARY:HS Mass Choir @ KCHS
DESCRIPTION:Site: Nikiski High School\nSubsite: Auditorium
URL:https://kpbsd.org/schools/nikiski-middle-high/event/hs-mass-choir-kchs-3/
LOCATION:52275 Education Drive\, 52801 Nikiski Ave\, Kenai\, AK\, United States
END:VEVENT
BEGIN:VEVENT
DTSTART;TZID=UTC:20260206T000000
DTEND;TZID=UTC:20260206T013000
DTSTAMP:20260421T235837
CREATED:20260109T081813Z
LAST-MODIFIED:20260205T162346Z
UID:17949-1770336000-1770341400@kpbsd.org
SUMMARY:G-Varsity Basketball vs Grace Christian High School
DESCRIPTION:Sport: Basketball\nLevel: G-Varsity\nTeam: Nikiski High School\nSite: Homer High School\nSubsite: Gym
URL:https://kpbsd.org/schools/nikiski-middle-high/event/g-varsity-basketball-vs-grace-christian-high-school/
LOCATION:600 E Fairview Ave\, Homer\, AK\, United States
END:VEVENT
BEGIN:VEVENT
DTSTART;TZID=UTC:20260206T013000
DTEND;TZID=UTC:20260206T030000
DTSTAMP:20260421T235837
CREATED:20260109T081813Z
LAST-MODIFIED:20260205T162346Z
UID:17952-1770341400-1770346800@kpbsd.org
SUMMARY:B-Varsity Basketball vs Ninilchik High School
DESCRIPTION:Sport: Basketball\nLevel: B-Varsity\nTeam: Nikiski High School\nSite: Homer High School\nSubsite: Gym
URL:https://kpbsd.org/schools/nikiski-middle-high/event/b-varsity-basketball-vs-ninilchik-high-school/
LOCATION:600 E Fairview Ave\, Homer\, AK\, United States
END:VEVENT
BEGIN:VEVENT
DTSTART;TZID=UTC:20260206T013000
DTEND;TZID=UTC:20260208T013000
DTSTAMP:20260421T235837
CREATED:20250423T083821Z
LAST-MODIFIED:20260207T163546Z
UID:15006-1770341400-1770514200@kpbsd.org
SUMMARY:Homer Winter Carnival Basketball Tournament- BOYS
DESCRIPTION:Games:\n2/5/2026 B-Varsity Basketball\n2/6/2026 B-Varsity Basketball\n2/7/2026 B-Varsity Basketball\nSport: Basketball\nLevel: Boys Varsity\nTeam: Nikiski High School
URL:https://kpbsd.org/schools/nikiski-middle-high/event/homer-winter-carnival-basketball-tournament/
LOCATION:AK
END:VEVENT
BEGIN:VEVENT
DTSTART;TZID=America/Anchorage:20260206T080000
DTEND;TZID=America/Anchorage:20260206T170000
DTSTAMP:20260421T235837
CREATED:20250906T010715Z
LAST-MODIFIED:20260131T030506Z
UID:17077-1770364800-1770397200@kpbsd.org
SUMMARY:Early Release
DESCRIPTION:
URL:https://kpbsd.org/schools/nikiski-middle-high/event/early-release-53/
LOCATION:AK
CATEGORIES:Districtwide Calendar
END:VEVENT
BEGIN:VEVENT
DTSTART;TZID=UTC:20260206T220000
DTEND;TZID=UTC:20260206T233000
DTSTAMP:20260421T235837
CREATED:20251107T232009Z
LAST-MODIFIED:20260206T163506Z
UID:17686-1770415200-1770420600@kpbsd.org
SUMMARY:Early Release Day
DESCRIPTION:Site: Nikiski High School\nSubsite: Commons
URL:https://kpbsd.org/schools/nikiski-middle-high/event/early-release-day-12/
LOCATION:52275 Education Drive\, 52801 Nikiski Ave\, Kenai\, AK\, United States
END:VEVENT
BEGIN:VEVENT
DTSTART;TZID=UTC:20260207T030000
DTEND;TZID=UTC:20260207T043000
DTSTAMP:20260421T235837
CREATED:20260109T081813Z
LAST-MODIFIED:20260206T163507Z
UID:17955-1770433200-1770438600@kpbsd.org
SUMMARY:G-Varsity Basketball @ Homer High School
DESCRIPTION:Sport: Basketball\nLevel: G-Varsity\nTeam: Nikiski High School\nSite: Homer High School\nSubsite: Gym
URL:https://kpbsd.org/schools/nikiski-middle-high/event/g-varsity-basketball-homer-high-school/
LOCATION:600 E Fairview Ave\, Homer\, AK\, United States
END:VEVENT
BEGIN:VEVENT
DTSTART;TZID=UTC:20260207T043000
DTEND;TZID=UTC:20260207T060000
DTSTAMP:20260421T235837
CREATED:20260109T081814Z
LAST-MODIFIED:20260206T163507Z
UID:17958-1770438600-1770444000@kpbsd.org
SUMMARY:B-Varsity Basketball @ Homer High School
DESCRIPTION:Sport: Basketball\nLevel: B-Varsity\nTeam: Nikiski High School\nSite: Homer High School\nSubsite: Gym
URL:https://kpbsd.org/schools/nikiski-middle-high/event/b-varsity-basketball-homer-high-school/
LOCATION:600 E Fairview Ave\, Homer\, AK\, United States
END:VEVENT
END:VCALENDAR