BEGIN:VCALENDAR
VERSION:2.0
PRODID:-//Nikiski Middle &amp; High School - ECPv6.8.2//NONSGML v1.0//EN
CALSCALE:GREGORIAN
METHOD:PUBLISH
X-ORIGINAL-URL:https://kpbsd.org/schools/nikiski-middle-high
X-WR-CALDESC:Events for Nikiski Middle &amp; High School
REFRESH-INTERVAL;VALUE=DURATION:PT1H
X-Robots-Tag:noindex
X-PUBLISHED-TTL:PT1H
BEGIN:VTIMEZONE
TZID:UTC
BEGIN:STANDARD
TZOFFSETFROM:+0000
TZOFFSETTO:+0000
TZNAME:UTC
DTSTART:20260101T000000
END:STANDARD
TZID:America/Anchorage
BEGIN:DAYLIGHT
TZOFFSETFROM:-0900
TZOFFSETTO:-0800
TZNAME:AKDT
DTSTART:20260308T110000
END:DAYLIGHT
BEGIN:STANDARD
TZOFFSETFROM:-0800
TZOFFSETTO:-0900
TZNAME:AKST
DTSTART:20261101T100000
END:STANDARD
END:VTIMEZONE
BEGIN:VEVENT
DTSTART;TZID=UTC:20260925T230000
DTEND;TZID=UTC:20260927T000000
DTSTAMP:20260419T085256
CREATED:20260211T161114Z
LAST-MODIFIED:20260419T002036Z
UID:18613-1790377200-1790467200@kpbsd.org
SUMMARY:JV Volleyball Showdown at WHS
DESCRIPTION:Games:\nSport: Volleyball\nLevel: Girls JV\nTeam: Nikiski High School
URL:https://kpbsd.org/schools/nikiski-middle-high/event/jv-volleyball-showdown-at-whs/
LOCATION:AK
END:VEVENT
BEGIN:VEVENT
DTSTART;TZID=UTC:20260926T010000
DTEND;TZID=UTC:20260926T040000
DTSTAMP:20260419T085256
CREATED:20260318T220545Z
LAST-MODIFIED:20260419T002036Z
UID:19076-1790384400-1790395200@kpbsd.org
SUMMARY:Coed Varsity Football @ Seward High School
DESCRIPTION:Sport: Football\nLevel: Coed Varsity\nTeam: Nikiski High School\nSite: Seward High School\nSubsite: Football Field
URL:https://kpbsd.org/schools/nikiski-middle-high/event/boys-varsity-football-seward-high-school-4/
LOCATION:Po Box 1049\, Seward\, AK\, United States
END:VEVENT
BEGIN:VEVENT
DTSTART;TZID=UTC:20260926T080100
DTEND;TZID=UTC:20260926T080100
DTSTAMP:20260419T085256
CREATED:20260220T183839Z
LAST-MODIFIED:20260419T002036Z
UID:18697-1790409660-1790409660@kpbsd.org
SUMMARY:Girls Varsity Volleyball @ West Anchorage High School
DESCRIPTION:Sport: Volleyball\nLevel: Girls Varsity\nTeam: Nikiski High School\nSite: West Anchorage High School
URL:https://kpbsd.org/schools/nikiski-middle-high/event/girls-varsity-volleyball-west-anchorage-high-school-6/
LOCATION:1700 Hillcrest Dr\, Anchorage\, AK\, United States
END:VEVENT
BEGIN:VEVENT
DTSTART;TZID=UTC:20260930T000000
DTEND;TZID=UTC:20260930T010000
DTSTAMP:20260419T085256
CREATED:20260128T110621Z
LAST-MODIFIED:20260419T002036Z
UID:18155-1790726400-1790730000@kpbsd.org
SUMMARY:Girls Freshman Volleyball vs Homer High School
DESCRIPTION:Sport: Volleyball\nLevel: Girls Freshman\nTeam: Nikiski High School\nSite: Nikiski High School\nSubsite: Gym
URL:https://kpbsd.org/schools/nikiski-middle-high/event/girls-freshman-volleyball-vs-homer-high-school-6/
LOCATION:52275 Education Drive\, 52801 Nikiski Ave\, Kenai\, AK\, United States
END:VEVENT
BEGIN:VEVENT
DTSTART;TZID=UTC:20260930T010000
DTEND;TZID=UTC:20260930T020000
DTSTAMP:20260419T085256
CREATED:20260128T110622Z
LAST-MODIFIED:20260419T002036Z
UID:18161-1790730000-1790733600@kpbsd.org
SUMMARY:Girls JV Volleyball vs Homer High School
DESCRIPTION:Sport: Volleyball\nLevel: Girls JV\nTeam: Nikiski High School\nSite: Nikiski High School\nSubsite: Gym
URL:https://kpbsd.org/schools/nikiski-middle-high/event/girls-jv-volleyball-vs-homer-high-school-6/
LOCATION:52275 Education Drive\, 52801 Nikiski Ave\, Kenai\, AK\, United States
END:VEVENT
BEGIN:VEVENT
DTSTART;TZID=UTC:20260930T020000
DTEND;TZID=UTC:20260930T030000
DTSTAMP:20260419T085256
CREATED:20260128T110622Z
LAST-MODIFIED:20260419T002036Z
UID:18158-1790733600-1790737200@kpbsd.org
SUMMARY:Girls Varsity Volleyball vs Homer High School
DESCRIPTION:Sport: Volleyball\nLevel: Girls Varsity\nTeam: Nikiski High School\nSite: Nikiski High School\nSubsite: Gym
URL:https://kpbsd.org/schools/nikiski-middle-high/event/girls-varsity-volleyball-vs-homer-high-school-6/
LOCATION:52275 Education Drive\, 52801 Nikiski Ave\, Kenai\, AK\, United States
END:VEVENT
BEGIN:VEVENT
DTSTART;TZID=UTC:20260930T223000
DTEND;TZID=UTC:20261001T003000
DTSTAMP:20260419T085256
CREATED:20260221T185138Z
LAST-MODIFIED:20260419T002037Z
UID:18745-1790807400-1790814600@kpbsd.org
SUMMARY:First Wrestling Practice
DESCRIPTION:Site: Nikiski High School\nSubsite: Commons
URL:https://kpbsd.org/schools/nikiski-middle-high/event/first-wrestling-practice-2/
LOCATION:52275 Education Drive\, 52801 Nikiski Ave\, Kenai\, AK\, United States
END:VEVENT
BEGIN:VEVENT
DTSTART;TZID=UTC:20260930T230000
DTEND;TZID=UTC:20261001T010000
DTSTAMP:20260419T085256
CREATED:20260418T002012Z
LAST-MODIFIED:20260419T002037Z
UID:20805-1790809200-1790816400@kpbsd.org
SUMMARY:Girls Varsity Volleyball vs Unalaska High School
DESCRIPTION:Sport: Volleyball\nLevel: Girls Varsity\nTeam: Nikiski High School\nSite: Nikiski High School\nSubsite: Nikiski High School
URL:https://kpbsd.org/schools/nikiski-middle-high/event/girls-varsity-volleyball-vs-unalaska-high-school/
LOCATION:52275 Education Dr\, 52801 Nikiski Ave\, Kenai\, AK\, United States
END:VEVENT
BEGIN:VEVENT
DTSTART;TZID=UTC:20261003T000000
DTEND;TZID=UTC:20261003T010000
DTSTAMP:20260419T085256
CREATED:20260401T000621Z
LAST-MODIFIED:20260419T002038Z
UID:19855-1790985600-1790989200@kpbsd.org
SUMMARY:Girls Freshman Volleyball @ Mountain City Christian School
DESCRIPTION:Sport: Volleyball\nLevel: Girls Freshman\nTeam: Nikiski High School\nSite: Mountain City Christian Academy\nSubsite: MAIN GYM
URL:https://kpbsd.org/schools/nikiski-middle-high/event/girls-freshman-volleyball-mountain-city-christian-school-2/
LOCATION:6575 E. Northern Lights Blvd\, Anchorage\, AK\, United States
END:VEVENT
BEGIN:VEVENT
DTSTART;TZID=UTC:20261003T010000
DTEND;TZID=UTC:20261003T020000
DTSTAMP:20260419T085256
CREATED:20260401T000621Z
LAST-MODIFIED:20260419T002037Z
UID:19852-1790989200-1790992800@kpbsd.org
SUMMARY:Girls JV Volleyball @ Mountain City Christian School
DESCRIPTION:Sport: Volleyball\nLevel: Girls JV\nTeam: Nikiski High School\nSite: Mountain City Christian Academy\nSubsite: MAIN GYM
URL:https://kpbsd.org/schools/nikiski-middle-high/event/girls-jv-volleyball-mountain-city-christian-school-2/
LOCATION:6575 E. Northern Lights Blvd\, Anchorage\, AK\, United States
END:VEVENT
BEGIN:VEVENT
DTSTART;TZID=UTC:20261003T023000
DTEND;TZID=UTC:20261003T040000
DTSTAMP:20260419T085256
CREATED:20260401T000622Z
LAST-MODIFIED:20260419T002038Z
UID:19858-1790994600-1791000000@kpbsd.org
SUMMARY:Girls Varsity Volleyball @ Mountain City Christian School
DESCRIPTION:Sport: Volleyball\nLevel: Girls Varsity\nTeam: Nikiski High School\nSite: Mountain City Christian Academy\nSubsite: MAIN GYM
URL:https://kpbsd.org/schools/nikiski-middle-high/event/girls-varsity-volleyball-mountain-city-christian-school-2/
LOCATION:6575 E. Northern Lights Blvd\, Anchorage\, AK\, United States
END:VEVENT
BEGIN:VEVENT
DTSTART;TZID=UTC:20261003T080000
DTEND;TZID=UTC:20261003T090000
DTSTAMP:20260419T085256
CREATED:20260407T000600Z
LAST-MODIFIED:20260419T002038Z
UID:20254-1791014400-1791018000@kpbsd.org
SUMMARY:Girls Freshman Volleyball @ Grace Christian High School
DESCRIPTION:Sport: Volleyball\nLevel: Girls Freshman\nTeam: Nikiski High School\nSite: Grace Christian High School\nSubsite: South Gym
URL:https://kpbsd.org/schools/nikiski-middle-high/event/girls-freshman-volleyball-grace-christian-high-school-3/
LOCATION:12407 Pintail St\, Anchorage\, AK\, United States
END:VEVENT
BEGIN:VEVENT
DTSTART;TZID=UTC:20261003T200000
DTEND;TZID=UTC:20261003T220000
DTSTAMP:20260419T085256
CREATED:20260128T110623Z
LAST-MODIFIED:20260419T002038Z
UID:18164-1791057600-1791064800@kpbsd.org
SUMMARY:Coed Varsity Football vs Monroe Catholic High School
DESCRIPTION:Sport: Football\nLevel: Coed Varsity\nTeam: Nikiski High School\nSite: Nikiski High School\nSubsite: Football Field
URL:https://kpbsd.org/schools/nikiski-middle-high/event/coed-varsity-football-vs-monroe-catholic-high-school-2/
LOCATION:52275 Education Drive\, 52801 Nikiski Ave\, Kenai\, AK\, United States
END:VEVENT
BEGIN:VEVENT
DTSTART;TZID=UTC:20261003T210000
DTEND;TZID=UTC:20261003T220000
DTSTAMP:20260419T085256
CREATED:20260407T000601Z
LAST-MODIFIED:20260419T002038Z
UID:20257-1791061200-1791064800@kpbsd.org
SUMMARY:Girls JV Volleyball @ Grace Christian High School
DESCRIPTION:Sport: Volleyball\nLevel: Girls JV\nTeam: Nikiski High School\nSite: Grace Christian High School\nSubsite: South Gym
URL:https://kpbsd.org/schools/nikiski-middle-high/event/girls-jv-volleyball-grace-christian-high-school-4/
LOCATION:12407 Pintail St\, Anchorage\, AK\, United States
END:VEVENT
BEGIN:VEVENT
DTSTART;TZID=UTC:20261003T223000
DTEND;TZID=UTC:20261004T000000
DTSTAMP:20260419T085256
CREATED:20260407T000601Z
LAST-MODIFIED:20260419T002038Z
UID:20260-1791066600-1791072000@kpbsd.org
SUMMARY:Girls Varsity Volleyball @ Grace Christian High School
DESCRIPTION:Sport: Volleyball\nLevel: Girls Varsity\nTeam: Nikiski High School\nSite: Grace Christian High School\nSubsite: South Gym
URL:https://kpbsd.org/schools/nikiski-middle-high/event/girls-varsity-volleyball-grace-christian-high-school-2/
LOCATION:12407 Pintail St\, Anchorage\, AK\, United States
END:VEVENT
BEGIN:VEVENT
DTSTART;TZID=UTC:20261007T000000
DTEND;TZID=UTC:20261007T010000
DTSTAMP:20260419T085256
CREATED:20260331T000528Z
LAST-MODIFIED:20260419T002039Z
UID:19790-1791331200-1791334800@kpbsd.org
SUMMARY:Girls Freshman Volleyball @ Kenai Central High School
DESCRIPTION:Sport: Volleyball\nLevel: Girls Freshman\nTeam: Nikiski High School\nSite: Kenai Central High School\nSubsite: Gym
URL:https://kpbsd.org/schools/nikiski-middle-high/event/girls-freshman-volleyball-kenai-central-high-school-5/
LOCATION:9583 Kenai Spur Hwy\, Kenai\, AK\, United States
END:VEVENT
BEGIN:VEVENT
DTSTART;TZID=UTC:20261007T010000
DTEND;TZID=UTC:20261007T020000
DTSTAMP:20260419T085256
CREATED:20260331T000528Z
LAST-MODIFIED:20260419T002039Z
UID:19787-1791334800-1791338400@kpbsd.org
SUMMARY:Girls JV Volleyball @ Kenai Central High School
DESCRIPTION:Sport: Volleyball\nLevel: Girls JV\nTeam: Nikiski High School\nSite: Kenai Central High School\nSubsite: Gym
URL:https://kpbsd.org/schools/nikiski-middle-high/event/girls-jv-volleyball-kenai-central-high-school-7/
LOCATION:9583 Kenai Spur Hwy\, Kenai\, AK\, United States
END:VEVENT
BEGIN:VEVENT
DTSTART;TZID=UTC:20261007T020000
DTEND;TZID=UTC:20261007T040000
DTSTAMP:20260419T085256
CREATED:20260331T000529Z
LAST-MODIFIED:20260419T002039Z
UID:19793-1791338400-1791345600@kpbsd.org
SUMMARY:Girls Varsity Volleyball @ Kenai Central High School
DESCRIPTION:Sport: Volleyball\nLevel: Girls Varsity\nTeam: Nikiski High School\nSite: Kenai Central High School\nSubsite: Gym
URL:https://kpbsd.org/schools/nikiski-middle-high/event/girls-varsity-volleyball-kenai-central-high-school-6/
LOCATION:9583 Kenai Spur Hwy\, Kenai\, AK\, United States
END:VEVENT
BEGIN:VEVENT
DTSTART;TZID=UTC:20261009T080100
DTEND;TZID=UTC:20261010T080100
DTSTAMP:20260419T085256
CREATED:20260203T155559Z
LAST-MODIFIED:20260419T002039Z
UID:18555-1791532860-1791619260@kpbsd.org
SUMMARY:31st Annual Lady Grizzlies Volleyball Tournament
DESCRIPTION:Games:\nSport: Volleyball\nLevel: Girls Varsity\nTeam: Nikiski High School
URL:https://kpbsd.org/schools/nikiski-middle-high/event/31st-annual-lady-grizzlies-volleyball-tournament/
LOCATION:AK
END:VEVENT
BEGIN:VEVENT
DTSTART;TZID=UTC:20261015T050100
DTEND;TZID=UTC:20261015T050100
DTSTAMP:20260419T085256
CREATED:20260128T110623Z
LAST-MODIFIED:20260419T002039Z
UID:18167-1792040460-1792040460@kpbsd.org
SUMMARY:Girls Varsity Volleyball @ Sitka High School
DESCRIPTION:Sport: Volleyball\nLevel: Girls Varsity\nTeam: Nikiski High School\nSite: TBA\nSubsite: TBA
URL:https://kpbsd.org/schools/nikiski-middle-high/event/girls-varsity-volleyball-sitka-high-school-7/
LOCATION:(unknown) (unknown)\, (unknown) (unknown)  (unknown)
END:VEVENT
BEGIN:VEVENT
DTSTART;TZID=UTC:20261016T050100
DTEND;TZID=UTC:20261016T050100
DTSTAMP:20260419T085256
CREATED:20260128T110626Z
LAST-MODIFIED:20260419T002040Z
UID:18168-1792126860-1792126860@kpbsd.org
SUMMARY:Girls Varsity Volleyball @ Sitka High School
DESCRIPTION:Sport: Volleyball\nLevel: Girls Varsity\nTeam: Nikiski High School\nSite: TBA\nSubsite: TBA
URL:https://kpbsd.org/schools/nikiski-middle-high/event/girls-varsity-volleyball-sitka-high-school-8/
LOCATION:(unknown) (unknown)\, (unknown) (unknown)  (unknown)
END:VEVENT
BEGIN:VEVENT
DTSTART;TZID=UTC:20261016T080100
DTEND;TZID=UTC:20261016T083100
DTSTAMP:20260419T085256
CREATED:20260221T185139Z
LAST-MODIFIED:20260419T002040Z
UID:18748-1792137660-1792139460@kpbsd.org
SUMMARY:No School
DESCRIPTION:Site: Nikiski High School\nSubsite: Commons
URL:https://kpbsd.org/schools/nikiski-middle-high/event/no-school-77/
LOCATION:52275 Education Drive\, 52801 Nikiski Ave\, Kenai\, AK\, United States
END:VEVENT
BEGIN:VEVENT
DTSTART;TZID=UTC:20261016T080100
DTEND;TZID=UTC:20261017T080100
DTSTAMP:20260419T085256
CREATED:20260328T000512Z
LAST-MODIFIED:20260419T002040Z
UID:19582-1792137660-1792224060@kpbsd.org
SUMMARY:Homer Rumble Wrestling Tournament
DESCRIPTION:Games:\nSport: Wrestling\nLevel: Coed Varsity\nTeam: Nikiski High School
URL:https://kpbsd.org/schools/nikiski-middle-high/event/homer-rumble-wrestling-tournament-2/
LOCATION:AK
END:VEVENT
BEGIN:VEVENT
DTSTART;TZID=UTC:20261016T080100
DTEND;TZID=UTC:20261017T080100
DTSTAMP:20260419T085256
CREATED:20260401T000624Z
LAST-MODIFIED:20260408T065153Z
UID:19861-1792137660-1792224060@kpbsd.org
SUMMARY:HOUSTON ALTERCATION TOURNAMENT
DESCRIPTION:Games:\nSport: Wrestling\nLevel: Coed Varsity\nTeam: Nikiski High School
URL:https://kpbsd.org/schools/nikiski-middle-high/event/houston-altercation-tournament/
LOCATION:AK
END:VEVENT
BEGIN:VEVENT
DTSTART;TZID=UTC:20261017T050100
DTEND;TZID=UTC:20261017T050100
DTSTAMP:20260419T085256
CREATED:20260128T110626Z
LAST-MODIFIED:20260419T002040Z
UID:18171-1792213260-1792213260@kpbsd.org
SUMMARY:Girls Varsity Volleyball @ Sitka High School
DESCRIPTION:Sport: Volleyball\nLevel: Girls Varsity\nTeam: Nikiski High School\nSite: TBA\nSubsite: TBA
URL:https://kpbsd.org/schools/nikiski-middle-high/event/girls-varsity-volleyball-sitka-high-school-9/
LOCATION:(unknown) (unknown)\, (unknown) (unknown)  (unknown)
END:VEVENT
BEGIN:VEVENT
DTSTART;TZID=UTC:20261017T050100
DTEND;TZID=UTC:20261017T050100
DTSTAMP:20260419T085256
CREATED:20260319T220705Z
LAST-MODIFIED:20260419T002040Z
UID:19102-1792213260-1792213260@kpbsd.org
SUMMARY:Girls Varsity Volleyball @ Sitka High School
DESCRIPTION:Sport: Volleyball\nLevel: Girls Varsity\nTeam: Nikiski High School\nSite: TBA\nSubsite: TBA
URL:https://kpbsd.org/schools/nikiski-middle-high/event/girls-varsity-volleyball-sitka-high-school-10/
LOCATION:(unknown) (unknown)\, (unknown) (unknown)  (unknown)
END:VEVENT
BEGIN:VEVENT
DTSTART;TZID=UTC:20261021T000000
DTEND;TZID=UTC:20261021T003000
DTSTAMP:20260419T085256
CREATED:20260226T195129Z
LAST-MODIFIED:20260419T002043Z
UID:18974-1792540800-1792542600@kpbsd.org
SUMMARY:Girls Freshman Volleyball @ Soldotna High School
DESCRIPTION:Sport: Volleyball\nLevel: Girls Freshman\nTeam: Nikiski High School\nSite: Soldotna High School\nSubsite: Gym
URL:https://kpbsd.org/schools/nikiski-middle-high/event/girls-freshman-volleyball-soldotna-high-school-5/
LOCATION:425 W Marydale Ave\, Soldotna\, AK\, United States
END:VEVENT
BEGIN:VEVENT
DTSTART;TZID=UTC:20261021T010000
DTEND;TZID=UTC:20261021T013000
DTSTAMP:20260419T085256
CREATED:20260226T195130Z
LAST-MODIFIED:20260419T002043Z
UID:18977-1792544400-1792546200@kpbsd.org
SUMMARY:Girls JV Volleyball @ Soldotna High School
DESCRIPTION:Sport: Volleyball\nLevel: Girls JV\nTeam: Nikiski High School\nSite: Soldotna High School\nSubsite: Gym
URL:https://kpbsd.org/schools/nikiski-middle-high/event/girls-jv-volleyball-soldotna-high-school-5/
LOCATION:425 W Marydale Ave\, Soldotna\, AK\, United States
END:VEVENT
BEGIN:VEVENT
DTSTART;TZID=UTC:20261021T023000
DTEND;TZID=UTC:20261021T030000
DTSTAMP:20260419T085256
CREATED:20260226T195130Z
LAST-MODIFIED:20260419T002043Z
UID:18980-1792549800-1792551600@kpbsd.org
SUMMARY:Girls Varsity Volleyball @ Soldotna High School
DESCRIPTION:Sport: Volleyball\nLevel: Girls Varsity\nTeam: Nikiski High School\nSite: Soldotna High School\nSubsite: Gym
URL:https://kpbsd.org/schools/nikiski-middle-high/event/girls-varsity-volleyball-soldotna-high-school-5/
LOCATION:425 W Marydale Ave\, Soldotna\, AK\, United States
END:VEVENT
BEGIN:VEVENT
DTSTART;TZID=America/Anchorage:20261023T080000
DTEND;TZID=America/Anchorage:20261023T170000
DTSTAMP:20260419T085256
CREATED:20260411T035002Z
LAST-MODIFIED:20260418T040222Z
UID:20585-1792742400-1792774800@kpbsd.org
SUMMARY:Early Release Day
DESCRIPTION:
URL:https://kpbsd.org/schools/nikiski-middle-high/event/early-release-day-16/
LOCATION:AK
CATEGORIES:Districtwide Calendar
END:VEVENT
END:VCALENDAR