BEGIN:VCALENDAR
VERSION:2.0
PRODID:-//Nikiski Middle &amp; High School - ECPv6.8.2//NONSGML v1.0//EN
CALSCALE:GREGORIAN
METHOD:PUBLISH
X-WR-CALNAME:Nikiski Middle &amp; High School
X-ORIGINAL-URL:https://kpbsd.org/schools/nikiski-middle-high
X-WR-CALDESC:Events for Nikiski Middle &amp; High School
REFRESH-INTERVAL;VALUE=DURATION:PT1H
X-Robots-Tag:noindex
X-PUBLISHED-TTL:PT1H
BEGIN:VTIMEZONE
TZID:UTC
BEGIN:STANDARD
TZOFFSETFROM:+0000
TZOFFSETTO:+0000
TZNAME:UTC
DTSTART:20260101T000000
END:STANDARD
TZID:America/Anchorage
BEGIN:DAYLIGHT
TZOFFSETFROM:-0900
TZOFFSETTO:-0800
TZNAME:AKDT
DTSTART:20260308T110000
END:DAYLIGHT
BEGIN:STANDARD
TZOFFSETFROM:-0800
TZOFFSETTO:-0900
TZNAME:AKST
DTSTART:20261101T100000
END:STANDARD
END:VTIMEZONE
BEGIN:VEVENT
DTSTART;TZID=UTC:20261105T090100
DTEND;TZID=UTC:20261107T090100
DTSTAMP:20260425T055513
CREATED:20260328T000517Z
LAST-MODIFIED:20260425T135037Z
UID:19585-1793869260-1794042060@kpbsd.org
SUMMARY:Southcentral Volleyball Championships @Homer
DESCRIPTION:Games:\nSport: Volleyball\nLevel: Girls Varsity\nTeam: Nikiski High School
URL:https://kpbsd.org/schools/nikiski-middle-high/event/southcentral-volleyball-championships-homer/
LOCATION:AK
END:VEVENT
BEGIN:VEVENT
DTSTART;TZID=UTC:20261106T090100
DTEND;TZID=UTC:20261106T090100
DTSTAMP:20260425T055513
CREATED:20260409T000804Z
LAST-MODIFIED:20260425T135037Z
UID:20411-1793955660-1793955660@kpbsd.org
SUMMARY:Coed Varsity Wrestling @ Soldotna High School
DESCRIPTION:Sport: Wrestling\nLevel: Coed Varsity\nTeam: Nikiski High School\nSite: Soldotna High School\nSubsite: Gym
URL:https://kpbsd.org/schools/nikiski-middle-high/event/coed-varsity-wrestling-soldotna-high-school-7/
LOCATION:425 W Marydale Ave\, Soldotna\, AK\, United States
END:VEVENT
BEGIN:VEVENT
DTSTART;TZID=UTC:20261107T090100
DTEND;TZID=UTC:20261107T090100
DTSTAMP:20260425T055513
CREATED:20260409T000804Z
LAST-MODIFIED:20260425T135037Z
UID:20414-1794042060-1794042060@kpbsd.org
SUMMARY:Coed Varsity Wrestling @ Soldotna High School
DESCRIPTION:Sport: Wrestling\nLevel: Coed Varsity\nTeam: Nikiski High School\nSite: Soldotna High School\nSubsite: Gym
URL:https://kpbsd.org/schools/nikiski-middle-high/event/coed-varsity-wrestling-soldotna-high-school-8/
LOCATION:425 W Marydale Ave\, Soldotna\, AK\, United States
END:VEVENT
BEGIN:VEVENT
DTSTART;TZID=UTC:20261113T183000
DTEND;TZID=UTC:20261115T040000
DTSTAMP:20260425T055513
CREATED:20260203T155603Z
LAST-MODIFIED:20260425T135037Z
UID:18558-1794594600-1794715200@kpbsd.org
SUMMARY:LANCER SMITH MEMORIAL @ THE MENARD CENTER
DESCRIPTION:Games:\nSport: Wrestling\nLevel: Coed Varsity\nTeam: Nikiski High School
URL:https://kpbsd.org/schools/nikiski-middle-high/event/lancer-smith-memorial-the-menard-center/
LOCATION:AK
END:VEVENT
BEGIN:VEVENT
DTSTART;TZID=UTC:20261120T003000
DTEND;TZID=UTC:20261120T010000
DTSTAMP:20260425T055513
CREATED:20260409T000804Z
LAST-MODIFIED:20260425T135038Z
UID:20417-1795134600-1795136400@kpbsd.org
SUMMARY:Coed Varsity Wrestling @ Soldotna High School
DESCRIPTION:Sport: Wrestling\nLevel: Coed Varsity\nTeam: Nikiski High School\nSite: Soldotna High School\nSubsite: Gym
URL:https://kpbsd.org/schools/nikiski-middle-high/event/coed-varsity-wrestling-soldotna-high-school-9/
LOCATION:425 W Marydale Ave\, Soldotna\, AK\, United States
END:VEVENT
BEGIN:VEVENT
DTSTART;TZID=America/Anchorage:20261120T080000
DTEND;TZID=America/Anchorage:20261120T170000
DTSTAMP:20260425T055513
CREATED:20260411T035003Z
LAST-MODIFIED:20260425T041837Z
UID:20591-1795161600-1795194000@kpbsd.org
SUMMARY:Early Release Day
DESCRIPTION:
URL:https://kpbsd.org/schools/nikiski-middle-high/event/early-release-day-17/
LOCATION:AK
CATEGORIES:Districtwide Calendar
END:VEVENT
BEGIN:VEVENT
DTSTART;TZID=UTC:20261120T090100
DTEND;TZID=UTC:20261121T090100
DTSTAMP:20260425T055513
CREATED:20260318T220552Z
LAST-MODIFIED:20260425T135038Z
UID:19079-1795165260-1795251660@kpbsd.org
SUMMARY:King of the Mountain Wrestling Tounament
DESCRIPTION:Games:\nSport: Wrestling\nLevel: Coed Varsity\nTeam: Nikiski High School
URL:https://kpbsd.org/schools/nikiski-middle-high/event/king-of-the-mountain-wrestling-tounament/
LOCATION:AK
END:VEVENT
BEGIN:VEVENT
DTSTART;TZID=UTC:20261126T020000
DTEND;TZID=UTC:20261126T023000
DTSTAMP:20260425T055513
CREATED:20260128T110631Z
LAST-MODIFIED:20260425T135038Z
UID:18204-1795658400-1795660200@kpbsd.org
SUMMARY:Coed Varsity Wrestling vs Soldotna High School
DESCRIPTION:Sport: Wrestling\nLevel: Coed Varsity\nTeam: Nikiski High School\nSite: Nikiski High School\nSubsite: Gym
URL:https://kpbsd.org/schools/nikiski-middle-high/event/coed-varsity-wrestling-vs-soldotna-high-school-3/
LOCATION:52275 Education Drive\, 52801 Nikiski Ave\, Kenai\, AK\, United States
END:VEVENT
BEGIN:VEVENT
DTSTART;TZID=UTC:20261126T090100
DTEND;TZID=UTC:20261126T093100
DTSTAMP:20260425T055513
CREATED:20260221T185143Z
LAST-MODIFIED:20260425T135038Z
UID:18760-1795683660-1795685460@kpbsd.org
SUMMARY:No School
DESCRIPTION:Site: Nikiski High School\nSubsite: Commons
URL:https://kpbsd.org/schools/nikiski-middle-high/event/no-school-80/
LOCATION:52275 Education Drive\, 52801 Nikiski Ave\, Kenai\, AK\, United States
END:VEVENT
BEGIN:VEVENT
DTSTART;TZID=UTC:20261127T090100
DTEND;TZID=UTC:20261127T093100
DTSTAMP:20260425T055513
CREATED:20260221T185144Z
LAST-MODIFIED:20260425T135038Z
UID:18763-1795770060-1795771860@kpbsd.org
SUMMARY:No School
DESCRIPTION:Site: Nikiski High School\nSubsite: Commons
URL:https://kpbsd.org/schools/nikiski-middle-high/event/no-school-81/
LOCATION:52275 Education Drive\, 52801 Nikiski Ave\, Kenai\, AK\, United States
END:VEVENT
END:VCALENDAR