BEGIN:VCALENDAR
VERSION:2.0
PRODID:-//Nikiski North Star Elementary - ECPv6.8.2//NONSGML v1.0//EN
CALSCALE:GREGORIAN
METHOD:PUBLISH
X-WR-CALNAME:Nikiski North Star Elementary
X-ORIGINAL-URL:https://kpbsd.org/schools/nikiski-north-star
X-WR-CALDESC:Events for Nikiski North Star Elementary
REFRESH-INTERVAL;VALUE=DURATION:PT1H
X-Robots-Tag:noindex
X-PUBLISHED-TTL:PT1H
BEGIN:VTIMEZONE
TZID:America/Anchorage
BEGIN:DAYLIGHT
TZOFFSETFROM:-0900
TZOFFSETTO:-0800
TZNAME:AKDT
DTSTART:20250309T110000
END:DAYLIGHT
BEGIN:STANDARD
TZOFFSETFROM:-0800
TZOFFSETTO:-0900
TZNAME:AKST
DTSTART:20251102T100000
END:STANDARD
END:VTIMEZONE
BEGIN:VEVENT
DTSTART;TZID=America/Anchorage:20250808T160000
DTEND;TZID=America/Anchorage:20250808T164500
DTSTAMP:20260421T142115
CREATED:20250603T203933Z
LAST-MODIFIED:20250603T203933Z
UID:4667-1754668800-1754671500@kpbsd.org
SUMMARY:Popsicles with the Principal
DESCRIPTION:
URL:https://kpbsd.org/schools/nikiski-north-star/event/popsicles-with-the-principal/
CATEGORIES:NNS Schoolwide
END:VEVENT
END:VCALENDAR