BEGIN:VCALENDAR
VERSION:2.0
PRODID:-//Nikiski North Star Elementary - ECPv6.8.2//NONSGML v1.0//EN
CALSCALE:GREGORIAN
METHOD:PUBLISH
X-ORIGINAL-URL:https://kpbsd.org/schools/nikiski-north-star
X-WR-CALDESC:Events for Nikiski North Star Elementary
REFRESH-INTERVAL;VALUE=DURATION:PT1H
X-Robots-Tag:noindex
X-PUBLISHED-TTL:PT1H
BEGIN:VTIMEZONE
TZID:America/Anchorage
BEGIN:DAYLIGHT
TZOFFSETFROM:-0900
TZOFFSETTO:-0800
TZNAME:AKDT
DTSTART:20210314T110000
END:DAYLIGHT
BEGIN:STANDARD
TZOFFSETFROM:-0800
TZOFFSETTO:-0900
TZNAME:AKST
DTSTART:20211107T100000
END:STANDARD
END:VTIMEZONE
BEGIN:VEVENT
DTSTART;VALUE=DATE:20210302
DTEND;VALUE=DATE:20210303
DTSTAMP:20260425T052421
CREATED:20210126T203118Z
LAST-MODIFIED:20210126T203205Z
UID:2166-1614643200-1614729599@kpbsd.org
SUMMARY:Transition to Middle School Day for 5th Grade Students
DESCRIPTION:Nikiski Middle/High School Staff will visit with North Star Students (at NNS) to discuss the transition to Middle School.
URL:https://kpbsd.org/schools/nikiski-north-star/event/transition-to-middle-school-day-for-5th-grade-students/
END:VEVENT
END:VCALENDAR