BEGIN:VCALENDAR
VERSION:2.0
PRODID:-//Nikiski North Star Elementary - ECPv6.8.2//NONSGML v1.0//EN
CALSCALE:GREGORIAN
METHOD:PUBLISH
X-WR-CALNAME:Nikiski North Star Elementary
X-ORIGINAL-URL:https://kpbsd.org/schools/nikiski-north-star
X-WR-CALDESC:Events for Nikiski North Star Elementary
REFRESH-INTERVAL;VALUE=DURATION:PT1H
X-Robots-Tag:noindex
X-PUBLISHED-TTL:PT1H
BEGIN:VTIMEZONE
TZID:America/Anchorage
BEGIN:DAYLIGHT
TZOFFSETFROM:-0900
TZOFFSETTO:-0800
TZNAME:AKDT
DTSTART:20250309T110000
END:DAYLIGHT
BEGIN:STANDARD
TZOFFSETFROM:-0800
TZOFFSETTO:-0900
TZNAME:AKST
DTSTART:20251102T100000
END:STANDARD
END:VTIMEZONE
BEGIN:VEVENT
DTSTART;VALUE=DATE:20250901
DTEND;VALUE=DATE:20250902
DTSTAMP:20260423T123402
CREATED:20250603T204459Z
LAST-MODIFIED:20250603T204459Z
UID:4698-1756684800-1756771199@kpbsd.org
SUMMARY:Labor Day-No School
DESCRIPTION:
URL:https://kpbsd.org/schools/nikiski-north-star/event/labor-day-no-school/
END:VEVENT
BEGIN:VEVENT
DTSTART;TZID=America/Anchorage:20250906T110000
DTEND;TZID=America/Anchorage:20250906T120000
DTSTAMP:20260423T123402
CREATED:20250603T204459Z
LAST-MODIFIED:20250603T204459Z
UID:4704-1757156400-1757160000@kpbsd.org
SUMMARY:NNS Cross Country: North Road Run
DESCRIPTION:
URL:https://kpbsd.org/schools/nikiski-north-star/event/nns-cross-country-north-road-run/
LOCATION:Nikiski Community Recreation Center\, 52801 Nikiski Ave\, Kenai\, AK\, United States
END:VEVENT
BEGIN:VEVENT
DTSTART;TZID=America/Anchorage:20250908T180000
DTEND;TZID=America/Anchorage:20250908T200000
DTSTAMP:20260423T123402
CREATED:20250603T204500Z
LAST-MODIFIED:20250603T204500Z
UID:4707-1757354400-1757361600@kpbsd.org
SUMMARY:School Board Meeting
DESCRIPTION:
URL:https://kpbsd.org/schools/nikiski-north-star/event/school-board-meeting-2/
END:VEVENT
BEGIN:VEVENT
DTSTART;VALUE=DATE:20250912
DTEND;VALUE=DATE:20250913
DTSTAMP:20260423T123402
CREATED:20250603T204500Z
LAST-MODIFIED:20250603T204500Z
UID:4710-1757635200-1757721599@kpbsd.org
SUMMARY:Early Release
DESCRIPTION:1:55 dismissal primary\n1:57 dismissal intermediate
URL:https://kpbsd.org/schools/nikiski-north-star/event/early-release-31/
END:VEVENT
BEGIN:VEVENT
DTSTART;TZID=America/Anchorage:20250913T110000
DTEND;TZID=America/Anchorage:20250913T120000
DTSTAMP:20260423T123402
CREATED:20250603T204500Z
LAST-MODIFIED:20250603T204500Z
UID:4716-1757761200-1757764800@kpbsd.org
SUMMARY:NNS Cross Country: Color Run
DESCRIPTION:
URL:https://kpbsd.org/schools/nikiski-north-star/event/nns-cross-country-color-run/
LOCATION:Nikiski Middle/High School\, 52801 Nikiski Ave\, Kenai\, AK\, United States
END:VEVENT
BEGIN:VEVENT
DTSTART;TZID=America/Anchorage:20250919T170000
DTEND;TZID=America/Anchorage:20250919T190000
DTSTAMP:20260423T123402
CREATED:20250821T180421Z
LAST-MODIFIED:20250822T001351Z
UID:4909-1758301200-1758308400@kpbsd.org
SUMMARY:Camp Out with a Good Book
DESCRIPTION:
URL:https://kpbsd.org/schools/nikiski-north-star/event/camp-out-with-a-good-book/
END:VEVENT
BEGIN:VEVENT
DTSTART;TZID=America/Anchorage:20250920T110000
DTEND;TZID=America/Anchorage:20250920T120000
DTSTAMP:20260423T123402
CREATED:20250603T204501Z
LAST-MODIFIED:20250603T204501Z
UID:4722-1758366000-1758369600@kpbsd.org
SUMMARY:NNS Cross Country: CENPEN Invite
DESCRIPTION:
URL:https://kpbsd.org/schools/nikiski-north-star/event/nns-cross-country-cenpen-invite/
LOCATION:Tsalteshi Ski Trails\, Soldotna\, AK\, United States
END:VEVENT
BEGIN:VEVENT
DTSTART;TZID=America/Anchorage:20250929T154500
DTEND;TZID=America/Anchorage:20250929T164500
DTSTAMP:20260423T123402
CREATED:20250923T180301Z
LAST-MODIFIED:20250923T180301Z
UID:4967-1759160700-1759164300@kpbsd.org
SUMMARY:PTO General Meeting
DESCRIPTION:
URL:https://kpbsd.org/schools/nikiski-north-star/event/pto-general-meeting/
END:VEVENT
END:VCALENDAR