BEGIN:VCALENDAR
VERSION:2.0
PRODID:-//Port Graham School - ECPv6.8.2//NONSGML v1.0//EN
CALSCALE:GREGORIAN
METHOD:PUBLISH
X-WR-CALNAME:Port Graham School
X-ORIGINAL-URL:https://kpbsd.org/schools/port-graham
X-WR-CALDESC:Events for Port Graham School
REFRESH-INTERVAL;VALUE=DURATION:PT1H
X-Robots-Tag:noindex
X-PUBLISHED-TTL:PT1H
BEGIN:VTIMEZONE
TZID:America/Anchorage
BEGIN:DAYLIGHT
TZOFFSETFROM:-0900
TZOFFSETTO:-0800
TZNAME:AKDT
DTSTART:20250309T110000
END:DAYLIGHT
BEGIN:STANDARD
TZOFFSETFROM:-0800
TZOFFSETTO:-0900
TZNAME:AKST
DTSTART:20251102T100000
END:STANDARD
END:VTIMEZONE
BEGIN:VEVENT
DTSTART;VALUE=DATE:20250806
DTEND;VALUE=DATE:20250813
DTSTAMP:20260419T203834
CREATED:20250807T072554Z
LAST-MODIFIED:20250807T072554Z
UID:1970-1754438400-1755043199@kpbsd.org
SUMMARY:Staff in-service days
DESCRIPTION:
URL:https://kpbsd.org/schools/port-graham/event/staff-in-service-days/
LOCATION:Port Graham School\, 63800 Graham Rd\, Homer\, AK\, United States
END:VEVENT
BEGIN:VEVENT
DTSTART;TZID=America/Anchorage:20250807T130000
DTEND;TZID=America/Anchorage:20250807T150000
DTSTAMP:20260419T203834
CREATED:20250807T201959Z
LAST-MODIFIED:20250807T202545Z
UID:2050-1754571600-1754578800@kpbsd.org
SUMMARY:School Registration
DESCRIPTION:
URL:https://kpbsd.org/schools/port-graham/event/school-registration-2/
LOCATION:Port Graham School\, 63800 Graham Rd\, Homer\, AK\, United States
END:VEVENT
BEGIN:VEVENT
DTSTART;TZID=America/Anchorage:20250807T160000
DTEND;TZID=America/Anchorage:20250807T173000
DTSTAMP:20260419T203834
CREATED:20250807T075204Z
LAST-MODIFIED:20250807T075204Z
UID:2021-1754582400-1754587800@kpbsd.org
SUMMARY:Site based council meeting
DESCRIPTION:Microsoft Teams Need help? \nJoin the meeting now \nMeeting ID: 298 750 894 141 6 \nPasscode: 4FY7CL93
URL:https://kpbsd.org/schools/port-graham/event/site-based-council-meeting/
LOCATION:Port Graham School\, 63800 Graham Rd\, Homer\, AK\, United States
END:VEVENT
END:VCALENDAR