BEGIN:VCALENDAR
VERSION:2.0
PRODID:-//Port Graham School - ECPv6.8.2//NONSGML v1.0//EN
CALSCALE:GREGORIAN
METHOD:PUBLISH
X-ORIGINAL-URL:https://kpbsd.org/schools/port-graham
X-WR-CALDESC:Events for Port Graham School
REFRESH-INTERVAL;VALUE=DURATION:PT1H
X-Robots-Tag:noindex
X-PUBLISHED-TTL:PT1H
BEGIN:VTIMEZONE
TZID:America/Anchorage
BEGIN:DAYLIGHT
TZOFFSETFROM:-0900
TZOFFSETTO:-0800
TZNAME:AKDT
DTSTART:20250309T110000
END:DAYLIGHT
BEGIN:STANDARD
TZOFFSETFROM:-0800
TZOFFSETTO:-0900
TZNAME:AKST
DTSTART:20251102T100000
END:STANDARD
END:VTIMEZONE
BEGIN:VEVENT
DTSTART;VALUE=DATE:20250806
DTEND;VALUE=DATE:20250813
DTSTAMP:20260419T112702
CREATED:20250807T072554Z
LAST-MODIFIED:20250807T072554Z
UID:1970-1754438400-1755043199@kpbsd.org
SUMMARY:Staff in-service days
DESCRIPTION:
URL:https://kpbsd.org/schools/port-graham/event/staff-in-service-days/
LOCATION:Port Graham School\, 63800 Graham Rd\, Homer\, AK\, United States
END:VEVENT
BEGIN:VEVENT
DTSTART;TZID=America/Anchorage:20250812T120000
DTEND;TZID=America/Anchorage:20250812T130000
DTSTAMP:20260419T112702
CREATED:20250808T200946Z
LAST-MODIFIED:20250812T204732Z
UID:2259-1755000000-1755003600@kpbsd.org
SUMMARY:Meet the teacher lunch
DESCRIPTION:
URL:https://kpbsd.org/schools/port-graham/event/meet-the-teacher-lunch/
ATTACH;FMTTYPE=image/png:https://kpbsd.org/schools/port-graham/wp-content/uploads/sites/25/2025/08/meet-the-teacher.png
END:VEVENT
END:VCALENDAR