BEGIN:VCALENDAR
VERSION:2.0
PRODID:-//Port Graham School - ECPv6.8.2//NONSGML v1.0//EN
CALSCALE:GREGORIAN
METHOD:PUBLISH
X-WR-CALNAME:Port Graham School
X-ORIGINAL-URL:https://kpbsd.org/schools/port-graham
X-WR-CALDESC:Events for Port Graham School
REFRESH-INTERVAL;VALUE=DURATION:PT1H
X-Robots-Tag:noindex
X-PUBLISHED-TTL:PT1H
BEGIN:VTIMEZONE
TZID:America/Anchorage
BEGIN:DAYLIGHT
TZOFFSETFROM:-0900
TZOFFSETTO:-0800
TZNAME:AKDT
DTSTART:20250309T110000
END:DAYLIGHT
BEGIN:STANDARD
TZOFFSETFROM:-0800
TZOFFSETTO:-0900
TZNAME:AKST
DTSTART:20251102T100000
END:STANDARD
END:VTIMEZONE
BEGIN:VEVENT
DTSTART;TZID=America/Anchorage:20251114T000000
DTEND;TZID=America/Anchorage:20251114T235959
DTSTAMP:20260423T111027
CREATED:20250807T202002Z
LAST-MODIFIED:20251114T071927Z
UID:2089-1763078400-1763164799@kpbsd.org
SUMMARY:Early Release for students
DESCRIPTION:Students will be dismissed at 2:15.
URL:https://kpbsd.org/schools/port-graham/event/early-release-for-students-3/
END:VEVENT
BEGIN:VEVENT
DTSTART;TZID=America/Anchorage:20251114T080000
DTEND;TZID=America/Anchorage:20251114T170000
DTSTAMP:20260423T111027
CREATED:20250909T222610Z
LAST-MODIFIED:20251110T195336Z
UID:3946-1763107200-1763139600@kpbsd.org
SUMMARY:Early Release
DESCRIPTION:
URL:https://kpbsd.org/schools/port-graham/event/early-release-36/
CATEGORIES:Districtwide Calendar
END:VEVENT
BEGIN:VEVENT
DTSTART;TZID=America/Anchorage:20251114T140000
DTEND;TZID=America/Anchorage:20251114T143000
DTSTAMP:20260423T111027
CREATED:20250819T040510Z
LAST-MODIFIED:20251114T071927Z
UID:2402-1763128800-1763130600@kpbsd.org
SUMMARY:Birthday Celebration
DESCRIPTION:
URL:https://kpbsd.org/schools/port-graham/event/birthday-celebration-4/
END:VEVENT
BEGIN:VEVENT
DTSTART;TZID=America/Anchorage:20251114T143000
DTEND;TZID=America/Anchorage:20251114T160000
DTSTAMP:20260423T111027
CREATED:20250807T074709Z
LAST-MODIFIED:20250807T074709Z
UID:2016-1763130600-1763136000@kpbsd.org
SUMMARY:Early release
DESCRIPTION:
URL:https://kpbsd.org/schools/port-graham/event/early-release-33/
END:VEVENT
BEGIN:VEVENT
DTSTART;TZID=America/Anchorage:20251114T163000
DTEND;TZID=America/Anchorage:20251114T183000
DTSTAMP:20260423T111027
CREATED:20251106T063059Z
LAST-MODIFIED:20251114T071927Z
UID:8087-1763137800-1763145000@kpbsd.org
SUMMARY:Cultural games club
DESCRIPTION:
URL:https://kpbsd.org/schools/port-graham/event/cultural-games-club-115/
END:VEVENT
END:VCALENDAR