BEGIN:VCALENDAR
VERSION:2.0
PRODID:-//Port Graham School - ECPv6.8.2//NONSGML v1.0//EN
CALSCALE:GREGORIAN
METHOD:PUBLISH
X-ORIGINAL-URL:https://kpbsd.org/schools/port-graham
X-WR-CALDESC:Events for Port Graham School
REFRESH-INTERVAL;VALUE=DURATION:PT1H
X-Robots-Tag:noindex
X-PUBLISHED-TTL:PT1H
BEGIN:VTIMEZONE
TZID:America/Anchorage
BEGIN:DAYLIGHT
TZOFFSETFROM:-0900
TZOFFSETTO:-0800
TZNAME:AKDT
DTSTART:20260308T110000
END:DAYLIGHT
BEGIN:STANDARD
TZOFFSETFROM:-0800
TZOFFSETTO:-0900
TZNAME:AKST
DTSTART:20261101T100000
END:STANDARD
END:VTIMEZONE
BEGIN:VEVENT
DTSTART;TZID=America/Anchorage:20260326T163000
DTEND;TZID=America/Anchorage:20260326T183000
DTSTAMP:20260425T140420
CREATED:20260318T025142Z
LAST-MODIFIED:20260326T033450Z
UID:11685-1774542600-1774549800@kpbsd.org
SUMMARY:Cultural games club
DESCRIPTION:Join with Google Meet: https://meet.google.com/vtw-yncw-xnx\nOr dial: (US) +1 440-494-6788 PIN: 255050753#\nLearn more about Meet at: https://support.google.com/a/users/answer/9282720
URL:https://kpbsd.org/schools/port-graham/event/cultural-games-club-192/
END:VEVENT
END:VCALENDAR