BEGIN:VCALENDAR
VERSION:2.0
PRODID:-//Port Graham School - ECPv6.8.2//NONSGML v1.0//EN
CALSCALE:GREGORIAN
METHOD:PUBLISH
X-ORIGINAL-URL:https://kpbsd.org/schools/port-graham
X-WR-CALDESC:Events for Port Graham School
REFRESH-INTERVAL;VALUE=DURATION:PT1H
X-Robots-Tag:noindex
X-PUBLISHED-TTL:PT1H
BEGIN:VTIMEZONE
TZID:America/Anchorage
BEGIN:DAYLIGHT
TZOFFSETFROM:-0900
TZOFFSETTO:-0800
TZNAME:AKDT
DTSTART:20260308T110000
END:DAYLIGHT
BEGIN:STANDARD
TZOFFSETFROM:-0800
TZOFFSETTO:-0900
TZNAME:AKST
DTSTART:20261101T100000
END:STANDARD
END:VTIMEZONE
BEGIN:VEVENT
DTSTART;TZID=America/Anchorage:20260327T163000
DTEND;TZID=America/Anchorage:20260327T180000
DTSTAMP:20260419T141019
CREATED:20260318T025143Z
LAST-MODIFIED:20260327T033721Z
UID:11688-1774629000-1774634400@kpbsd.org
SUMMARY:Cultural games club
DESCRIPTION:
URL:https://kpbsd.org/schools/port-graham/event/cultural-games-club-193/
END:VEVENT
BEGIN:VEVENT
DTSTART;TZID=America/Anchorage:20260327T163000
DTEND;TZID=America/Anchorage:20260327T183000
DTSTAMP:20260419T141019
CREATED:20251106T063133Z
LAST-MODIFIED:20260317T024923Z
UID:8298-1774629000-1774636200@kpbsd.org
SUMMARY:Cultural games club
DESCRIPTION:
URL:https://kpbsd.org/schools/port-graham/event/cultural-games-club-171/
END:VEVENT
BEGIN:VEVENT
DTSTART;TZID=America/Anchorage:20260327T190000
DTEND;TZID=America/Anchorage:20260327T220000
DTSTAMP:20260419T141019
CREATED:20260212T231527Z
LAST-MODIFIED:20260328T035026Z
UID:11162-1774638000-1774648800@kpbsd.org
SUMMARY:Open gym
DESCRIPTION:
URL:https://kpbsd.org/schools/port-graham/event/open-gym-tentative-27/
END:VEVENT
END:VCALENDAR