BEGIN:VCALENDAR
VERSION:2.0
PRODID:-//Port Graham School - ECPv6.8.2//NONSGML v1.0//EN
CALSCALE:GREGORIAN
METHOD:PUBLISH
X-WR-CALNAME:Port Graham School
X-ORIGINAL-URL:https://kpbsd.org/schools/port-graham
X-WR-CALDESC:Events for Port Graham School
REFRESH-INTERVAL;VALUE=DURATION:PT1H
X-Robots-Tag:noindex
X-PUBLISHED-TTL:PT1H
BEGIN:VTIMEZONE
TZID:America/Anchorage
BEGIN:DAYLIGHT
TZOFFSETFROM:-0900
TZOFFSETTO:-0800
TZNAME:AKDT
DTSTART:20260308T110000
END:DAYLIGHT
BEGIN:STANDARD
TZOFFSETFROM:-0800
TZOFFSETTO:-0900
TZNAME:AKST
DTSTART:20261101T100000
END:STANDARD
END:VTIMEZONE
BEGIN:VEVENT
DTSTART;TZID=America/Anchorage:20260331T000000
DTEND;TZID=America/Anchorage:20260424T235959
DTSTAMP:20260420T095942
CREATED:20260320T030658Z
LAST-MODIFIED:20260420T044948Z
UID:11970-1774915200-1777075199@kpbsd.org
SUMMARY:Port Graham School AK Star/ AK Science window (grades 3-9)
DESCRIPTION:
URL:https://kpbsd.org/schools/port-graham/event/port-graham-school-ak-star-ak-science-window-grades-3-9/
END:VEVENT
BEGIN:VEVENT
DTSTART;TZID=America/Anchorage:20260420T000000
DTEND;TZID=America/Anchorage:20260420T235959
DTSTAMP:20260420T095942
CREATED:20251118T080923Z
LAST-MODIFIED:20260420T044947Z
UID:9086-1776643200-1776729599@kpbsd.org
SUMMARY:Early release at 3:30 for students
DESCRIPTION:
URL:https://kpbsd.org/schools/port-graham/event/early-release-at-330-for-students-21/
END:VEVENT
BEGIN:VEVENT
DTSTART;TZID=America/Anchorage:20260420T000000
DTEND;TZID=America/Anchorage:20260420T235959
DTSTAMP:20260420T095942
CREATED:20260417T044936Z
LAST-MODIFIED:20260420T044947Z
UID:12234-1776643200-1776729599@kpbsd.org
SUMMARY:Volunteer Recognition Day
DESCRIPTION:
URL:https://kpbsd.org/schools/port-graham/event/volunteer-recognition-day/
END:VEVENT
BEGIN:VEVENT
DTSTART;TZID=America/Anchorage:20260420T000000
DTEND;TZID=America/Anchorage:20260424T235959
DTSTAMP:20260420T095942
CREATED:20260127T001939Z
LAST-MODIFIED:20260420T044945Z
UID:10783-1776643200-1777075199@kpbsd.org
SUMMARY:Sea Week!
DESCRIPTION:
URL:https://kpbsd.org/schools/port-graham/event/sea-week-tentative/
END:VEVENT
BEGIN:VEVENT
DTSTART;TZID=America/Anchorage:20260420T163000
DTEND;TZID=America/Anchorage:20260420T180000
DTSTAMP:20260420T095942
CREATED:20260318T025156Z
LAST-MODIFIED:20260420T044947Z
UID:11775-1776702600-1776708000@kpbsd.org
SUMMARY:Cultural games club
DESCRIPTION:
URL:https://kpbsd.org/schools/port-graham/event/cultural-games-club-213/
END:VEVENT
BEGIN:VEVENT
DTSTART;TZID=America/Anchorage:20260420T163000
DTEND;TZID=America/Anchorage:20260420T183000
DTSTAMP:20260420T095942
CREATED:20251106T063140Z
LAST-MODIFIED:20260317T024927Z
UID:8340-1776702600-1776709800@kpbsd.org
SUMMARY:Cultural games club
DESCRIPTION:
URL:https://kpbsd.org/schools/port-graham/event/cultural-games-club-181/
END:VEVENT
BEGIN:VEVENT
DTSTART;TZID=America/Anchorage:20260420T173000
DTEND;TZID=America/Anchorage:20260420T190000
DTSTAMP:20260420T095942
CREATED:20260416T043529Z
LAST-MODIFIED:20260416T043529Z
UID:12231-1776706200-1776711600@kpbsd.org
SUMMARY:Site Based Council meeting
DESCRIPTION:________________________________________________________________________________ \nMicrosoft Teams Needhelp?  \nJointhe meeting now  \nMeeting ID: 210 190377 693 22  \nPasscode: X7M8Sf2p  \n ________________________________   \nFor organizers: Meetingoptions  \n________________________________________________________________________________ \n  \nJoin with Google Meet: https://meet.google.com/kgg-hymp-boh\nOr dial: (US) +1 320-318-7977 PIN: 486504040#\nLearn more about Meet at: https://support.google.com/a/users/answer/9282720
URL:https://kpbsd.org/schools/port-graham/event/site-based-council-meeting-57/
LOCATION:Port Graham School\, 63800 Graham Rd\, Homer\, AK\, United States
END:VEVENT
BEGIN:VEVENT
DTSTART;TZID=America/Anchorage:20260420T173000
DTEND;TZID=America/Anchorage:20260420T190000
DTSTAMP:20260420T095942
CREATED:20260416T043529Z
LAST-MODIFIED:20260420T044947Z
UID:12228-1776706200-1776711600@kpbsd.org
SUMMARY:Site Based Council meeting
DESCRIPTION:________________________________________________________________________________ \nMicrosoft Teams Needhelp?  \nJointhe meeting now  \nMeeting ID: 210 190377 693 22  \nPasscode: X7M8Sf2p  \n ________________________________   \nFor organizers: Meetingoptions  \n________________________________________________________________________________ \n  \nJoin with Google Meet: https://meet.google.com/kgg-hymp-boh\nOr dial: (US) +1 320-318-7977 PIN: 486504040#\nLearn more about Meet at: https://support.google.com/a/users/answer/9282720
URL:https://kpbsd.org/schools/port-graham/event/site-based-council-meeting-56/
LOCATION:Port Graham School\, 63800 Graham Rd\, Homer\, AK\, United States
END:VEVENT
BEGIN:VEVENT
DTSTART;TZID=America/Anchorage:20260420T190000
DTEND;TZID=America/Anchorage:20260420T210000
DTSTAMP:20260420T095942
CREATED:20260212T231539Z
LAST-MODIFIED:20260317T024927Z
UID:11205-1776711600-1776718800@kpbsd.org
SUMMARY:Open gym tentative
DESCRIPTION:
URL:https://kpbsd.org/schools/port-graham/event/open-gym-tentative-41/
END:VEVENT
BEGIN:VEVENT
DTSTART;TZID=America/Anchorage:20260420T190000
DTEND;TZID=America/Anchorage:20260420T210000
DTSTAMP:20260420T095942
CREATED:20260318T025156Z
LAST-MODIFIED:20260420T044947Z
UID:11784-1776711600-1776718800@kpbsd.org
SUMMARY:Open gym planned
DESCRIPTION:
URL:https://kpbsd.org/schools/port-graham/event/open-gym-planned-11/
END:VEVENT
END:VCALENDAR