BEGIN:VCALENDAR
VERSION:2.0
PRODID:-//Port Graham School - ECPv6.8.2//NONSGML v1.0//EN
CALSCALE:GREGORIAN
METHOD:PUBLISH
X-ORIGINAL-URL:https://kpbsd.org/schools/port-graham
X-WR-CALDESC:Events for Port Graham School
REFRESH-INTERVAL;VALUE=DURATION:PT1H
X-Robots-Tag:noindex
X-PUBLISHED-TTL:PT1H
BEGIN:VTIMEZONE
TZID:America/Anchorage
BEGIN:DAYLIGHT
TZOFFSETFROM:-0900
TZOFFSETTO:-0800
TZNAME:AKDT
DTSTART:20260308T110000
END:DAYLIGHT
BEGIN:STANDARD
TZOFFSETFROM:-0800
TZOFFSETTO:-0900
TZNAME:AKST
DTSTART:20261101T100000
END:STANDARD
END:VTIMEZONE
BEGIN:VEVENT
DTSTART;TZID=America/Anchorage:20260511T000000
DTEND;TZID=America/Anchorage:20260511T235959
DTSTAMP:20260419T155123
CREATED:20251118T080926Z
LAST-MODIFIED:20260419T044941Z
UID:9107-1778457600-1778543999@kpbsd.org
SUMMARY:Early release at 3:30 for students
DESCRIPTION:
URL:https://kpbsd.org/schools/port-graham/event/early-release-at-330-for-students-24/
END:VEVENT
BEGIN:VEVENT
DTSTART;TZID=America/Anchorage:20260511T190000
DTEND;TZID=America/Anchorage:20260511T210000
DTSTAMP:20260419T155123
CREATED:20260212T231544Z
LAST-MODIFIED:20260317T024930Z
UID:11244-1778526000-1778533200@kpbsd.org
SUMMARY:Open gym tentative
DESCRIPTION:
URL:https://kpbsd.org/schools/port-graham/event/open-gym-tentative-53/
END:VEVENT
BEGIN:VEVENT
DTSTART;TZID=America/Anchorage:20260511T190000
DTEND;TZID=America/Anchorage:20260511T210000
DTSTAMP:20260419T155123
CREATED:20260318T025206Z
LAST-MODIFIED:20260419T044941Z
UID:11816-1778526000-1778533200@kpbsd.org
SUMMARY:Open gym planned
DESCRIPTION:
URL:https://kpbsd.org/schools/port-graham/event/open-gym-planned-17/
END:VEVENT
END:VCALENDAR