BEGIN:VCALENDAR
VERSION:2.0
PRODID:-//Port Graham School - ECPv6.8.2//NONSGML v1.0//EN
CALSCALE:GREGORIAN
METHOD:PUBLISH
X-WR-CALNAME:Port Graham School
X-ORIGINAL-URL:https://kpbsd.org/schools/port-graham
X-WR-CALDESC:Events for Port Graham School
REFRESH-INTERVAL;VALUE=DURATION:PT1H
X-Robots-Tag:noindex
X-PUBLISHED-TTL:PT1H
BEGIN:VTIMEZONE
TZID:America/Anchorage
BEGIN:DAYLIGHT
TZOFFSETFROM:-0900
TZOFFSETTO:-0800
TZNAME:AKDT
DTSTART:20250309T110000
END:DAYLIGHT
BEGIN:STANDARD
TZOFFSETFROM:-0800
TZOFFSETTO:-0900
TZNAME:AKST
DTSTART:20251102T100000
END:STANDARD
END:VTIMEZONE
BEGIN:VEVENT
DTSTART;TZID=America/Anchorage:20250915T000000
DTEND;TZID=America/Anchorage:20251009T235959
DTSTAMP:20260423T230846
CREATED:20250819T040507Z
LAST-MODIFIED:20251003T040226Z
UID:2380-1757894400-1760054399@kpbsd.org
SUMMARY:PG m-class reading screening (grades 1-5)
DESCRIPTION:
URL:https://kpbsd.org/schools/port-graham/event/m-class-reading-screening-grades-1-5/
END:VEVENT
BEGIN:VEVENT
DTSTART;TZID=America/Anchorage:20251002T160000
DTEND;TZID=America/Anchorage:20251002T180000
DTSTAMP:20260423T230846
CREATED:20250920T123259Z
LAST-MODIFIED:20251002T062705Z
UID:4015-1759420800-1759428000@kpbsd.org
SUMMARY:Cultural games club
DESCRIPTION:
URL:https://kpbsd.org/schools/port-graham/event/cultural-games-club-2/
END:VEVENT
BEGIN:VEVENT
DTSTART;TZID=America/Anchorage:20251003T000000
DTEND;TZID=America/Anchorage:20251005T235959
DTSTAMP:20260423T230846
CREATED:20250923T020934Z
LAST-MODIFIED:20251003T040226Z
UID:4648-1759449600-1759708799@kpbsd.org
SUMMARY:Coastal studies trip grades 7-9
DESCRIPTION:
URL:https://kpbsd.org/schools/port-graham/event/coastal-studies-trip-grades-7-9/
END:VEVENT
BEGIN:VEVENT
DTSTART;TZID=America/Anchorage:20251006T153000
DTEND;TZID=America/Anchorage:20251006T160000
DTSTAMP:20260423T230846
CREATED:20250819T040509Z
LAST-MODIFIED:20251006T050854Z
UID:2398-1759764600-1759766400@kpbsd.org
SUMMARY:Birthday Celebration
DESCRIPTION:
URL:https://kpbsd.org/schools/port-graham/event/birthday-celebration-2/
END:VEVENT
BEGIN:VEVENT
DTSTART;TZID=America/Anchorage:20251007T000000
DTEND;TZID=America/Anchorage:20251007T235959
DTSTAMP:20260423T230846
CREATED:20251007T052950Z
LAST-MODIFIED:20251007T052951Z
UID:6907-1759795200-1759881599@kpbsd.org
SUMMARY:Sources of Strength Lunch
DESCRIPTION:
URL:https://kpbsd.org/schools/port-graham/event/sources-of-strength-lunch/
END:VEVENT
BEGIN:VEVENT
DTSTART;TZID=America/Anchorage:20251007T161500
DTEND;TZID=America/Anchorage:20251007T181500
DTSTAMP:20260423T230846
CREATED:20250924T040129Z
LAST-MODIFIED:20251007T052951Z
UID:5914-1759853700-1759860900@kpbsd.org
SUMMARY:D&D club meeting
DESCRIPTION:
URL:https://kpbsd.org/schools/port-graham/event/dd-club-111/
END:VEVENT
BEGIN:VEVENT
DTSTART;TZID=America/Anchorage:20251009T000000
DTEND;TZID=America/Anchorage:20251009T235959
DTSTAMP:20260423T230846
CREATED:20251004T041956Z
LAST-MODIFIED:20251004T041956Z
UID:6883-1759968000-1760054399@kpbsd.org
SUMMARY:Kelp Outplanting Field Trip (grades 7-12)
DESCRIPTION:
URL:https://kpbsd.org/schools/port-graham/event/kelp-outplanting-field-trip-grades-7-12/
END:VEVENT
BEGIN:VEVENT
DTSTART;TZID=America/Anchorage:20251009T160000
DTEND;TZID=America/Anchorage:20251009T180000
DTSTAMP:20260423T230846
CREATED:20250920T123259Z
LAST-MODIFIED:20251009T055025Z
UID:4018-1760025600-1760032800@kpbsd.org
SUMMARY:Cultural games club
DESCRIPTION:
URL:https://kpbsd.org/schools/port-graham/event/cultural-games-club-3/
END:VEVENT
BEGIN:VEVENT
DTSTART;VALUE=DATE:20251010
DTEND;VALUE=DATE:20251011
DTSTAMP:20260423T230846
CREATED:20250807T073246Z
LAST-MODIFIED:20250807T073720Z
UID:1985-1760054400-1760140799@kpbsd.org
SUMMARY:Staff in-service day
DESCRIPTION:
URL:https://kpbsd.org/schools/port-graham/event/staff-in-service-day/
END:VEVENT
BEGIN:VEVENT
DTSTART;TZID=America/Anchorage:20251010T000000
DTEND;TZID=America/Anchorage:20251010T235959
DTSTAMP:20260423T230846
CREATED:20250807T202001Z
LAST-MODIFIED:20250923T035622Z
UID:2065-1760054400-1760140799@kpbsd.org
SUMMARY:In-service (No school for students)
DESCRIPTION:
URL:https://kpbsd.org/schools/port-graham/event/in-service-no-school-for-students/
END:VEVENT
BEGIN:VEVENT
DTSTART;TZID=America/Anchorage:20251010T000000
DTEND;TZID=America/Anchorage:20251010T235959
DTSTAMP:20260423T230846
CREATED:20250807T202001Z
LAST-MODIFIED:20251010T054915Z
UID:2068-1760054400-1760140799@kpbsd.org
SUMMARY:End of First Quarter
DESCRIPTION:
URL:https://kpbsd.org/schools/port-graham/event/end-of-first-quarter/
END:VEVENT
BEGIN:VEVENT
DTSTART;TZID=America/Anchorage:20251010T000000
DTEND;TZID=America/Anchorage:20251010T235959
DTSTAMP:20260423T230846
CREATED:20251007T052951Z
LAST-MODIFIED:20251010T054915Z
UID:6910-1760054400-1760140799@kpbsd.org
SUMMARY:In-service for staff/ no school for kids
DESCRIPTION:
URL:https://kpbsd.org/schools/port-graham/event/in-service-for-staff-no-school-for-kids/
END:VEVENT
BEGIN:VEVENT
DTSTART;TZID=America/Anchorage:20251010T080000
DTEND;TZID=America/Anchorage:20251010T170000
DTSTAMP:20260423T230846
CREATED:20250819T040715Z
LAST-MODIFIED:20251006T190915Z
UID:2475-1760083200-1760115600@kpbsd.org
SUMMARY:In Service Day / End of Quarter
DESCRIPTION:No School
URL:https://kpbsd.org/schools/port-graham/event/in-service-day-end-of-quarter/
CATEGORIES:Districtwide Calendar
END:VEVENT
BEGIN:VEVENT
DTSTART;TZID=America/Anchorage:20251014T161500
DTEND;TZID=America/Anchorage:20251014T181500
DTSTAMP:20260423T230846
CREATED:20250924T040130Z
LAST-MODIFIED:20251014T065050Z
UID:5917-1760458500-1760465700@kpbsd.org
SUMMARY:D&D club meeting
DESCRIPTION:
URL:https://kpbsd.org/schools/port-graham/event/dd-club-112/
END:VEVENT
BEGIN:VEVENT
DTSTART;TZID=America/Anchorage:20251014T163000
DTEND;TZID=America/Anchorage:20251014T180000
DTSTAMP:20260423T230846
CREATED:20250808T082508Z
LAST-MODIFIED:20251014T065050Z
UID:2181-1760459400-1760464800@kpbsd.org
SUMMARY:Site Based Council meeting
DESCRIPTION:
URL:https://kpbsd.org/schools/port-graham/event/site-based-council-meeting-3/
LOCATION:Port Graham School\, 63800 Graham Rd\, Homer\, AK\, United States
END:VEVENT
BEGIN:VEVENT
DTSTART;TZID=America/Anchorage:20251016T000000
DTEND;TZID=America/Anchorage:20251016T235959
DTSTAMP:20260423T230846
CREATED:20251004T041956Z
LAST-MODIFIED:20251016T013904Z
UID:6886-1760572800-1760659199@kpbsd.org
SUMMARY:Kelp Outplanting Field Trip (grades 7-12)
DESCRIPTION:
URL:https://kpbsd.org/schools/port-graham/event/kelp-outplanting-field-trip-grades-7-12-2/
END:VEVENT
BEGIN:VEVENT
DTSTART;TZID=America/Anchorage:20251016T160000
DTEND;TZID=America/Anchorage:20251016T180000
DTSTAMP:20260423T230846
CREATED:20250920T123300Z
LAST-MODIFIED:20251017T014751Z
UID:4021-1760630400-1760637600@kpbsd.org
SUMMARY:Cultural games club
DESCRIPTION:
URL:https://kpbsd.org/schools/port-graham/event/cultural-games-club-4/
END:VEVENT
BEGIN:VEVENT
DTSTART;TZID=America/Anchorage:20251017T000000
DTEND;TZID=America/Anchorage:20251017T235959
DTSTAMP:20260423T230846
CREATED:20250807T202002Z
LAST-MODIFIED:20251017T014751Z
UID:2071-1760659200-1760745599@kpbsd.org
SUMMARY:Early Release for students
DESCRIPTION:Students will be dismissed at 2:15.
URL:https://kpbsd.org/schools/port-graham/event/early-release-for-students-2/
END:VEVENT
BEGIN:VEVENT
DTSTART;TZID=America/Anchorage:20251017T080000
DTEND;TZID=America/Anchorage:20251017T170000
DTSTAMP:20260423T230846
CREATED:20250909T222610Z
LAST-MODIFIED:20251013T191216Z
UID:3943-1760688000-1760720400@kpbsd.org
SUMMARY:Early Release
DESCRIPTION:
URL:https://kpbsd.org/schools/port-graham/event/early-release-35/
CATEGORIES:Districtwide Calendar
END:VEVENT
BEGIN:VEVENT
DTSTART;TZID=America/Anchorage:20251017T120000
DTEND;TZID=America/Anchorage:20251017T130000
DTSTAMP:20260423T230846
CREATED:20251010T054913Z
LAST-MODIFIED:20251017T014751Z
UID:6928-1760702400-1760706000@kpbsd.org
SUMMARY:First Quarter Awards Assembly
DESCRIPTION:
URL:https://kpbsd.org/schools/port-graham/event/first-quarter-awards-assembly/
END:VEVENT
BEGIN:VEVENT
DTSTART;TZID=America/Anchorage:20251017T130000
DTEND;TZID=America/Anchorage:20251017T143000
DTSTAMP:20260423T230846
CREATED:20251017T014748Z
LAST-MODIFIED:20251017T014751Z
UID:7021-1760706000-1760711400@kpbsd.org
SUMMARY:Cultural Games Exhibition
DESCRIPTION:
URL:https://kpbsd.org/schools/port-graham/event/cultural-games-exhibition/
END:VEVENT
BEGIN:VEVENT
DTSTART;TZID=America/Anchorage:20251017T143000
DTEND;TZID=America/Anchorage:20251017T160000
DTSTAMP:20260423T230846
CREATED:20250807T073933Z
LAST-MODIFIED:20250807T073944Z
UID:2003-1760711400-1760716800@kpbsd.org
SUMMARY:Early Release
DESCRIPTION:
URL:https://kpbsd.org/schools/port-graham/event/early-release-32/
END:VEVENT
BEGIN:VEVENT
DTSTART;TZID=America/Anchorage:20251020T000000
DTEND;TZID=America/Anchorage:20251020T235959
DTSTAMP:20260423T230846
CREATED:20250923T020937Z
LAST-MODIFIED:20251020T023436Z
UID:4655-1760918400-1761004799@kpbsd.org
SUMMARY:PSAT for 10th & 11th grades
DESCRIPTION:
URL:https://kpbsd.org/schools/port-graham/event/psat-for-10th-11th-grades/
END:VEVENT
BEGIN:VEVENT
DTSTART;TZID=America/Anchorage:20251021T161500
DTEND;TZID=America/Anchorage:20251021T181500
DTSTAMP:20260423T230846
CREATED:20250924T040131Z
LAST-MODIFIED:20251020T023436Z
UID:5920-1761063300-1761070500@kpbsd.org
SUMMARY:D&D club meeting
DESCRIPTION:
URL:https://kpbsd.org/schools/port-graham/event/dd-club-113/
END:VEVENT
BEGIN:VEVENT
DTSTART;TZID=America/Anchorage:20251022T170000
DTEND;TZID=America/Anchorage:20251022T190000
DTSTAMP:20260423T230846
CREATED:20251016T013813Z
LAST-MODIFIED:20251022T031354Z
UID:6970-1761152400-1761159600@kpbsd.org
SUMMARY:Parent Teacher Conferences
DESCRIPTION:
URL:https://kpbsd.org/schools/port-graham/event/parent-teacher-conferences-8/
END:VEVENT
BEGIN:VEVENT
DTSTART;TZID=America/Anchorage:20251023T000000
DTEND;TZID=America/Anchorage:20251024T235959
DTSTAMP:20260423T230846
CREATED:20250807T202002Z
LAST-MODIFIED:20251024T035000Z
UID:2077-1761177600-1761350399@kpbsd.org
SUMMARY:Parent-Teacher Conferences/ In-service
DESCRIPTION:
URL:https://kpbsd.org/schools/port-graham/event/parent-teacher-conferences-in-service/
END:VEVENT
BEGIN:VEVENT
DTSTART;TZID=America/Anchorage:20251023T000000
DTEND;TZID=America/Anchorage:20251024T235959
DTSTAMP:20260423T230846
CREATED:20251024T034956Z
LAST-MODIFIED:20251024T035000Z
UID:7676-1761177600-1761350399@kpbsd.org
SUMMARY:Project GRAD Healthy Activities Field Trip
DESCRIPTION:
URL:https://kpbsd.org/schools/port-graham/event/project-grad-healthy-activities-field-trip/
END:VEVENT
BEGIN:VEVENT
DTSTART;TZID=America/Anchorage:20251023T100000
DTEND;TZID=America/Anchorage:20251023T130000
DTSTAMP:20260423T230846
CREATED:20251016T013812Z
LAST-MODIFIED:20251023T033418Z
UID:6967-1761213600-1761224400@kpbsd.org
SUMMARY:Parent Teacher Conferences
DESCRIPTION:
URL:https://kpbsd.org/schools/port-graham/event/parent-teacher-conferences-6/
END:VEVENT
BEGIN:VEVENT
DTSTART;TZID=America/Anchorage:20251023T140000
DTEND;TZID=America/Anchorage:20251023T160000
DTSTAMP:20260423T230846
CREATED:20251017T014750Z
LAST-MODIFIED:20251023T033418Z
UID:7024-1761228000-1761235200@kpbsd.org
SUMMARY:Parent Teacher conferences
DESCRIPTION:
URL:https://kpbsd.org/schools/port-graham/event/parent-teacher-conferences-10/
END:VEVENT
BEGIN:VEVENT
DTSTART;TZID=America/Anchorage:20251023T160000
DTEND;TZID=America/Anchorage:20251023T180000
DTSTAMP:20260423T230846
CREATED:20250920T123301Z
LAST-MODIFIED:20251023T033418Z
UID:4024-1761235200-1761242400@kpbsd.org
SUMMARY:Cultural games club
DESCRIPTION:
URL:https://kpbsd.org/schools/port-graham/event/cultural-games-club-5/
END:VEVENT
END:VCALENDAR