BEGIN:VCALENDAR
VERSION:2.0
PRODID:-//Port Graham School - ECPv6.8.2//NONSGML v1.0//EN
CALSCALE:GREGORIAN
METHOD:PUBLISH
X-WR-CALNAME:Port Graham School
X-ORIGINAL-URL:https://kpbsd.org/schools/port-graham
X-WR-CALDESC:Events for Port Graham School
REFRESH-INTERVAL;VALUE=DURATION:PT1H
X-Robots-Tag:noindex
X-PUBLISHED-TTL:PT1H
BEGIN:VTIMEZONE
TZID:America/Anchorage
BEGIN:DAYLIGHT
TZOFFSETFROM:-0900
TZOFFSETTO:-0800
TZNAME:AKDT
DTSTART:20260308T110000
END:DAYLIGHT
BEGIN:STANDARD
TZOFFSETFROM:-0800
TZOFFSETTO:-0900
TZNAME:AKST
DTSTART:20261101T100000
END:STANDARD
END:VTIMEZONE
BEGIN:VEVENT
DTSTART;TZID=America/Anchorage:20260101T000000
DTEND;TZID=America/Anchorage:20260116T235959
DTSTAMP:20260421T054327
CREATED:20250819T050744Z
LAST-MODIFIED:20260116T235032Z
UID:2551-1767225600-1768607999@kpbsd.org
SUMMARY:Winter Break
DESCRIPTION:
URL:https://kpbsd.org/schools/port-graham/event/winter-break/
END:VEVENT
BEGIN:VEVENT
DTSTART;TZID=America/Anchorage:20260102T080000
DTEND;TZID=America/Anchorage:20260102T170000
DTSTAMP:20260421T054327
CREATED:20250819T040717Z
LAST-MODIFIED:20251229T215112Z
UID:2499-1767340800-1767373200@kpbsd.org
SUMMARY:Holiday
DESCRIPTION:No School
URL:https://kpbsd.org/schools/port-graham/event/holiday-21/
CATEGORIES:Districtwide Calendar
END:VEVENT
BEGIN:VEVENT
DTSTART;TZID=America/Anchorage:20260102T163000
DTEND;TZID=America/Anchorage:20260102T183000
DTSTAMP:20260421T054327
CREATED:20251106T063109Z
LAST-MODIFIED:20260102T211539Z
UID:8150-1767371400-1767378600@kpbsd.org
SUMMARY:Cultural games club
DESCRIPTION:
URL:https://kpbsd.org/schools/port-graham/event/cultural-games-club-135/
END:VEVENT
BEGIN:VEVENT
DTSTART;TZID=America/Anchorage:20260105T000000
DTEND;TZID=America/Anchorage:20260105T235959
DTSTAMP:20260421T054327
CREATED:20251118T080851Z
LAST-MODIFIED:20251119T082155Z
UID:8940-1767571200-1767657599@kpbsd.org
SUMMARY:Early release at 3:30 for students
DESCRIPTION:
URL:https://kpbsd.org/schools/port-graham/event/early-release-at-330-for-students-6/
END:VEVENT
BEGIN:VEVENT
DTSTART;TZID=America/Anchorage:20260105T163000
DTEND;TZID=America/Anchorage:20260105T183000
DTSTAMP:20260421T054327
CREATED:20251106T063110Z
LAST-MODIFIED:20260105T212907Z
UID:8153-1767630600-1767637800@kpbsd.org
SUMMARY:Cultural games club
DESCRIPTION:
URL:https://kpbsd.org/schools/port-graham/event/cultural-games-club-136/
END:VEVENT
BEGIN:VEVENT
DTSTART;TZID=America/Anchorage:20260106T150000
DTEND;TZID=America/Anchorage:20260106T170000
DTSTAMP:20260421T054327
CREATED:20251216T114027Z
LAST-MODIFIED:20260106T213420Z
UID:10486-1767711600-1767718800@kpbsd.org
SUMMARY:D&D club meeting
DESCRIPTION:
URL:https://kpbsd.org/schools/port-graham/event/dd-club-meeting-9/
END:VEVENT
BEGIN:VEVENT
DTSTART;TZID=America/Anchorage:20260106T161500
DTEND;TZID=America/Anchorage:20260106T181500
DTSTAMP:20260421T054327
CREATED:20250924T040141Z
LAST-MODIFIED:20251020T023550Z
UID:5956-1767716100-1767723300@kpbsd.org
SUMMARY:D&D club meeting
DESCRIPTION:
URL:https://kpbsd.org/schools/port-graham/event/dd-club-124/
END:VEVENT
BEGIN:VEVENT
DTSTART;TZID=America/Anchorage:20260107T163000
DTEND;TZID=America/Anchorage:20260107T183000
DTSTAMP:20260421T054327
CREATED:20251106T063110Z
LAST-MODIFIED:20260107T214431Z
UID:8156-1767803400-1767810600@kpbsd.org
SUMMARY:Cultural games club
DESCRIPTION:
URL:https://kpbsd.org/schools/port-graham/event/cultural-games-club-137/
END:VEVENT
BEGIN:VEVENT
DTSTART;TZID=America/Anchorage:20260108T000000
DTEND;TZID=America/Anchorage:20260111T235959
DTSTAMP:20260421T054327
CREATED:20251219T182759Z
LAST-MODIFIED:20260111T223936Z
UID:10642-1767830400-1768175999@kpbsd.org
SUMMARY:Homer High JV Basketball tournament at Homer High
DESCRIPTION:
URL:https://kpbsd.org/schools/port-graham/event/homer-high-jv-basketball-tournament-at-homer-high/
END:VEVENT
BEGIN:VEVENT
DTSTART;TZID=America/Anchorage:20260108T150000
DTEND;TZID=America/Anchorage:20260108T170000
DTSTAMP:20260421T054327
CREATED:20251218T180834Z
LAST-MODIFIED:20260108T222327Z
UID:10564-1767884400-1767891600@kpbsd.org
SUMMARY:D&D club meeting
DESCRIPTION:
URL:https://kpbsd.org/schools/port-graham/event/dd-club-meeting-30/
END:VEVENT
BEGIN:VEVENT
DTSTART;TZID=America/Anchorage:20260109T163000
DTEND;TZID=America/Anchorage:20260109T183000
DTSTAMP:20260421T054327
CREATED:20251106T063110Z
LAST-MODIFIED:20260109T222538Z
UID:8159-1767976200-1767983400@kpbsd.org
SUMMARY:Cultural games club
DESCRIPTION:
URL:https://kpbsd.org/schools/port-graham/event/cultural-games-club-138/
END:VEVENT
BEGIN:VEVENT
DTSTART;TZID=America/Anchorage:20260112T000000
DTEND;TZID=America/Anchorage:20260112T235959
DTSTAMP:20260421T054327
CREATED:20251118T080852Z
LAST-MODIFIED:20251119T082111Z
UID:8946-1768176000-1768262399@kpbsd.org
SUMMARY:Early release at 3:30 for students
DESCRIPTION:
URL:https://kpbsd.org/schools/port-graham/event/early-release-at-330-for-students-7/
END:VEVENT
BEGIN:VEVENT
DTSTART;TZID=America/Anchorage:20260112T163000
DTEND;TZID=America/Anchorage:20260112T183000
DTSTAMP:20260421T054327
CREATED:20251106T063111Z
LAST-MODIFIED:20260112T224038Z
UID:8162-1768235400-1768242600@kpbsd.org
SUMMARY:Cultural games club
DESCRIPTION:
URL:https://kpbsd.org/schools/port-graham/event/cultural-games-club-139/
END:VEVENT
BEGIN:VEVENT
DTSTART;TZID=America/Anchorage:20260113T150000
DTEND;TZID=America/Anchorage:20260113T170000
DTSTAMP:20260421T054327
CREATED:20251216T114028Z
LAST-MODIFIED:20260113T225438Z
UID:10489-1768316400-1768323600@kpbsd.org
SUMMARY:D&D club meeting
DESCRIPTION:
URL:https://kpbsd.org/schools/port-graham/event/dd-club-meeting-10/
END:VEVENT
BEGIN:VEVENT
DTSTART;TZID=America/Anchorage:20260113T161500
DTEND;TZID=America/Anchorage:20260113T181500
DTSTAMP:20260421T054327
CREATED:20250924T040142Z
LAST-MODIFIED:20251020T023605Z
UID:5959-1768320900-1768328100@kpbsd.org
SUMMARY:D&D club meeting
DESCRIPTION:
URL:https://kpbsd.org/schools/port-graham/event/dd-club-125/
END:VEVENT
BEGIN:VEVENT
DTSTART;TZID=America/Anchorage:20260114T163000
DTEND;TZID=America/Anchorage:20260114T183000
DTSTAMP:20260421T054327
CREATED:20251106T063112Z
LAST-MODIFIED:20260114T233115Z
UID:8165-1768408200-1768415400@kpbsd.org
SUMMARY:Cultural games club
DESCRIPTION:
URL:https://kpbsd.org/schools/port-graham/event/cultural-games-club-140/
END:VEVENT
BEGIN:VEVENT
DTSTART;TZID=America/Anchorage:20260115T150000
DTEND;TZID=America/Anchorage:20260115T170000
DTSTAMP:20260421T054327
CREATED:20251218T180835Z
LAST-MODIFIED:20260115T233741Z
UID:10570-1768489200-1768496400@kpbsd.org
SUMMARY:D&D club meeting
DESCRIPTION:
URL:https://kpbsd.org/schools/port-graham/event/dd-club-meeting-31/
END:VEVENT
BEGIN:VEVENT
DTSTART;TZID=America/Anchorage:20260116T080000
DTEND;TZID=America/Anchorage:20260116T170000
DTSTAMP:20260421T054327
CREATED:20250909T222612Z
LAST-MODIFIED:20260112T220427Z
UID:3952-1768550400-1768582800@kpbsd.org
SUMMARY:Early Release
DESCRIPTION:
URL:https://kpbsd.org/schools/port-graham/event/early-release-38/
CATEGORIES:Districtwide Calendar
END:VEVENT
BEGIN:VEVENT
DTSTART;TZID=America/Anchorage:20260116T163000
DTEND;TZID=America/Anchorage:20260116T183000
DTSTAMP:20260421T054327
CREATED:20251106T063112Z
LAST-MODIFIED:20260116T235032Z
UID:8168-1768581000-1768588200@kpbsd.org
SUMMARY:Cultural games club
DESCRIPTION:
URL:https://kpbsd.org/schools/port-graham/event/cultural-games-club-141/
END:VEVENT
BEGIN:VEVENT
DTSTART;TZID=America/Anchorage:20260119T000000
DTEND;TZID=America/Anchorage:20260119T235959
DTSTAMP:20260421T054327
CREATED:20250807T202003Z
LAST-MODIFIED:20260119T000516Z
UID:2103-1768780800-1768867199@kpbsd.org
SUMMARY:End of Second Quarter
DESCRIPTION:
URL:https://kpbsd.org/schools/port-graham/event/end-of-second-quarter/
END:VEVENT
BEGIN:VEVENT
DTSTART;TZID=America/Anchorage:20260119T000000
DTEND;TZID=America/Anchorage:20260119T235959
DTSTAMP:20260421T054327
CREATED:20250807T202003Z
LAST-MODIFIED:20260119T000516Z
UID:2106-1768780800-1768867199@kpbsd.org
SUMMARY:In-service (No school for students)
DESCRIPTION:
URL:https://kpbsd.org/schools/port-graham/event/in-service-no-school-for-students-2/
END:VEVENT
BEGIN:VEVENT
DTSTART;TZID=America/Anchorage:20260119T000000
DTEND;TZID=America/Anchorage:20260119T235959
DTSTAMP:20260421T054327
CREATED:20251118T080901Z
LAST-MODIFIED:20251119T082112Z
UID:8998-1768780800-1768867199@kpbsd.org
SUMMARY:Early release at 3:30 for students
DESCRIPTION:
URL:https://kpbsd.org/schools/port-graham/event/early-release-at-330-for-students-8/
END:VEVENT
BEGIN:VEVENT
DTSTART;TZID=America/Anchorage:20260119T163000
DTEND;TZID=America/Anchorage:20260119T183000
DTSTAMP:20260421T054327
CREATED:20251106T063113Z
LAST-MODIFIED:20260120T000633Z
UID:8171-1768840200-1768847400@kpbsd.org
SUMMARY:Cultural games club
DESCRIPTION:
URL:https://kpbsd.org/schools/port-graham/event/cultural-games-club-142/
END:VEVENT
BEGIN:VEVENT
DTSTART;TZID=America/Anchorage:20260120T000000
DTEND;TZID=America/Anchorage:20260120T235959
DTSTAMP:20260421T054327
CREATED:20251118T080902Z
LAST-MODIFIED:20260120T000633Z
UID:9001-1768867200-1768953599@kpbsd.org
SUMMARY:Students return from break
DESCRIPTION:
URL:https://kpbsd.org/schools/port-graham/event/students-return-from-break/
END:VEVENT
BEGIN:VEVENT
DTSTART;TZID=America/Anchorage:20260120T161500
DTEND;TZID=America/Anchorage:20260120T181500
DTSTAMP:20260421T054327
CREATED:20250924T040143Z
LAST-MODIFIED:20251020T023605Z
UID:5962-1768925700-1768932900@kpbsd.org
SUMMARY:D&D club meeting
DESCRIPTION:
URL:https://kpbsd.org/schools/port-graham/event/dd-club-126/
END:VEVENT
BEGIN:VEVENT
DTSTART;TZID=America/Anchorage:20260120T173000
DTEND;TZID=America/Anchorage:20260120T191500
DTSTAMP:20260421T054327
CREATED:20251118T080902Z
LAST-MODIFIED:20260121T000434Z
UID:9004-1768930200-1768936500@kpbsd.org
SUMMARY:Site based council meeting
DESCRIPTION:Microsoft Teams Need help?  \nJoin the meeting now  \nMeeting ID: 210 190 377 693 22  \nPasscode: X7M8Sf2p
URL:https://kpbsd.org/schools/port-graham/event/site-based-council-meeting-53/
END:VEVENT
BEGIN:VEVENT
DTSTART;TZID=America/Anchorage:20260121T161500
DTEND;TZID=America/Anchorage:20260121T181500
DTSTAMP:20260421T054327
CREATED:20251216T114030Z
LAST-MODIFIED:20260122T000420Z
UID:10492-1769012100-1769019300@kpbsd.org
SUMMARY:D&D club meeting
DESCRIPTION:
URL:https://kpbsd.org/schools/port-graham/event/dd-club-meeting-11/
END:VEVENT
BEGIN:VEVENT
DTSTART;TZID=America/Anchorage:20260121T163000
DTEND;TZID=America/Anchorage:20260121T183000
DTSTAMP:20260421T054327
CREATED:20251106T063113Z
LAST-MODIFIED:20260122T000420Z
UID:8174-1769013000-1769020200@kpbsd.org
SUMMARY:Cultural games club
DESCRIPTION:
URL:https://kpbsd.org/schools/port-graham/event/cultural-games-club-143/
END:VEVENT
BEGIN:VEVENT
DTSTART;TZID=America/Anchorage:20260122T120000
DTEND;TZID=America/Anchorage:20260122T130000
DTSTAMP:20260421T054327
CREATED:20260121T000435Z
LAST-MODIFIED:20260121T000435Z
UID:10735-1769083200-1769086800@kpbsd.org
SUMMARY:Sources of Strength lunch
DESCRIPTION:
URL:https://kpbsd.org/schools/port-graham/event/sources-of-strength-lunch-2/
END:VEVENT
BEGIN:VEVENT
DTSTART;TZID=America/Anchorage:20260122T161500
DTEND;TZID=America/Anchorage:20260122T181500
DTSTAMP:20260421T054327
CREATED:20251118T080903Z
LAST-MODIFIED:20251119T082113Z
UID:9007-1769098500-1769105700@kpbsd.org
SUMMARY:D&D club meeting
DESCRIPTION:
URL:https://kpbsd.org/schools/port-graham/event/dd-club-meeting-14/
END:VEVENT
END:VCALENDAR