BEGIN:VCALENDAR
VERSION:2.0
PRODID:-//Port Graham School - ECPv6.8.2//NONSGML v1.0//EN
CALSCALE:GREGORIAN
METHOD:PUBLISH
X-WR-CALNAME:Port Graham School
X-ORIGINAL-URL:https://kpbsd.org/schools/port-graham
X-WR-CALDESC:Events for Port Graham School
REFRESH-INTERVAL;VALUE=DURATION:PT1H
X-Robots-Tag:noindex
X-PUBLISHED-TTL:PT1H
BEGIN:VTIMEZONE
TZID:America/Anchorage
BEGIN:DAYLIGHT
TZOFFSETFROM:-0900
TZOFFSETTO:-0800
TZNAME:AKDT
DTSTART:20260308T110000
END:DAYLIGHT
BEGIN:STANDARD
TZOFFSETFROM:-0800
TZOFFSETTO:-0900
TZNAME:AKST
DTSTART:20261101T100000
END:STANDARD
END:VTIMEZONE
BEGIN:VEVENT
DTSTART;TZID=America/Anchorage:20260225T120000
DTEND;TZID=America/Anchorage:20260225T130000
DTSTAMP:20260420T200322
CREATED:20260213T232303Z
LAST-MODIFIED:20260225T005831Z
UID:11286-1772020800-1772024400@kpbsd.org
SUMMARY:Sources of Strength Lunch (Middle School/ High School)
DESCRIPTION:
URL:https://kpbsd.org/schools/port-graham/event/sources-of-strength-lunch-middle-school-high-school/
END:VEVENT
BEGIN:VEVENT
DTSTART;TZID=America/Anchorage:20260225T161500
DTEND;TZID=America/Anchorage:20260225T181500
DTSTAMP:20260420T200322
CREATED:20260213T232305Z
LAST-MODIFIED:20260226T010545Z
UID:11289-1772036100-1772043300@kpbsd.org
SUMMARY:D&D club meeting
DESCRIPTION:
URL:https://kpbsd.org/schools/port-graham/event/dd-club-meeting-6/
END:VEVENT
BEGIN:VEVENT
DTSTART;TZID=America/Anchorage:20260225T163000
DTEND;TZID=America/Anchorage:20260225T183000
DTSTAMP:20260420T200322
CREATED:20251106T063124Z
LAST-MODIFIED:20260226T010545Z
UID:8241-1772037000-1772044200@kpbsd.org
SUMMARY:Cultural games club
DESCRIPTION:
URL:https://kpbsd.org/schools/port-graham/event/cultural-games-club-158/
END:VEVENT
BEGIN:VEVENT
DTSTART;TZID=America/Anchorage:20260225T190000
DTEND;TZID=America/Anchorage:20260225T210000
DTSTAMP:20260420T200322
CREATED:20260212T231517Z
LAST-MODIFIED:20260226T010546Z
UID:11111-1772046000-1772053200@kpbsd.org
SUMMARY:Open gym tentative
DESCRIPTION:
URL:https://kpbsd.org/schools/port-graham/event/open-gym-tentative-10/
END:VEVENT
BEGIN:VEVENT
DTSTART;TZID=America/Anchorage:20260226T000000
DTEND;TZID=America/Anchorage:20260301T235959
DTSTAMP:20260420T200322
CREATED:20251219T182810Z
LAST-MODIFIED:20260301T014038Z
UID:10654-1772064000-1772409599@kpbsd.org
SUMMARY:Peninsula Conference Regional Basketball Tournament @Cook Inlet Academy
DESCRIPTION:
URL:https://kpbsd.org/schools/port-graham/event/peninsula-conference-regional-basketball-tournament-cook-inlet-academy/
END:VEVENT
BEGIN:VEVENT
DTSTART;TZID=America/Anchorage:20260226T163000
DTEND;TZID=America/Anchorage:20260226T180000
DTSTAMP:20260420T200322
CREATED:20260211T224148Z
LAST-MODIFIED:20260212T231544Z
UID:10901-1772123400-1772128800@kpbsd.org
SUMMARY:Basketball practice
DESCRIPTION:
URL:https://kpbsd.org/schools/port-graham/event/basketball-practice-8/
LOCATION:Gym
END:VEVENT
BEGIN:VEVENT
DTSTART;TZID=America/Anchorage:20260227T163000
DTEND;TZID=America/Anchorage:20260227T183000
DTSTAMP:20260420T200322
CREATED:20251106T063125Z
LAST-MODIFIED:20260212T231544Z
UID:8244-1772209800-1772217000@kpbsd.org
SUMMARY:Cultural games club
DESCRIPTION:
URL:https://kpbsd.org/schools/port-graham/event/cultural-games-club-159/
END:VEVENT
BEGIN:VEVENT
DTSTART;TZID=America/Anchorage:20260227T190000
DTEND;TZID=America/Anchorage:20260227T220000
DTSTAMP:20260420T200322
CREATED:20260212T231518Z
LAST-MODIFIED:20260212T231518Z
UID:11114-1772218800-1772229600@kpbsd.org
SUMMARY:Open gym tentative
DESCRIPTION:
URL:https://kpbsd.org/schools/port-graham/event/open-gym-tentative-11/
END:VEVENT
BEGIN:VEVENT
DTSTART;TZID=America/Anchorage:20260228T163000
DTEND;TZID=America/Anchorage:20260228T180000
DTSTAMP:20260420T200322
CREATED:20260211T224148Z
LAST-MODIFIED:20260212T231518Z
UID:10904-1772296200-1772301600@kpbsd.org
SUMMARY:Basketball practice
DESCRIPTION:
URL:https://kpbsd.org/schools/port-graham/event/basketball-practice-9/
LOCATION:Gym
END:VEVENT
BEGIN:VEVENT
DTSTART;TZID=America/Anchorage:20260228T190000
DTEND;TZID=America/Anchorage:20260228T220000
DTSTAMP:20260420T200322
CREATED:20260212T231518Z
LAST-MODIFIED:20260212T231518Z
UID:11117-1772305200-1772316000@kpbsd.org
SUMMARY:Open gym tentative
DESCRIPTION:
URL:https://kpbsd.org/schools/port-graham/event/open-gym-tentative-12/
END:VEVENT
BEGIN:VEVENT
DTSTART;TZID=America/Anchorage:20260302T000000
DTEND;TZID=America/Anchorage:20260302T235959
DTSTAMP:20260420T200322
CREATED:20251118T080911Z
LAST-MODIFIED:20260302T014424Z
UID:9046-1772409600-1772495999@kpbsd.org
SUMMARY:Early release at 3:30 for students
DESCRIPTION:
URL:https://kpbsd.org/schools/port-graham/event/early-release-at-330-for-students-14/
END:VEVENT
BEGIN:VEVENT
DTSTART;TZID=America/Anchorage:20260302T163000
DTEND;TZID=America/Anchorage:20260302T183000
DTSTAMP:20260420T200322
CREATED:20251106T063125Z
LAST-MODIFIED:20260303T014915Z
UID:8247-1772469000-1772476200@kpbsd.org
SUMMARY:Cultural games club
DESCRIPTION:
URL:https://kpbsd.org/schools/port-graham/event/cultural-games-club-160/
END:VEVENT
BEGIN:VEVENT
DTSTART;TZID=America/Anchorage:20260302T190000
DTEND;TZID=America/Anchorage:20260302T210000
DTSTAMP:20260420T200322
CREATED:20260212T231519Z
LAST-MODIFIED:20260303T014916Z
UID:11120-1772478000-1772485200@kpbsd.org
SUMMARY:Open gym tentative
DESCRIPTION:
URL:https://kpbsd.org/schools/port-graham/event/open-gym-tentative-13/
END:VEVENT
BEGIN:VEVENT
DTSTART;TZID=America/Anchorage:20260303T161500
DTEND;TZID=America/Anchorage:20260303T181500
DTSTAMP:20260420T200322
CREATED:20250924T040150Z
LAST-MODIFIED:20251020T023638Z
UID:5988-1772554500-1772561700@kpbsd.org
SUMMARY:D&D club meeting
DESCRIPTION:
URL:https://kpbsd.org/schools/port-graham/event/dd-club-132/
END:VEVENT
BEGIN:VEVENT
DTSTART;TZID=America/Anchorage:20260304T163000
DTEND;TZID=America/Anchorage:20260304T183000
DTSTAMP:20260420T200322
CREATED:20251106T063126Z
LAST-MODIFIED:20260303T014916Z
UID:8253-1772641800-1772649000@kpbsd.org
SUMMARY:Cultural games club
DESCRIPTION:
URL:https://kpbsd.org/schools/port-graham/event/cultural-games-club-161/
END:VEVENT
BEGIN:VEVENT
DTSTART;TZID=America/Anchorage:20260304T190000
DTEND;TZID=America/Anchorage:20260304T210000
DTSTAMP:20260420T200322
CREATED:20260212T231519Z
LAST-MODIFIED:20260305T020423Z
UID:11123-1772650800-1772658000@kpbsd.org
SUMMARY:Open gym tentative
DESCRIPTION:
URL:https://kpbsd.org/schools/port-graham/event/open-gym-tentative-14/
END:VEVENT
BEGIN:VEVENT
DTSTART;TZID=America/Anchorage:20260305T000000
DTEND;TZID=America/Anchorage:20260305T235959
DTSTAMP:20260420T200322
CREATED:20250807T202004Z
LAST-MODIFIED:20260305T020423Z
UID:2121-1772668800-1772755199@kpbsd.org
SUMMARY:Early Release for students
DESCRIPTION:Students will be dismissed at 2:15.
URL:https://kpbsd.org/schools/port-graham/event/early-release-for-students-8/
END:VEVENT
BEGIN:VEVENT
DTSTART;TZID=America/Anchorage:20260305T080000
DTEND;TZID=America/Anchorage:20260305T170000
DTSTAMP:20260420T200322
CREATED:20250909T222613Z
LAST-MODIFIED:20260302T230550Z
UID:3964-1772697600-1772730000@kpbsd.org
SUMMARY:Early Release
DESCRIPTION:
URL:https://kpbsd.org/schools/port-graham/event/early-release-40/
CATEGORIES:Districtwide Calendar
END:VEVENT
BEGIN:VEVENT
DTSTART;TZID=America/Anchorage:20260306T000000
DTEND;TZID=America/Anchorage:20260306T235959
DTSTAMP:20260420T200322
CREATED:20250807T202004Z
LAST-MODIFIED:20260306T020453Z
UID:2118-1772755200-1772841599@kpbsd.org
SUMMARY:In-service (No school for students)
DESCRIPTION:
URL:https://kpbsd.org/schools/port-graham/event/in-service-no-school-for-students-3/
END:VEVENT
BEGIN:VEVENT
DTSTART;TZID=America/Anchorage:20260306T000000
DTEND;TZID=America/Anchorage:20260306T235959
DTSTAMP:20260420T200322
CREATED:20250807T202005Z
LAST-MODIFIED:20260306T020453Z
UID:2124-1772755200-1772841599@kpbsd.org
SUMMARY:End of Third Quarter
DESCRIPTION:
URL:https://kpbsd.org/schools/port-graham/event/end-of-third-quarter/
END:VEVENT
BEGIN:VEVENT
DTSTART;TZID=America/Anchorage:20260306T163000
DTEND;TZID=America/Anchorage:20260306T183000
DTSTAMP:20260420T200322
CREATED:20251106T063128Z
LAST-MODIFIED:20260307T020525Z
UID:8256-1772814600-1772821800@kpbsd.org
SUMMARY:Cultural games club
DESCRIPTION:
URL:https://kpbsd.org/schools/port-graham/event/cultural-games-club-162/
END:VEVENT
BEGIN:VEVENT
DTSTART;TZID=America/Anchorage:20260306T190000
DTEND;TZID=America/Anchorage:20260306T220000
DTSTAMP:20260420T200322
CREATED:20260212T231520Z
LAST-MODIFIED:20260307T020525Z
UID:11126-1772823600-1772834400@kpbsd.org
SUMMARY:Open gym tentative
DESCRIPTION:
URL:https://kpbsd.org/schools/port-graham/event/open-gym-tentative-15/
END:VEVENT
BEGIN:VEVENT
DTSTART;TZID=America/Anchorage:20260307T190000
DTEND;TZID=America/Anchorage:20260307T220000
DTSTAMP:20260420T200322
CREATED:20260212T231521Z
LAST-MODIFIED:20260308T020644Z
UID:11129-1772910000-1772920800@kpbsd.org
SUMMARY:Open gym tentative
DESCRIPTION:
URL:https://kpbsd.org/schools/port-graham/event/open-gym-tentative-16/
END:VEVENT
BEGIN:VEVENT
DTSTART;TZID=America/Anchorage:20260309T000000
DTEND;TZID=America/Anchorage:20260309T235959
DTSTAMP:20260420T200322
CREATED:20251118T080914Z
LAST-MODIFIED:20260304T015026Z
UID:9050-1773014400-1773100799@kpbsd.org
SUMMARY:Early release at 3:30 for students
DESCRIPTION:
URL:https://kpbsd.org/schools/port-graham/event/early-release-at-330-for-students-15/
END:VEVENT
BEGIN:VEVENT
DTSTART;TZID=America/Anchorage:20260309T000000
DTEND;TZID=America/Anchorage:20260313T235959
DTSTAMP:20260420T200322
CREATED:20250819T050747Z
LAST-MODIFIED:20260313T023537Z
UID:2563-1773014400-1773446399@kpbsd.org
SUMMARY:Spring Break
DESCRIPTION:
URL:https://kpbsd.org/schools/port-graham/event/spring-break/
END:VEVENT
BEGIN:VEVENT
DTSTART;TZID=America/Anchorage:20260309T080000
DTEND;TZID=America/Anchorage:20260313T170000
DTSTAMP:20260420T200322
CREATED:20250819T040719Z
LAST-MODIFIED:20260309T230939Z
UID:2524-1773043200-1773421200@kpbsd.org
SUMMARY:Vacation Day
DESCRIPTION:No School
URL:https://kpbsd.org/schools/port-graham/event/vacation-day-12/
CATEGORIES:Districtwide Calendar
END:VEVENT
BEGIN:VEVENT
DTSTART;TZID=America/Anchorage:20260309T163000
DTEND;TZID=America/Anchorage:20260309T183000
DTSTAMP:20260420T200322
CREATED:20251106T063128Z
LAST-MODIFIED:20260310T022015Z
UID:8259-1773073800-1773081000@kpbsd.org
SUMMARY:Cultural games club
DESCRIPTION:
URL:https://kpbsd.org/schools/port-graham/event/cultural-games-club-163/
END:VEVENT
BEGIN:VEVENT
DTSTART;TZID=America/Anchorage:20260309T190000
DTEND;TZID=America/Anchorage:20260309T210000
DTSTAMP:20260420T200322
CREATED:20260212T231521Z
LAST-MODIFIED:20260310T022015Z
UID:11132-1773082800-1773090000@kpbsd.org
SUMMARY:Open gym tentative
DESCRIPTION:
URL:https://kpbsd.org/schools/port-graham/event/open-gym-tentative-17/
END:VEVENT
BEGIN:VEVENT
DTSTART;TZID=America/Anchorage:20260310T161500
DTEND;TZID=America/Anchorage:20260310T181500
DTSTAMP:20260420T200322
CREATED:20250924T040151Z
LAST-MODIFIED:20251020T023655Z
UID:5991-1773159300-1773166500@kpbsd.org
SUMMARY:D&D club meeting
DESCRIPTION:
URL:https://kpbsd.org/schools/port-graham/event/dd-club-133/
END:VEVENT
BEGIN:VEVENT
DTSTART;TZID=America/Anchorage:20260311T163000
DTEND;TZID=America/Anchorage:20260311T183000
DTSTAMP:20260420T200322
CREATED:20251106T063129Z
LAST-MODIFIED:20260311T022244Z
UID:8265-1773246600-1773253800@kpbsd.org
SUMMARY:Cultural games club
DESCRIPTION:
URL:https://kpbsd.org/schools/port-graham/event/cultural-games-club-164/
END:VEVENT
END:VCALENDAR