BEGIN:VCALENDAR
VERSION:2.0
PRODID:-//Port Graham School - ECPv6.8.2//NONSGML v1.0//EN
CALSCALE:GREGORIAN
METHOD:PUBLISH
X-WR-CALNAME:Port Graham School
X-ORIGINAL-URL:https://kpbsd.org/schools/port-graham
X-WR-CALDESC:Events for Port Graham School
REFRESH-INTERVAL;VALUE=DURATION:PT1H
X-Robots-Tag:noindex
X-PUBLISHED-TTL:PT1H
BEGIN:VTIMEZONE
TZID:America/Anchorage
BEGIN:DAYLIGHT
TZOFFSETFROM:-0900
TZOFFSETTO:-0800
TZNAME:AKDT
DTSTART:20260308T110000
END:DAYLIGHT
BEGIN:STANDARD
TZOFFSETFROM:-0800
TZOFFSETTO:-0900
TZNAME:AKST
DTSTART:20261101T100000
END:STANDARD
END:VTIMEZONE
BEGIN:VEVENT
DTSTART;TZID=America/Anchorage:20260309T000000
DTEND;TZID=America/Anchorage:20260313T235959
DTSTAMP:20260420T234024
CREATED:20250819T050747Z
LAST-MODIFIED:20260313T023537Z
UID:2563-1773014400-1773446399@kpbsd.org
SUMMARY:Spring Break
DESCRIPTION:
URL:https://kpbsd.org/schools/port-graham/event/spring-break/
END:VEVENT
BEGIN:VEVENT
DTSTART;TZID=America/Anchorage:20260309T080000
DTEND;TZID=America/Anchorage:20260313T170000
DTSTAMP:20260420T234024
CREATED:20250819T040719Z
LAST-MODIFIED:20260309T230939Z
UID:2524-1773043200-1773421200@kpbsd.org
SUMMARY:Vacation Day
DESCRIPTION:No School
URL:https://kpbsd.org/schools/port-graham/event/vacation-day-12/
CATEGORIES:Districtwide Calendar
END:VEVENT
BEGIN:VEVENT
DTSTART;TZID=America/Anchorage:20260310T161500
DTEND;TZID=America/Anchorage:20260310T181500
DTSTAMP:20260420T234024
CREATED:20250924T040151Z
LAST-MODIFIED:20251020T023655Z
UID:5991-1773159300-1773166500@kpbsd.org
SUMMARY:D&D club meeting
DESCRIPTION:
URL:https://kpbsd.org/schools/port-graham/event/dd-club-133/
END:VEVENT
BEGIN:VEVENT
DTSTART;TZID=America/Anchorage:20260311T163000
DTEND;TZID=America/Anchorage:20260311T183000
DTSTAMP:20260420T234024
CREATED:20251106T063129Z
LAST-MODIFIED:20260311T022244Z
UID:8265-1773246600-1773253800@kpbsd.org
SUMMARY:Cultural games club
DESCRIPTION:
URL:https://kpbsd.org/schools/port-graham/event/cultural-games-club-164/
END:VEVENT
BEGIN:VEVENT
DTSTART;TZID=America/Anchorage:20260311T190000
DTEND;TZID=America/Anchorage:20260311T210000
DTSTAMP:20260420T234024
CREATED:20260212T231522Z
LAST-MODIFIED:20260312T023322Z
UID:11135-1773255600-1773262800@kpbsd.org
SUMMARY:Open gym tentative
DESCRIPTION:
URL:https://kpbsd.org/schools/port-graham/event/open-gym-tentative-18/
END:VEVENT
BEGIN:VEVENT
DTSTART;TZID=America/Anchorage:20260313T163000
DTEND;TZID=America/Anchorage:20260313T183000
DTSTAMP:20260420T234024
CREATED:20251106T063129Z
LAST-MODIFIED:20260313T023538Z
UID:8268-1773419400-1773426600@kpbsd.org
SUMMARY:Cultural games club
DESCRIPTION:
URL:https://kpbsd.org/schools/port-graham/event/cultural-games-club-165/
END:VEVENT
BEGIN:VEVENT
DTSTART;TZID=America/Anchorage:20260313T190000
DTEND;TZID=America/Anchorage:20260313T220000
DTSTAMP:20260420T234024
CREATED:20260212T231523Z
LAST-MODIFIED:20260314T023538Z
UID:11138-1773428400-1773439200@kpbsd.org
SUMMARY:Open gym tentative
DESCRIPTION:
URL:https://kpbsd.org/schools/port-graham/event/open-gym-tentative-19/
END:VEVENT
BEGIN:VEVENT
DTSTART;TZID=America/Anchorage:20260314T190000
DTEND;TZID=America/Anchorage:20260314T220000
DTSTAMP:20260420T234024
CREATED:20260212T231523Z
LAST-MODIFIED:20260315T025046Z
UID:11141-1773514800-1773525600@kpbsd.org
SUMMARY:Open gym tentative
DESCRIPTION:
URL:https://kpbsd.org/schools/port-graham/event/open-gym-tentative-20/
END:VEVENT
BEGIN:VEVENT
DTSTART;TZID=America/Anchorage:20260316T000000
DTEND;TZID=America/Anchorage:20260316T235959
DTSTAMP:20260420T234024
CREATED:20251118T080916Z
LAST-MODIFIED:20260316T025057Z
UID:9056-1773619200-1773705599@kpbsd.org
SUMMARY:Early release at 3:30 for students
DESCRIPTION:
URL:https://kpbsd.org/schools/port-graham/event/early-release-at-330-for-students-16/
END:VEVENT
BEGIN:VEVENT
DTSTART;TZID=America/Anchorage:20260316T000000
DTEND;TZID=America/Anchorage:20260316T235959
DTSTAMP:20260420T234024
CREATED:20260308T020642Z
LAST-MODIFIED:20260316T025057Z
UID:11581-1773619200-1773705599@kpbsd.org
SUMMARY:Cozy Comeback Day (Wear PJs)
DESCRIPTION:
URL:https://kpbsd.org/schools/port-graham/event/cozy-comeback-day-wear-pjs/
END:VEVENT
BEGIN:VEVENT
DTSTART;TZID=America/Anchorage:20260316T161500
DTEND;TZID=America/Anchorage:20260316T170000
DTSTAMP:20260420T234024
CREATED:20260304T015026Z
LAST-MODIFIED:20260316T025057Z
UID:11551-1773677700-1773680400@kpbsd.org
SUMMARY:Senior meeting
DESCRIPTION:Join with Google Meet: https://meet.google.com/idp-ayjk-faj\nOr dial: (US) +1 912-712-4295 PIN: 983664989#\nLearn more about Meet at: https://support.google.com/a/users/answer/9282720
URL:https://kpbsd.org/schools/port-graham/event/senior-meeting/
END:VEVENT
BEGIN:VEVENT
DTSTART;TZID=America/Anchorage:20260316T163000
DTEND;TZID=America/Anchorage:20260316T183000
DTSTAMP:20260420T234024
CREATED:20251106T063130Z
LAST-MODIFIED:20260316T025057Z
UID:8271-1773678600-1773685800@kpbsd.org
SUMMARY:Cultural games club
DESCRIPTION:
URL:https://kpbsd.org/schools/port-graham/event/cultural-games-club-166/
END:VEVENT
BEGIN:VEVENT
DTSTART;TZID=America/Anchorage:20260316T190000
DTEND;TZID=America/Anchorage:20260316T210000
DTSTAMP:20260420T234024
CREATED:20260212T231524Z
LAST-MODIFIED:20260317T024924Z
UID:11144-1773687600-1773694800@kpbsd.org
SUMMARY:Open gym tentative
DESCRIPTION:
URL:https://kpbsd.org/schools/port-graham/event/open-gym-tentative-21/
END:VEVENT
BEGIN:VEVENT
DTSTART;TZID=America/Anchorage:20260317T000000
DTEND;TZID=America/Anchorage:20260317T235959
DTSTAMP:20260420T234024
CREATED:20260308T020643Z
LAST-MODIFIED:20260317T024924Z
UID:11587-1773705600-1773791999@kpbsd.org
SUMMARY:Lucky to be Back in School!  (Wear Green)
DESCRIPTION:
URL:https://kpbsd.org/schools/port-graham/event/lucky-to-be-back-in-school-wear-green/
END:VEVENT
BEGIN:VEVENT
DTSTART;TZID=America/Anchorage:20260317T161500
DTEND;TZID=America/Anchorage:20260317T181500
DTSTAMP:20260420T234024
CREATED:20250924T040151Z
LAST-MODIFIED:20251020T023656Z
UID:5994-1773764100-1773771300@kpbsd.org
SUMMARY:D&D club meeting
DESCRIPTION:
URL:https://kpbsd.org/schools/port-graham/event/dd-club-134/
END:VEVENT
BEGIN:VEVENT
DTSTART;TZID=America/Anchorage:20260318T000000
DTEND;TZID=America/Anchorage:20260318T235959
DTSTAMP:20260420T234024
CREATED:20260308T020643Z
LAST-MODIFIED:20260318T025138Z
UID:11584-1773792000-1773878399@kpbsd.org
SUMMARY:Many Cultures\, One School (Wear Cultural Items)
DESCRIPTION:
URL:https://kpbsd.org/schools/port-graham/event/many-cultures-one-school-wear-cultural-items/
END:VEVENT
BEGIN:VEVENT
DTSTART;TZID=America/Anchorage:20260318T110000
DTEND;TZID=America/Anchorage:20260318T120000
DTSTAMP:20260420T234024
CREATED:20260308T020644Z
LAST-MODIFIED:20260318T025137Z
UID:11593-1773831600-1773835200@kpbsd.org
SUMMARY:Salmon Life Lesson- Elementary
DESCRIPTION:Rachel Pioch is inviting you to a scheduled Zoom meeting. \nJoin Zoom Meeting \nhttps://kpbsd.zoom.us/j/86746434504 \n  \nMeeting ID: 867 4643 4504
URL:https://kpbsd.org/schools/port-graham/event/salmon-life-lesson-elementary/
END:VEVENT
BEGIN:VEVENT
DTSTART;TZID=America/Anchorage:20260318T131500
DTEND;TZID=America/Anchorage:20260318T141500
DTSTAMP:20260420T234024
CREATED:20260308T020644Z
LAST-MODIFIED:20260318T025138Z
UID:11596-1773839700-1773843300@kpbsd.org
SUMMARY:Salmon Life- Secondary
DESCRIPTION:Rachel Pioch is inviting you to a scheduled Zoom meeting. \nJoin Zoom Meeting \nhttps://kpbsd.zoom.us/j/83883970408 \n  \nMeeting ID: 838 8397 0408
URL:https://kpbsd.org/schools/port-graham/event/salmon-life-secondary/
END:VEVENT
BEGIN:VEVENT
DTSTART;TZID=America/Anchorage:20260318T163000
DTEND;TZID=America/Anchorage:20260318T180000
DTSTAMP:20260420T234024
CREATED:20260318T025137Z
LAST-MODIFIED:20260318T025138Z
UID:11650-1773851400-1773856800@kpbsd.org
SUMMARY:Cultural games club
DESCRIPTION:
URL:https://kpbsd.org/schools/port-graham/event/cultural-games-club-184/
END:VEVENT
BEGIN:VEVENT
DTSTART;TZID=America/Anchorage:20260318T163000
DTEND;TZID=America/Anchorage:20260318T183000
DTSTAMP:20260420T234024
CREATED:20251106T063130Z
LAST-MODIFIED:20260317T024924Z
UID:8277-1773851400-1773858600@kpbsd.org
SUMMARY:Cultural games club
DESCRIPTION:
URL:https://kpbsd.org/schools/port-graham/event/cultural-games-club-167/
END:VEVENT
BEGIN:VEVENT
DTSTART;TZID=America/Anchorage:20260318T190000
DTEND;TZID=America/Anchorage:20260318T210000
DTSTAMP:20260420T234024
CREATED:20260212T231525Z
LAST-MODIFIED:20260317T024924Z
UID:11147-1773860400-1773867600@kpbsd.org
SUMMARY:Open gym tentative
DESCRIPTION:
URL:https://kpbsd.org/schools/port-graham/event/open-gym-tentative-22/
END:VEVENT
BEGIN:VEVENT
DTSTART;TZID=America/Anchorage:20260318T190000
DTEND;TZID=America/Anchorage:20260318T210000
DTSTAMP:20260420T234024
CREATED:20260318T025137Z
LAST-MODIFIED:20260319T030715Z
UID:11653-1773860400-1773867600@kpbsd.org
SUMMARY:Open gym planned
DESCRIPTION:
URL:https://kpbsd.org/schools/port-graham/event/open-gym-planned/
END:VEVENT
BEGIN:VEVENT
DTSTART;TZID=America/Anchorage:20260318T190000
DTEND;TZID=America/Anchorage:20260318T210000
DTSTAMP:20260420T234024
CREATED:20260318T025138Z
LAST-MODIFIED:20260318T025138Z
UID:11658-1773860400-1773867600@kpbsd.org
SUMMARY:Open gym planned
DESCRIPTION:
URL:https://kpbsd.org/schools/port-graham/event/open-gym-planned-2/
END:VEVENT
BEGIN:VEVENT
DTSTART;TZID=America/Anchorage:20260319T000000
DTEND;TZID=America/Anchorage:20260319T235959
DTSTAMP:20260420T234024
CREATED:20260308T020644Z
LAST-MODIFIED:20260319T030716Z
UID:11599-1773878400-1773964799@kpbsd.org
SUMMARY:Black\, White\, & Orca Pride!  (Wear black & white)
DESCRIPTION:
URL:https://kpbsd.org/schools/port-graham/event/black-white-orca-pride-wear-black-white/
END:VEVENT
BEGIN:VEVENT
DTSTART;TZID=America/Anchorage:20260319T163000
DTEND;TZID=America/Anchorage:20260319T183000
DTSTAMP:20260420T234024
CREATED:20260318T025138Z
LAST-MODIFIED:20260318T025138Z
UID:11659-1773937800-1773945000@kpbsd.org
SUMMARY:Cultural games club
DESCRIPTION:Join with Google Meet: https://meet.google.com/vtw-yncw-xnx\nOr dial: (US) +1 440-494-6788 PIN: 255050753#\nLearn more about Meet at: https://support.google.com/a/users/answer/9282720
URL:https://kpbsd.org/schools/port-graham/event/cultural-games-club-185/
END:VEVENT
BEGIN:VEVENT
DTSTART;TZID=America/Anchorage:20260319T163000
DTEND;TZID=America/Anchorage:20260319T183000
DTSTAMP:20260420T234024
CREATED:20260318T025138Z
LAST-MODIFIED:20260319T030716Z
UID:11661-1773937800-1773945000@kpbsd.org
SUMMARY:Cultural games club
DESCRIPTION:Join with Google Meet: https://meet.google.com/vtw-yncw-xnx\nOr dial: (US) +1 440-494-6788 PIN: 255050753#\nLearn more about Meet at: https://support.google.com/a/users/answer/9282720
URL:https://kpbsd.org/schools/port-graham/event/cultural-games-club-186/
END:VEVENT
BEGIN:VEVENT
DTSTART;TZID=America/Anchorage:20260319T173000
DTEND;TZID=America/Anchorage:20260319T190000
DTSTAMP:20260420T234024
CREATED:20260211T033535Z
LAST-MODIFIED:20260319T030716Z
UID:10853-1773941400-1773946800@kpbsd.org
SUMMARY:Site Based Council meeting
DESCRIPTION:________________________________________________________________________________ \nMicrosoft Teams Needhelp?  \nJointhe meeting now  \nMeeting ID: 210 190377 693 22  \nPasscode: X7M8Sf2p  \n ________________________________   \nFor organizers: Meetingoptions  \n________________________________________________________________________________ \n  \nJoin with Google Meet: https://meet.google.com/kgg-hymp-boh\nOr dial: (US) +1 320-318-7977 PIN: 486504040#\nLearn more about Meet at: https://support.google.com/a/users/answer/9282720
URL:https://kpbsd.org/schools/port-graham/event/site-based-council-meeting-63/
LOCATION:Port Graham School\, 63800 Graham Rd\, Homer\, AK\, United States
END:VEVENT
BEGIN:VEVENT
DTSTART;TZID=America/Anchorage:20260320T000000
DTEND;TZID=America/Anchorage:20260320T235959
DTSTAMP:20260420T234024
CREATED:20250819T050747Z
LAST-MODIFIED:20260320T030651Z
UID:2566-1773964800-1774051199@kpbsd.org
SUMMARY:Make Up Day- No School
DESCRIPTION:
URL:https://kpbsd.org/schools/port-graham/event/make-up-day-2/
END:VEVENT
BEGIN:VEVENT
DTSTART;TZID=America/Anchorage:20260320T163000
DTEND;TZID=America/Anchorage:20260320T180000
DTSTAMP:20260420T234024
CREATED:20260318T025139Z
LAST-MODIFIED:20260320T030651Z
UID:11664-1774024200-1774029600@kpbsd.org
SUMMARY:Cultural games club
DESCRIPTION:
URL:https://kpbsd.org/schools/port-graham/event/cultural-games-club-187/
END:VEVENT
BEGIN:VEVENT
DTSTART;TZID=America/Anchorage:20260320T163000
DTEND;TZID=America/Anchorage:20260320T183000
DTSTAMP:20260420T234024
CREATED:20251106T063131Z
LAST-MODIFIED:20260317T024921Z
UID:8280-1774024200-1774031400@kpbsd.org
SUMMARY:Cultural games club
DESCRIPTION:
URL:https://kpbsd.org/schools/port-graham/event/cultural-games-club-168/
END:VEVENT
END:VCALENDAR