BEGIN:VCALENDAR
VERSION:2.0
PRODID:-//Port Graham School - ECPv6.8.2//NONSGML v1.0//EN
CALSCALE:GREGORIAN
METHOD:PUBLISH
X-WR-CALNAME:Port Graham School
X-ORIGINAL-URL:https://kpbsd.org/schools/port-graham
X-WR-CALDESC:Events for Port Graham School
REFRESH-INTERVAL;VALUE=DURATION:PT1H
X-Robots-Tag:noindex
X-PUBLISHED-TTL:PT1H
BEGIN:VTIMEZONE
TZID:America/Anchorage
BEGIN:DAYLIGHT
TZOFFSETFROM:-0900
TZOFFSETTO:-0800
TZNAME:AKDT
DTSTART:20260308T110000
END:DAYLIGHT
BEGIN:STANDARD
TZOFFSETFROM:-0800
TZOFFSETTO:-0900
TZNAME:AKST
DTSTART:20261101T100000
END:STANDARD
END:VTIMEZONE
BEGIN:VEVENT
DTSTART;TZID=America/Anchorage:20260331T000000
DTEND;TZID=America/Anchorage:20260424T235959
DTSTAMP:20260423T163859
CREATED:20260320T030658Z
LAST-MODIFIED:20260423T044927Z
UID:11970-1774915200-1777075199@kpbsd.org
SUMMARY:Port Graham School AK Star/ AK Science window (grades 3-9)
DESCRIPTION:
URL:https://kpbsd.org/schools/port-graham/event/port-graham-school-ak-star-ak-science-window-grades-3-9/
END:VEVENT
BEGIN:VEVENT
DTSTART;TZID=America/Anchorage:20260413T000000
DTEND;TZID=America/Anchorage:20260413T235959
DTSTAMP:20260423T163859
CREATED:20251118T080921Z
LAST-MODIFIED:20260413T043659Z
UID:9080-1776038400-1776124799@kpbsd.org
SUMMARY:Early release at 3:30 for students
DESCRIPTION:
URL:https://kpbsd.org/schools/port-graham/event/early-release-at-330-for-students-20/
END:VEVENT
BEGIN:VEVENT
DTSTART;TZID=America/Anchorage:20260413T000000
DTEND;TZID=America/Anchorage:20260413T235959
DTSTAMP:20260423T163859
CREATED:20260327T033724Z
LAST-MODIFIED:20260413T043659Z
UID:12023-1776038400-1776124799@kpbsd.org
SUMMARY:AK star reading day 1 grades 3-6
DESCRIPTION:
URL:https://kpbsd.org/schools/port-graham/event/ak-star-reading-day-1-elementary/
END:VEVENT
BEGIN:VEVENT
DTSTART;TZID=America/Anchorage:20260413T163000
DTEND;TZID=America/Anchorage:20260413T180000
DTSTAMP:20260423T163859
CREATED:20260318T025152Z
LAST-MODIFIED:20260413T043659Z
UID:11742-1776097800-1776103200@kpbsd.org
SUMMARY:Cultural games club
DESCRIPTION:
URL:https://kpbsd.org/schools/port-graham/event/cultural-games-club-207/
END:VEVENT
BEGIN:VEVENT
DTSTART;TZID=America/Anchorage:20260413T163000
DTEND;TZID=America/Anchorage:20260413T183000
DTSTAMP:20260423T163859
CREATED:20251106T063137Z
LAST-MODIFIED:20260317T024926Z
UID:8328-1776097800-1776105000@kpbsd.org
SUMMARY:Cultural games club
DESCRIPTION:
URL:https://kpbsd.org/schools/port-graham/event/cultural-games-club-178/
END:VEVENT
BEGIN:VEVENT
DTSTART;TZID=America/Anchorage:20260413T190000
DTEND;TZID=America/Anchorage:20260413T210000
DTSTAMP:20260423T163859
CREATED:20260212T231536Z
LAST-MODIFIED:20260317T024926Z
UID:11193-1776106800-1776114000@kpbsd.org
SUMMARY:Open gym tentative
DESCRIPTION:
URL:https://kpbsd.org/schools/port-graham/event/open-gym-tentative-37/
END:VEVENT
BEGIN:VEVENT
DTSTART;TZID=America/Anchorage:20260413T190000
DTEND;TZID=America/Anchorage:20260413T210000
DTSTAMP:20260423T163859
CREATED:20260318T025152Z
LAST-MODIFIED:20260414T043604Z
UID:11745-1776106800-1776114000@kpbsd.org
SUMMARY:Open gym planned
DESCRIPTION:
URL:https://kpbsd.org/schools/port-graham/event/open-gym-planned-9/
END:VEVENT
BEGIN:VEVENT
DTSTART;TZID=America/Anchorage:20260414T000000
DTEND;TZID=America/Anchorage:20260414T235959
DTSTAMP:20260423T163859
CREATED:20260327T033724Z
LAST-MODIFIED:20260414T043604Z
UID:12020-1776124800-1776211199@kpbsd.org
SUMMARY:AK star reading day 2 grades 3-6
DESCRIPTION:
URL:https://kpbsd.org/schools/port-graham/event/ak-star-reading-day-2-elementary/
END:VEVENT
BEGIN:VEVENT
DTSTART;TZID=America/Anchorage:20260414T000000
DTEND;TZID=America/Anchorage:20260414T235959
DTSTAMP:20260423T163859
CREATED:20260328T035027Z
LAST-MODIFIED:20260414T043604Z
UID:12085-1776124800-1776211199@kpbsd.org
SUMMARY:AK star ELA day 3 secondary
DESCRIPTION:
URL:https://kpbsd.org/schools/port-graham/event/ak-star-ela-day-3-secondary/
END:VEVENT
BEGIN:VEVENT
DTSTART;TZID=America/Anchorage:20260414T161500
DTEND;TZID=America/Anchorage:20260414T181500
DTSTAMP:20260423T163859
CREATED:20250924T040154Z
LAST-MODIFIED:20251020T023714Z
UID:6006-1776183300-1776190500@kpbsd.org
SUMMARY:D&D club meeting
DESCRIPTION:
URL:https://kpbsd.org/schools/port-graham/event/dd-club-138/
END:VEVENT
BEGIN:VEVENT
DTSTART;TZID=America/Anchorage:20260414T161500
DTEND;TZID=America/Anchorage:20260414T181500
DTSTAMP:20260423T163859
CREATED:20260327T033728Z
LAST-MODIFIED:20260407T034931Z
UID:12035-1776183300-1776190500@kpbsd.org
SUMMARY:D&D club meeting
DESCRIPTION:
URL:https://kpbsd.org/schools/port-graham/event/dd-club-meeting-12/
END:VEVENT
BEGIN:VEVENT
DTSTART;TZID=America/Anchorage:20260414T161500
DTEND;TZID=America/Anchorage:20260414T181500
DTSTAMP:20260423T163859
CREATED:20260408T035315Z
LAST-MODIFIED:20260414T043604Z
UID:12163-1776183300-1776190500@kpbsd.org
SUMMARY:D&D club meeting
DESCRIPTION:
URL:https://kpbsd.org/schools/port-graham/event/dd-club-meeting-19/
END:VEVENT
BEGIN:VEVENT
DTSTART;TZID=America/Anchorage:20260414T163000
DTEND;TZID=America/Anchorage:20260414T180000
DTSTAMP:20260423T163859
CREATED:20250808T082513Z
LAST-MODIFIED:20251111T065736Z
UID:2204-1776184200-1776189600@kpbsd.org
SUMMARY:Site Based Council meeting
DESCRIPTION:
URL:https://kpbsd.org/schools/port-graham/event/site-based-council-meeting-9/
LOCATION:Port Graham School\, 63800 Graham Rd\, Homer\, AK\, United States
END:VEVENT
BEGIN:VEVENT
DTSTART;TZID=America/Anchorage:20260414T163000
DTEND;TZID=America/Anchorage:20260414T183000
DTSTAMP:20260423T163859
CREATED:20260318T025153Z
LAST-MODIFIED:20260414T043604Z
UID:11748-1776184200-1776191400@kpbsd.org
SUMMARY:Cultural games club
DESCRIPTION:Join with Google Meet: https://meet.google.com/vtw-yncw-xnx\nOr dial: (US) +1 440-494-6788 PIN: 255050753#\nLearn more about Meet at: https://support.google.com/a/users/answer/9282720
URL:https://kpbsd.org/schools/port-graham/event/cultural-games-club-208/
END:VEVENT
BEGIN:VEVENT
DTSTART;TZID=America/Anchorage:20260414T171500
DTEND;TZID=America/Anchorage:20260414T184500
DTSTAMP:20260423T163859
CREATED:20260127T001938Z
LAST-MODIFIED:20260210T032122Z
UID:10780-1776186900-1776192300@kpbsd.org
SUMMARY:Site Based Council meeting
DESCRIPTION:________________________________________________________________________________ \nMicrosoft Teams Needhelp?  \nJointhe meeting now  \nMeeting ID: 210 190377 693 22  \nPasscode: X7M8Sf2p  \n ________________________________   \nFor organizers: Meetingoptions  \n________________________________________________________________________________ \n  \nJoin with Google Meet: https://meet.google.com/kgg-hymp-boh\nOr dial: (US) +1 320-318-7977 PIN: 486504040#\nLearn more about Meet at: https://support.google.com/a/users/answer/9282720
URL:https://kpbsd.org/schools/port-graham/event/site-based-council-meeting-60/
LOCATION:Port Graham School\, 63800 Graham Rd\, Homer\, AK\, United States
END:VEVENT
BEGIN:VEVENT
DTSTART;TZID=America/Anchorage:20260414T173000
DTEND;TZID=America/Anchorage:20260414T190000
DTSTAMP:20260423T163859
CREATED:20260211T033540Z
LAST-MODIFIED:20260407T034932Z
UID:10856-1776187800-1776193200@kpbsd.org
SUMMARY:Site Based Council meeting to be rescheduled
DESCRIPTION:________________________________________________________________________________ \nMicrosoft Teams Needhelp?  \nJointhe meeting now  \nMeeting ID: 210 190377 693 22  \nPasscode: X7M8Sf2p  \n ________________________________   \nFor organizers: Meetingoptions  \n________________________________________________________________________________ \n  \nJoin with Google Meet: https://meet.google.com/kgg-hymp-boh\nOr dial: (US) +1 320-318-7977 PIN: 486504040#\nLearn more about Meet at: https://support.google.com/a/users/answer/9282720
URL:https://kpbsd.org/schools/port-graham/event/site-based-council-meeting-64/
LOCATION:Port Graham School\, 63800 Graham Rd\, Homer\, AK\, United States
END:VEVENT
BEGIN:VEVENT
DTSTART;TZID=America/Anchorage:20260414T173000
DTEND;TZID=America/Anchorage:20260414T190000
DTSTAMP:20260423T163859
CREATED:20260408T035315Z
LAST-MODIFIED:20260414T043604Z
UID:12166-1776187800-1776193200@kpbsd.org
SUMMARY:Site Based Council meeting
DESCRIPTION:________________________________________________________________________________ \nMicrosoft Teams Needhelp?  \nJointhe meeting now  \nMeeting ID: 210 190377 693 22  \nPasscode: X7M8Sf2p  \n ________________________________   \nFor organizers: Meetingoptions  \n________________________________________________________________________________ \n  \nJoin with Google Meet: https://meet.google.com/kgg-hymp-boh\nOr dial: (US) +1 320-318-7977 PIN: 486504040#\nLearn more about Meet at: https://support.google.com/a/users/answer/9282720
URL:https://kpbsd.org/schools/port-graham/event/site-based-council-meeting-54/
LOCATION:Port Graham School\, 63800 Graham Rd\, Homer\, AK\, United States
END:VEVENT
BEGIN:VEVENT
DTSTART;TZID=America/Anchorage:20260415T000000
DTEND;TZID=America/Anchorage:20260415T235959
DTSTAMP:20260423T163859
CREATED:20260327T033725Z
LAST-MODIFIED:20260415T043648Z
UID:12026-1776211200-1776297599@kpbsd.org
SUMMARY:AK star reading session 3 grades 3-5 (if needed)
DESCRIPTION:
URL:https://kpbsd.org/schools/port-graham/event/ak-star-reading-day-3-elementary/
END:VEVENT
BEGIN:VEVENT
DTSTART;TZID=America/Anchorage:20260415T163000
DTEND;TZID=America/Anchorage:20260415T180000
DTSTAMP:20260423T163859
CREATED:20260318T025153Z
LAST-MODIFIED:20260413T043657Z
UID:11751-1776270600-1776276000@kpbsd.org
SUMMARY:Cultural games club
DESCRIPTION:
URL:https://kpbsd.org/schools/port-graham/event/cultural-games-club-209/
END:VEVENT
BEGIN:VEVENT
DTSTART;TZID=America/Anchorage:20260415T163000
DTEND;TZID=America/Anchorage:20260415T183000
DTSTAMP:20260423T163859
CREATED:20251106T063138Z
LAST-MODIFIED:20260317T024926Z
UID:8334-1776270600-1776277800@kpbsd.org
SUMMARY:Cultural games club
DESCRIPTION:
URL:https://kpbsd.org/schools/port-graham/event/cultural-games-club-179/
END:VEVENT
BEGIN:VEVENT
DTSTART;TZID=America/Anchorage:20260415T190000
DTEND;TZID=America/Anchorage:20260415T210000
DTSTAMP:20260423T163859
CREATED:20260212T231537Z
LAST-MODIFIED:20260317T024927Z
UID:11196-1776279600-1776286800@kpbsd.org
SUMMARY:Open gym tentative
DESCRIPTION:
URL:https://kpbsd.org/schools/port-graham/event/open-gym-tentative-38/
END:VEVENT
BEGIN:VEVENT
DTSTART;TZID=America/Anchorage:20260415T190000
DTEND;TZID=America/Anchorage:20260415T210000
DTSTAMP:20260423T163859
CREATED:20260318T025154Z
LAST-MODIFIED:20260416T043529Z
UID:11754-1776279600-1776286800@kpbsd.org
SUMMARY:Open gym planned
DESCRIPTION:
URL:https://kpbsd.org/schools/port-graham/event/open-gym-planned-10/
END:VEVENT
BEGIN:VEVENT
DTSTART;TZID=America/Anchorage:20260416T000000
DTEND;TZID=America/Anchorage:20260419T235959
DTSTAMP:20260423T163859
CREATED:20260403T034941Z
LAST-MODIFIED:20260419T044935Z
UID:12137-1776297600-1776643199@kpbsd.org
SUMMARY:NYO state competition
DESCRIPTION:
URL:https://kpbsd.org/schools/port-graham/event/nyo-state-competition/
END:VEVENT
BEGIN:VEVENT
DTSTART;TZID=America/Anchorage:20260416T163000
DTEND;TZID=America/Anchorage:20260416T183000
DTSTAMP:20260423T163859
CREATED:20260318T025154Z
LAST-MODIFIED:20260413T043657Z
UID:11757-1776357000-1776364200@kpbsd.org
SUMMARY:Cultural games club
DESCRIPTION:Join with Google Meet: https://meet.google.com/vtw-yncw-xnx\nOr dial: (US) +1 440-494-6788 PIN: 255050753#\nLearn more about Meet at: https://support.google.com/a/users/answer/9282720
URL:https://kpbsd.org/schools/port-graham/event/cultural-games-club-210/
END:VEVENT
BEGIN:VEVENT
DTSTART;TZID=America/Anchorage:20260417T163000
DTEND;TZID=America/Anchorage:20260417T180000
DTSTAMP:20260423T163859
CREATED:20260318T025154Z
LAST-MODIFIED:20260415T043649Z
UID:11760-1776443400-1776448800@kpbsd.org
SUMMARY:Cultural games club
DESCRIPTION:
URL:https://kpbsd.org/schools/port-graham/event/cultural-games-club-211/
END:VEVENT
BEGIN:VEVENT
DTSTART;TZID=America/Anchorage:20260417T163000
DTEND;TZID=America/Anchorage:20260417T183000
DTSTAMP:20260423T163859
CREATED:20251106T063138Z
LAST-MODIFIED:20260317T024927Z
UID:8337-1776443400-1776450600@kpbsd.org
SUMMARY:Cultural games club
DESCRIPTION:
URL:https://kpbsd.org/schools/port-graham/event/cultural-games-club-180/
END:VEVENT
BEGIN:VEVENT
DTSTART;TZID=America/Anchorage:20260417T190000
DTEND;TZID=America/Anchorage:20260417T220000
DTSTAMP:20260423T163859
CREATED:20260212T231537Z
LAST-MODIFIED:20260418T044940Z
UID:11199-1776452400-1776463200@kpbsd.org
SUMMARY:Open gym tentative
DESCRIPTION:
URL:https://kpbsd.org/schools/port-graham/event/open-gym-tentative-39/
END:VEVENT
BEGIN:VEVENT
DTSTART;TZID=America/Anchorage:20260418T163000
DTEND;TZID=America/Anchorage:20260418T183000
DTSTAMP:20260423T163859
CREATED:20260318T025155Z
LAST-MODIFIED:20260415T043648Z
UID:11763-1776529800-1776537000@kpbsd.org
SUMMARY:Cultural games club
DESCRIPTION:Join with Google Meet: https://meet.google.com/vtw-yncw-xnx\nOr dial: (US) +1 440-494-6788 PIN: 255050753#\nLearn more about Meet at: https://support.google.com/a/users/answer/9282720
URL:https://kpbsd.org/schools/port-graham/event/cultural-games-club-212/
END:VEVENT
BEGIN:VEVENT
DTSTART;TZID=America/Anchorage:20260418T190000
DTEND;TZID=America/Anchorage:20260418T220000
DTSTAMP:20260423T163859
CREATED:20260212T231538Z
LAST-MODIFIED:20260419T044934Z
UID:11202-1776538800-1776549600@kpbsd.org
SUMMARY:Open gym tentative
DESCRIPTION:
URL:https://kpbsd.org/schools/port-graham/event/open-gym-tentative-40/
END:VEVENT
BEGIN:VEVENT
DTSTART;TZID=America/Anchorage:20260420T000000
DTEND;TZID=America/Anchorage:20260420T235959
DTSTAMP:20260423T163859
CREATED:20251118T080923Z
LAST-MODIFIED:20260420T044947Z
UID:9086-1776643200-1776729599@kpbsd.org
SUMMARY:Early release at 3:30 for students
DESCRIPTION:
URL:https://kpbsd.org/schools/port-graham/event/early-release-at-330-for-students-21/
END:VEVENT
END:VCALENDAR