BEGIN:VCALENDAR
VERSION:2.0
PRODID:-//Port Graham School - ECPv6.8.2//NONSGML v1.0//EN
CALSCALE:GREGORIAN
METHOD:PUBLISH
X-ORIGINAL-URL:https://kpbsd.org/schools/port-graham
X-WR-CALDESC:Events for Port Graham School
REFRESH-INTERVAL;VALUE=DURATION:PT1H
X-Robots-Tag:noindex
X-PUBLISHED-TTL:PT1H
BEGIN:VTIMEZONE
TZID:America/Anchorage
BEGIN:DAYLIGHT
TZOFFSETFROM:-0900
TZOFFSETTO:-0800
TZNAME:AKDT
DTSTART:20260308T110000
END:DAYLIGHT
BEGIN:STANDARD
TZOFFSETFROM:-0800
TZOFFSETTO:-0900
TZNAME:AKST
DTSTART:20261101T100000
END:STANDARD
BEGIN:DAYLIGHT
TZOFFSETFROM:-0900
TZOFFSETTO:-0800
TZNAME:AKDT
DTSTART:20270314T110000
END:DAYLIGHT
BEGIN:STANDARD
TZOFFSETFROM:-0800
TZOFFSETTO:-0900
TZNAME:AKST
DTSTART:20271107T100000
END:STANDARD
END:VTIMEZONE
BEGIN:VEVENT
DTSTART;TZID=America/Anchorage:20260519T161500
DTEND;TZID=America/Anchorage:20260519T181500
DTSTAMP:20260422T180243
CREATED:20260327T033738Z
LAST-MODIFIED:20260407T034938Z
UID:12047-1779207300-1779214500@kpbsd.org
SUMMARY:D&D club meeting
DESCRIPTION:
URL:https://kpbsd.org/schools/port-graham/event/dd-club-meeting-18/
END:VEVENT
BEGIN:VEVENT
DTSTART;TZID=America/Anchorage:20260519T161500
DTEND;TZID=America/Anchorage:20260519T181500
DTSTAMP:20260422T180243
CREATED:20260408T035323Z
LAST-MODIFIED:20260422T044926Z
UID:12184-1779207300-1779214500@kpbsd.org
SUMMARY:D&D club meeting
DESCRIPTION:
URL:https://kpbsd.org/schools/port-graham/event/dd-club-meeting-25/
END:VEVENT
BEGIN:VEVENT
DTSTART;TZID=America/Anchorage:20260520T160000
DTEND;TZID=America/Anchorage:20260520T180000
DTSTAMP:20260422T180243
CREATED:20250807T174056Z
LAST-MODIFIED:20250807T174056Z
UID:2024-1779292800-1779300000@kpbsd.org
SUMMARY:Graduation
DESCRIPTION:
URL:https://kpbsd.org/schools/port-graham/event/graduation/
LOCATION:Port Graham School\, 63800 Graham Rd\, Homer\, AK\, United States
END:VEVENT
BEGIN:VEVENT
DTSTART;TZID=America/Anchorage:20260520T160000
DTEND;TZID=America/Anchorage:20260520T180000
DTSTAMP:20260422T180243
CREATED:20250807T202547Z
LAST-MODIFIED:20260422T044926Z
UID:2174-1779292800-1779300000@kpbsd.org
SUMMARY:Graduation/ Celebration
DESCRIPTION:AssistantSuperintendent Dendurent\, Board Member Truesdell\, and Board Member Waddell areplanning to attend Port Graham graduation this year. 
URL:https://kpbsd.org/schools/port-graham/event/graduation-2/
END:VEVENT
BEGIN:VEVENT
DTSTART;TZID=America/Anchorage:20260520T190000
DTEND;TZID=America/Anchorage:20260520T210000
DTSTAMP:20260422T180243
CREATED:20260212T231547Z
LAST-MODIFIED:20260317T024932Z
UID:11262-1779303600-1779310800@kpbsd.org
SUMMARY:Open gym tentative
DESCRIPTION:
URL:https://kpbsd.org/schools/port-graham/event/open-gym-tentative-58/
END:VEVENT
BEGIN:VEVENT
DTSTART;TZID=America/Anchorage:20260520T190000
DTEND;TZID=America/Anchorage:20260520T210000
DTSTAMP:20260422T180243
CREATED:20260318T025208Z
LAST-MODIFIED:20260422T044927Z
UID:11825-1779303600-1779310800@kpbsd.org
SUMMARY:Open gym planned
DESCRIPTION:
URL:https://kpbsd.org/schools/port-graham/event/open-gym-planned-19/
END:VEVENT
BEGIN:VEVENT
DTSTART;TZID=America/Anchorage:20260521T000000
DTEND;TZID=America/Anchorage:20260521T235959
DTSTAMP:20260422T180243
CREATED:20250819T050748Z
LAST-MODIFIED:20260422T044926Z
UID:2575-1779321600-1779407999@kpbsd.org
SUMMARY:Last Day of School
DESCRIPTION:
URL:https://kpbsd.org/schools/port-graham/event/last-day-of-school-5/
END:VEVENT
BEGIN:VEVENT
DTSTART;TZID=America/Anchorage:20260521T080000
DTEND;TZID=America/Anchorage:20260521T170000
DTSTAMP:20260422T180243
CREATED:20250819T040719Z
LAST-MODIFIED:20260326T000502Z
UID:2530-1779350400-1779382800@kpbsd.org
SUMMARY:Last Day of School
DESCRIPTION:
URL:https://kpbsd.org/schools/port-graham/event/last-day-of-school-4/
CATEGORIES:Districtwide Calendar
END:VEVENT
BEGIN:VEVENT
DTSTART;TZID=America/Anchorage:20260522T000000
DTEND;TZID=America/Anchorage:20260522T235959
DTSTAMP:20260422T180243
CREATED:20250819T050749Z
LAST-MODIFIED:20260422T044926Z
UID:2578-1779408000-1779494399@kpbsd.org
SUMMARY:In-service/ work day
DESCRIPTION:
URL:https://kpbsd.org/schools/port-graham/event/in-service-work-day/
END:VEVENT
BEGIN:VEVENT
DTSTART;TZID=America/Anchorage:20260522T190000
DTEND;TZID=America/Anchorage:20260522T220000
DTSTAMP:20260422T180243
CREATED:20260212T231547Z
LAST-MODIFIED:20260422T044927Z
UID:11265-1779476400-1779487200@kpbsd.org
SUMMARY:Open gym tentative
DESCRIPTION:
URL:https://kpbsd.org/schools/port-graham/event/open-gym-tentative-59/
END:VEVENT
BEGIN:VEVENT
DTSTART;TZID=America/Anchorage:20260523T190000
DTEND;TZID=America/Anchorage:20260523T220000
DTSTAMP:20260422T180243
CREATED:20260212T231548Z
LAST-MODIFIED:20260422T044927Z
UID:11268-1779562800-1779573600@kpbsd.org
SUMMARY:Open gym tentative
DESCRIPTION:
URL:https://kpbsd.org/schools/port-graham/event/open-gym-tentative-60/
END:VEVENT
BEGIN:VEVENT
DTSTART;TZID=America/Anchorage:20260525T000000
DTEND;TZID=America/Anchorage:20260525T235959
DTSTAMP:20260422T180243
CREATED:20251118T080929Z
LAST-MODIFIED:20260422T044927Z
UID:9119-1779667200-1779753599@kpbsd.org
SUMMARY:Early release at 3:30 for students
DESCRIPTION:
URL:https://kpbsd.org/schools/port-graham/event/early-release-at-330-for-students-26/
END:VEVENT
BEGIN:VEVENT
DTSTART;TZID=America/Anchorage:20261002T000000
DTEND;TZID=America/Anchorage:20261002T235959
DTSTAMP:20260422T180243
CREATED:20251003T032436Z
LAST-MODIFIED:20260422T044927Z
UID:6561-1790899200-1790985599@kpbsd.org
SUMMARY:National Custodian Appreciation Day
DESCRIPTION:
URL:https://kpbsd.org/schools/port-graham/event/national-custodian-appreciation-day/
END:VEVENT
BEGIN:VEVENT
DTSTART;TZID=America/Anchorage:20270914T170000
DTEND;TZID=America/Anchorage:20270914T183000
DTSTAMP:20260422T180243
CREATED:20251112T070736Z
LAST-MODIFIED:20251119T082153Z
UID:8812-1820941200-1820946600@kpbsd.org
SUMMARY:Site Based Council meeting
DESCRIPTION:
URL:https://kpbsd.org/schools/port-graham/event/site-based-council-meeting-50/
LOCATION:Port Graham School\, 63800 Graham Rd\, Homer\, AK\, United States
END:VEVENT
BEGIN:VEVENT
DTSTART;TZID=America/Anchorage:20271002T000000
DTEND;TZID=America/Anchorage:20271002T235959
DTSTAMP:20260422T180243
CREATED:20251003T032500Z
LAST-MODIFIED:20260422T044927Z
UID:6564-1822435200-1822521599@kpbsd.org
SUMMARY:National Custodian Appreciation Day
DESCRIPTION:
URL:https://kpbsd.org/schools/port-graham/event/national-custodian-appreciation-day-2/
END:VEVENT
BEGIN:VEVENT
DTSTART;TZID=America/Anchorage:20271012T163000
DTEND;TZID=America/Anchorage:20271012T180000
DTSTAMP:20260422T180243
CREATED:20251013T064028Z
LAST-MODIFIED:20251111T065808Z
UID:6947-1823358600-1823364000@kpbsd.org
SUMMARY:Site Based Council meeting
DESCRIPTION:
URL:https://kpbsd.org/schools/port-graham/event/site-based-council-meeting-27/
LOCATION:Port Graham School\, 63800 Graham Rd\, Homer\, AK\, United States
END:VEVENT
BEGIN:VEVENT
DTSTART;TZID=America/Anchorage:20271012T170000
DTEND;TZID=America/Anchorage:20271012T183000
DTSTAMP:20260422T180243
CREATED:20251112T070737Z
LAST-MODIFIED:20251119T082155Z
UID:8815-1823360400-1823365800@kpbsd.org
SUMMARY:Site Based Council meeting
DESCRIPTION:
URL:https://kpbsd.org/schools/port-graham/event/site-based-council-meeting-51/
LOCATION:Port Graham School\, 63800 Graham Rd\, Homer\, AK\, United States
END:VEVENT
BEGIN:VEVENT
DTSTART;TZID=America/Anchorage:20271109T170000
DTEND;TZID=America/Anchorage:20271109T183000
DTSTAMP:20260422T180243
CREATED:20251112T070739Z
LAST-MODIFIED:20251119T082156Z
UID:8818-1825779600-1825785000@kpbsd.org
SUMMARY:Site Based Council meeting
DESCRIPTION:
URL:https://kpbsd.org/schools/port-graham/event/site-based-council-meeting-52/
LOCATION:Port Graham School\, 63800 Graham Rd\, Homer\, AK\, United States
END:VEVENT
END:VCALENDAR