BEGIN:VCALENDAR
VERSION:2.0
PRODID:-//Port Graham School - ECPv6.8.2//NONSGML v1.0//EN
CALSCALE:GREGORIAN
METHOD:PUBLISH
X-ORIGINAL-URL:https://kpbsd.org/schools/port-graham
X-WR-CALDESC:Events for Port Graham School
REFRESH-INTERVAL;VALUE=DURATION:PT1H
X-Robots-Tag:noindex
X-PUBLISHED-TTL:PT1H
BEGIN:VTIMEZONE
TZID:America/Anchorage
BEGIN:DAYLIGHT
TZOFFSETFROM:-0900
TZOFFSETTO:-0800
TZNAME:AKDT
DTSTART:20260308T110000
END:DAYLIGHT
BEGIN:STANDARD
TZOFFSETFROM:-0800
TZOFFSETTO:-0900
TZNAME:AKST
DTSTART:20261101T100000
END:STANDARD
END:VTIMEZONE
BEGIN:VEVENT
DTSTART;TZID=America/Anchorage:20260202T000000
DTEND;TZID=America/Anchorage:20260202T235959
DTSTAMP:20260419T172020
CREATED:20251118T080905Z
LAST-MODIFIED:20260202T012552Z
UID:9016-1769990400-1770076799@kpbsd.org
SUMMARY:Early release at 3:30 for students
DESCRIPTION:
URL:https://kpbsd.org/schools/port-graham/event/early-release-at-330-for-students-10/
END:VEVENT
BEGIN:VEVENT
DTSTART;TZID=America/Anchorage:20260202T163000
DTEND;TZID=America/Anchorage:20260202T183000
DTSTAMP:20260419T172020
CREATED:20251106T063116Z
LAST-MODIFIED:20260203T013951Z
UID:8189-1770049800-1770057000@kpbsd.org
SUMMARY:Cultural games club
DESCRIPTION:
URL:https://kpbsd.org/schools/port-graham/event/cultural-games-club-148/
END:VEVENT
BEGIN:VEVENT
DTSTART;TZID=America/Anchorage:20260203T161500
DTEND;TZID=America/Anchorage:20260203T181500
DTSTAMP:20260419T172020
CREATED:20250924T040145Z
LAST-MODIFIED:20251020T023621Z
UID:5968-1770135300-1770142500@kpbsd.org
SUMMARY:D&D club meeting
DESCRIPTION:
URL:https://kpbsd.org/schools/port-graham/event/dd-club-128/
END:VEVENT
BEGIN:VEVENT
DTSTART;TZID=America/Anchorage:20260204T153000
DTEND;TZID=America/Anchorage:20260204T160000
DTSTAMP:20260419T172020
CREATED:20260127T001926Z
LAST-MODIFIED:20260204T014442Z
UID:10768-1770219000-1770220800@kpbsd.org
SUMMARY:Birthday celebration (Jan/ Feb)
DESCRIPTION:
URL:https://kpbsd.org/schools/port-graham/event/birthday-celebration-jan-feb/
END:VEVENT
BEGIN:VEVENT
DTSTART;TZID=America/Anchorage:20260204T163000
DTEND;TZID=America/Anchorage:20260204T183000
DTSTAMP:20260419T172020
CREATED:20251106T063116Z
LAST-MODIFIED:20260205T015806Z
UID:8192-1770222600-1770229800@kpbsd.org
SUMMARY:Cultural games club
DESCRIPTION:
URL:https://kpbsd.org/schools/port-graham/event/cultural-games-club-149/
END:VEVENT
BEGIN:VEVENT
DTSTART;TZID=America/Anchorage:20260205T000000
DTEND;TZID=America/Anchorage:20260207T235959
DTSTAMP:20260419T172020
CREATED:20260128T003532Z
LAST-MODIFIED:20260207T023422Z
UID:10799-1770249600-1770508799@kpbsd.org
SUMMARY:Basketball Trip
DESCRIPTION:Tentative schedule \n2/5/26 5:30pm       Nanwalek vs Ninilchik(G)    @Ninilchik \n       7:00pm       Nanwalek vs Ninilchik(B)    @Ninilchik \n \n2/6/26 3:00pm    Nanwalek vs Holy Rosary(B)   @Homer Middle \n \n2/7/26 5:00pm Nanwalek vs Birchwood(G)    @Ninilchik \n       6:30pm Nanwalek vs Birchwood(B)      @Ninilchik
URL:https://kpbsd.org/schools/port-graham/event/basketball-trip/
END:VEVENT
BEGIN:VEVENT
DTSTART;TZID=America/Anchorage:20260206T000000
DTEND;TZID=America/Anchorage:20260206T235959
DTSTAMP:20260419T172020
CREATED:20250807T202004Z
LAST-MODIFIED:20260206T021128Z
UID:2112-1770336000-1770422399@kpbsd.org
SUMMARY:Early Release for students
DESCRIPTION:Students will be dismissed at 2:15.
URL:https://kpbsd.org/schools/port-graham/event/early-release-for-students-7/
END:VEVENT
BEGIN:VEVENT
DTSTART;TZID=America/Anchorage:20260206T080000
DTEND;TZID=America/Anchorage:20260206T170000
DTSTAMP:20260419T172020
CREATED:20250909T222613Z
LAST-MODIFIED:20260202T222021Z
UID:3955-1770364800-1770397200@kpbsd.org
SUMMARY:Early Release
DESCRIPTION:
URL:https://kpbsd.org/schools/port-graham/event/early-release-39/
CATEGORIES:Districtwide Calendar
END:VEVENT
BEGIN:VEVENT
DTSTART;TZID=America/Anchorage:20260206T153000
DTEND;TZID=America/Anchorage:20260206T160000
DTSTAMP:20260419T172020
CREATED:20250819T040513Z
LAST-MODIFIED:20251119T082116Z
UID:2411-1770391800-1770393600@kpbsd.org
SUMMARY:Birthday Celebration
DESCRIPTION:
URL:https://kpbsd.org/schools/port-graham/event/birthday-celebration-7/
END:VEVENT
BEGIN:VEVENT
DTSTART;TZID=America/Anchorage:20260206T163000
DTEND;TZID=America/Anchorage:20260206T183000
DTSTAMP:20260419T172020
CREATED:20251106T063119Z
LAST-MODIFIED:20260207T023422Z
UID:8211-1770395400-1770402600@kpbsd.org
SUMMARY:Cultural games club
DESCRIPTION:
URL:https://kpbsd.org/schools/port-graham/event/cultural-games-club-150/
END:VEVENT
BEGIN:VEVENT
DTSTART;TZID=America/Anchorage:20260209T000000
DTEND;TZID=America/Anchorage:20260209T235959
DTSTAMP:20260419T172020
CREATED:20251118T080907Z
LAST-MODIFIED:20260209T030439Z
UID:9022-1770595200-1770681599@kpbsd.org
SUMMARY:Early release at 3:30 for students
DESCRIPTION:
URL:https://kpbsd.org/schools/port-graham/event/early-release-at-330-for-students-11/
END:VEVENT
BEGIN:VEVENT
DTSTART;TZID=America/Anchorage:20260209T163000
DTEND;TZID=America/Anchorage:20260209T183000
DTSTAMP:20260419T172020
CREATED:20251106T063120Z
LAST-MODIFIED:20260210T032115Z
UID:8214-1770654600-1770661800@kpbsd.org
SUMMARY:Cultural games club
DESCRIPTION:
URL:https://kpbsd.org/schools/port-graham/event/cultural-games-club-151/
END:VEVENT
BEGIN:VEVENT
DTSTART;TZID=America/Anchorage:20260210T173000
DTEND;TZID=America/Anchorage:20260210T190000
DTSTAMP:20260419T172020
CREATED:20260127T001927Z
LAST-MODIFIED:20260211T033532Z
UID:10771-1770744600-1770750000@kpbsd.org
SUMMARY:Site Based Council meeting
DESCRIPTION:________________________________________________________________________________ \nMicrosoft Teams Needhelp?  \nJointhe meeting now  \nMeeting ID: 210 190377 693 22  \nPasscode: X7M8Sf2p  \n ________________________________   \nFor organizers: Meetingoptions  \n________________________________________________________________________________ \n  \nJoin with Google Meet: https://meet.google.com/kgg-hymp-boh\nOr dial: (US) +1 320-318-7977 PIN: 486504040#\nLearn more about Meet at: https://support.google.com/a/users/answer/9282720
URL:https://kpbsd.org/schools/port-graham/event/site-based-council-meeting-58/
LOCATION:Port Graham School\, 63800 Graham Rd\, Homer\, AK\, United States
END:VEVENT
BEGIN:VEVENT
DTSTART;TZID=America/Anchorage:20260211T153000
DTEND;TZID=America/Anchorage:20260211T160000
DTSTAMP:20260419T172020
CREATED:20260207T023420Z
LAST-MODIFIED:20260211T225709Z
UID:10827-1770823800-1770825600@kpbsd.org
SUMMARY:Valentine Celebration
DESCRIPTION:
URL:https://kpbsd.org/schools/port-graham/event/valentine-celebration/
END:VEVENT
BEGIN:VEVENT
DTSTART;TZID=America/Anchorage:20260211T163000
DTEND;TZID=America/Anchorage:20260211T183000
DTSTAMP:20260419T172020
CREATED:20251106T063121Z
LAST-MODIFIED:20260211T225709Z
UID:8217-1770827400-1770834600@kpbsd.org
SUMMARY:Cultural games club
DESCRIPTION:
URL:https://kpbsd.org/schools/port-graham/event/cultural-games-club-152/
END:VEVENT
BEGIN:VEVENT
DTSTART;TZID=America/Anchorage:20260212T000000
DTEND;TZID=America/Anchorage:20260213T235959
DTSTAMP:20260419T172020
CREATED:20250807T202004Z
LAST-MODIFIED:20260213T232304Z
UID:2115-1770854400-1771027199@kpbsd.org
SUMMARY:Parent-Teacher Conferences/ In-service
DESCRIPTION:
URL:https://kpbsd.org/schools/port-graham/event/parent-teacher-conferences-in-service-2/
END:VEVENT
BEGIN:VEVENT
DTSTART;TZID=America/Anchorage:20260212T163000
DTEND;TZID=America/Anchorage:20260212T180000
DTSTAMP:20260419T172020
CREATED:20260211T224142Z
LAST-MODIFIED:20260212T231511Z
UID:10868-1770913800-1770919200@kpbsd.org
SUMMARY:Basketball practice
DESCRIPTION:
URL:https://kpbsd.org/schools/port-graham/event/basketball-practice/
LOCATION:Gym
END:VEVENT
BEGIN:VEVENT
DTSTART;TZID=America/Anchorage:20260213T140000
DTEND;TZID=America/Anchorage:20260213T160000
DTSTAMP:20260419T172020
CREATED:20260211T225846Z
LAST-MODIFIED:20260211T225851Z
UID:11078-1770991200-1770998400@kpbsd.org
SUMMARY:D & D club
DESCRIPTION:
URL:https://kpbsd.org/schools/port-graham/event/d-d-club/
END:VEVENT
BEGIN:VEVENT
DTSTART;TZID=America/Anchorage:20260213T163000
DTEND;TZID=America/Anchorage:20260213T183000
DTSTAMP:20260419T172020
CREATED:20251106T063122Z
LAST-MODIFIED:20260213T232305Z
UID:8220-1771000200-1771007400@kpbsd.org
SUMMARY:Cultural games club
DESCRIPTION:
URL:https://kpbsd.org/schools/port-graham/event/cultural-games-club-153/
END:VEVENT
BEGIN:VEVENT
DTSTART;TZID=America/Anchorage:20260213T190000
DTEND;TZID=America/Anchorage:20260213T220000
DTSTAMP:20260419T172020
CREATED:20260212T231511Z
LAST-MODIFIED:20260213T232305Z
UID:11084-1771009200-1771020000@kpbsd.org
SUMMARY:Open gym tentative
DESCRIPTION:
URL:https://kpbsd.org/schools/port-graham/event/open-gym-tentative/
END:VEVENT
BEGIN:VEVENT
DTSTART;TZID=America/Anchorage:20260214T163000
DTEND;TZID=America/Anchorage:20260214T180000
DTSTAMP:20260419T172020
CREATED:20260211T224143Z
LAST-MODIFIED:20260214T232042Z
UID:10877-1771086600-1771092000@kpbsd.org
SUMMARY:Basketball practice
DESCRIPTION:
URL:https://kpbsd.org/schools/port-graham/event/basketball-practice-2/
LOCATION:Gym
END:VEVENT
BEGIN:VEVENT
DTSTART;TZID=America/Anchorage:20260214T190000
DTEND;TZID=America/Anchorage:20260214T220000
DTSTAMP:20260419T172020
CREATED:20260212T231512Z
LAST-MODIFIED:20260214T232042Z
UID:11090-1771095600-1771106400@kpbsd.org
SUMMARY:Open gym tentative
DESCRIPTION:
URL:https://kpbsd.org/schools/port-graham/event/open-gym-tentative-3/
END:VEVENT
BEGIN:VEVENT
DTSTART;TZID=America/Anchorage:20260216T000000
DTEND;TZID=America/Anchorage:20260216T235959
DTSTAMP:20260419T172020
CREATED:20250819T050745Z
LAST-MODIFIED:20260216T232220Z
UID:2557-1771200000-1771286399@kpbsd.org
SUMMARY:Make up day
DESCRIPTION:
URL:https://kpbsd.org/schools/port-graham/event/make-up-day/
END:VEVENT
BEGIN:VEVENT
DTSTART;TZID=America/Anchorage:20260216T000000
DTEND;TZID=America/Anchorage:20260216T235959
DTSTAMP:20260419T172020
CREATED:20251118T080908Z
LAST-MODIFIED:20260216T232220Z
UID:9028-1771200000-1771286399@kpbsd.org
SUMMARY:Early release at 3:30 for students
DESCRIPTION:
URL:https://kpbsd.org/schools/port-graham/event/early-release-at-330-for-students-12/
END:VEVENT
BEGIN:VEVENT
DTSTART;TZID=America/Anchorage:20260216T080000
DTEND;TZID=America/Anchorage:20260216T170000
DTSTAMP:20260419T172020
CREATED:20250819T040718Z
LAST-MODIFIED:20260216T223316Z
UID:2521-1771228800-1771261200@kpbsd.org
SUMMARY:Weather Make Up Day
DESCRIPTION:No School
URL:https://kpbsd.org/schools/port-graham/event/weather-make-up-day/
CATEGORIES:Districtwide Calendar
END:VEVENT
BEGIN:VEVENT
DTSTART;TZID=America/Anchorage:20260216T163000
DTEND;TZID=America/Anchorage:20260216T183000
DTSTAMP:20260419T172020
CREATED:20251106T063122Z
LAST-MODIFIED:20260216T232220Z
UID:8223-1771259400-1771266600@kpbsd.org
SUMMARY:Cultural games club
DESCRIPTION:
URL:https://kpbsd.org/schools/port-graham/event/cultural-games-club-154/
END:VEVENT
BEGIN:VEVENT
DTSTART;TZID=America/Anchorage:20260216T190000
DTEND;TZID=America/Anchorage:20260216T210000
DTSTAMP:20260419T172020
CREATED:20260212T231513Z
LAST-MODIFIED:20260216T232220Z
UID:11096-1771268400-1771275600@kpbsd.org
SUMMARY:Open gym tentative
DESCRIPTION:
URL:https://kpbsd.org/schools/port-graham/event/open-gym-tentative-5/
END:VEVENT
BEGIN:VEVENT
DTSTART;TZID=America/Anchorage:20260217T161500
DTEND;TZID=America/Anchorage:20260217T181500
DTSTAMP:20260419T172020
CREATED:20250924T040147Z
LAST-MODIFIED:20251020T023622Z
UID:5980-1771344900-1771352100@kpbsd.org
SUMMARY:D&D club meeting
DESCRIPTION:
URL:https://kpbsd.org/schools/port-graham/event/dd-club-130/
END:VEVENT
BEGIN:VEVENT
DTSTART;TZID=America/Anchorage:20260217T163000
DTEND;TZID=America/Anchorage:20260217T180000
DTSTAMP:20260419T172020
CREATED:20260211T224145Z
LAST-MODIFIED:20260217T232836Z
UID:10886-1771345800-1771351200@kpbsd.org
SUMMARY:Basketball practice
DESCRIPTION:
URL:https://kpbsd.org/schools/port-graham/event/basketball-practice-4/
LOCATION:Gym
END:VEVENT
BEGIN:VEVENT
DTSTART;TZID=America/Anchorage:20260218T163000
DTEND;TZID=America/Anchorage:20260218T183000
DTSTAMP:20260419T172020
CREATED:20251106T063123Z
LAST-MODIFIED:20260218T235328Z
UID:8229-1771432200-1771439400@kpbsd.org
SUMMARY:Cultural games club
DESCRIPTION:
URL:https://kpbsd.org/schools/port-graham/event/cultural-games-club-155/
END:VEVENT
END:VCALENDAR