BEGIN:VCALENDAR
VERSION:2.0
PRODID:-//Redoubt Elementary - ECPv6.8.2//NONSGML v1.0//EN
CALSCALE:GREGORIAN
METHOD:PUBLISH
X-WR-CALNAME:Redoubt Elementary
X-ORIGINAL-URL:https://kpbsd.org/schools/redoubt
X-WR-CALDESC:Events for Redoubt Elementary
REFRESH-INTERVAL;VALUE=DURATION:PT1H
X-Robots-Tag:noindex
X-PUBLISHED-TTL:PT1H
BEGIN:VTIMEZONE
TZID:America/Anchorage
BEGIN:DAYLIGHT
TZOFFSETFROM:-0900
TZOFFSETTO:-0800
TZNAME:AKDT
DTSTART:20200308T110000
END:DAYLIGHT
BEGIN:STANDARD
TZOFFSETFROM:-0800
TZOFFSETTO:-0900
TZNAME:AKST
DTSTART:20201101T100000
END:STANDARD
BEGIN:DAYLIGHT
TZOFFSETFROM:-0900
TZOFFSETTO:-0800
TZNAME:AKDT
DTSTART:20210314T110000
END:DAYLIGHT
BEGIN:STANDARD
TZOFFSETFROM:-0800
TZOFFSETTO:-0900
TZNAME:AKST
DTSTART:20211107T100000
END:STANDARD
BEGIN:DAYLIGHT
TZOFFSETFROM:-0900
TZOFFSETTO:-0800
TZNAME:AKDT
DTSTART:20220313T110000
END:DAYLIGHT
BEGIN:STANDARD
TZOFFSETFROM:-0800
TZOFFSETTO:-0900
TZNAME:AKST
DTSTART:20221106T100000
END:STANDARD
END:VTIMEZONE
BEGIN:VEVENT
DTSTART;VALUE=DATE:20220413
DTEND;VALUE=DATE:20220414
DTSTAMP:20260419T061942
CREATED:20220405T183936Z
LAST-MODIFIED:20220405T183936Z
UID:3803-1649808000-1649894399@kpbsd.org
SUMMARY:National School Librarian Day
DESCRIPTION:
URL:https://kpbsd.org/schools/redoubt/event/national-school-librarian-day/
END:VEVENT
BEGIN:VEVENT
DTSTART;VALUE=DATE:20220412
DTEND;VALUE=DATE:20220413
DTSTAMP:20260419T061942
CREATED:20220405T185131Z
LAST-MODIFIED:20220405T190624Z
UID:3810-1649721600-1649807999@kpbsd.org
SUMMARY:Site Council Mtg.
DESCRIPTION:@ 3:45
URL:https://kpbsd.org/schools/redoubt/event/site-council-mtg-3/
END:VEVENT
BEGIN:VEVENT
DTSTART;VALUE=DATE:20220411
DTEND;VALUE=DATE:20220412
DTSTAMP:20260419T061942
CREATED:20220405T190818Z
LAST-MODIFIED:20220405T190818Z
UID:3829-1649635200-1649721599@kpbsd.org
SUMMARY:6th Grade to Alyeska
DESCRIPTION:
URL:https://kpbsd.org/schools/redoubt/event/6th-grade-to-alyeska/
END:VEVENT
BEGIN:VEVENT
DTSTART;TZID=America/Anchorage:20220401T090000
DTEND;TZID=America/Anchorage:20220401T134500
DTSTAMP:20260419T061942
CREATED:20220321T161011Z
LAST-MODIFIED:20220321T161219Z
UID:3778-1648803600-1648820700@kpbsd.org
SUMMARY:Early Release
DESCRIPTION:Early release @ 1:45
URL:https://kpbsd.org/schools/redoubt/event/early-release-2/
END:VEVENT
BEGIN:VEVENT
DTSTART;TZID=America/Anchorage:20220325T090000
DTEND;TZID=America/Anchorage:20220325T134500
DTSTAMP:20260419T061942
CREATED:20220321T160948Z
LAST-MODIFIED:20220321T161106Z
UID:3776-1648198800-1648215900@kpbsd.org
SUMMARY:Early Release
DESCRIPTION:Early release @ 1:45
URL:https://kpbsd.org/schools/redoubt/event/early-release/
END:VEVENT
BEGIN:VEVENT
DTSTART;TZID=America/Anchorage:20220321T154500
DTEND;TZID=America/Anchorage:20220321T170000
DTSTAMP:20260419T061942
CREATED:20220321T161551Z
LAST-MODIFIED:20220321T161845Z
UID:3784-1647877500-1647882000@kpbsd.org
SUMMARY:Site Council Mtg.
DESCRIPTION:@ 3:45
URL:https://kpbsd.org/schools/redoubt/event/site-council-mtg-2/
END:VEVENT
BEGIN:VEVENT
DTSTART;TZID=America/Anchorage:20220321T154500
DTEND;TZID=America/Anchorage:20220321T170000
DTSTAMP:20260419T061942
CREATED:20220321T161339Z
LAST-MODIFIED:20220321T161350Z
UID:3781-1647877500-1647882000@kpbsd.org
SUMMARY:PTA Meeting
DESCRIPTION:@ 3:45
URL:https://kpbsd.org/schools/redoubt/event/pta-meeting/
END:VEVENT
BEGIN:VEVENT
DTSTART;TZID=America/Anchorage:20220318T090000
DTEND;TZID=America/Anchorage:20220318T134500
DTSTAMP:20260419T061942
CREATED:20220321T160914Z
LAST-MODIFIED:20220321T161255Z
UID:3774-1647594000-1647611100@kpbsd.org
SUMMARY:Early Release
DESCRIPTION:Early release @ 1:45
URL:https://kpbsd.org/schools/redoubt/event/3774/
END:VEVENT
BEGIN:VEVENT
DTSTART;TZID=America/Anchorage:20220314T080000
DTEND;TZID=America/Anchorage:20220401T170000
DTSTAMP:20260419T061942
CREATED:20220321T160833Z
LAST-MODIFIED:20220321T160833Z
UID:3772-1647244800-1648832400@kpbsd.org
SUMMARY:
DESCRIPTION:Begin OSOB “Charlotte’s Web” \nEnd April 1st with movie
URL:https://kpbsd.org/schools/redoubt/event/3772/
END:VEVENT
BEGIN:VEVENT
DTSTART;VALUE=DATE:20220304
DTEND;VALUE=DATE:20220305
DTSTAMP:20260419T061942
CREATED:20210304T224222Z
LAST-MODIFIED:20220125T214923Z
UID:3366-1646352000-1646438399@kpbsd.org
SUMMARY:No School for Students/Inservice Day
DESCRIPTION:
URL:https://kpbsd.org/schools/redoubt/event/no-school/
END:VEVENT
BEGIN:VEVENT
DTSTART;TZID=America/Anchorage:20220225T085000
DTEND;TZID=America/Anchorage:20220225T134500
DTSTAMP:20260419T061942
CREATED:20220125T214146Z
LAST-MODIFIED:20220125T214146Z
UID:3701-1645779000-1645796700@kpbsd.org
SUMMARY:Early Release
DESCRIPTION:Students are released @ 1:45
URL:https://kpbsd.org/schools/redoubt/event/early-release-6/
LOCATION:Redoubt Elementary School\, 486 W Redoubt Ave\, Soldotna\, AK\, 99669\, United States
END:VEVENT
BEGIN:VEVENT
DTSTART;TZID=America/Anchorage:20220217T080000
DTEND;TZID=America/Anchorage:20220218T120000
DTSTAMP:20260419T061942
CREATED:20220125T214512Z
LAST-MODIFIED:20220125T214512Z
UID:3703-1645084800-1645185600@kpbsd.org
SUMMARY:Parent/Teacher Conferences
DESCRIPTION:Thursday and Friday \nTimes TBA
URL:https://kpbsd.org/schools/redoubt/event/parent-teacher-conferences-2/
END:VEVENT
BEGIN:VEVENT
DTSTART;TZID=America/Anchorage:20220211T085000
DTEND;TZID=America/Anchorage:20220211T134500
DTSTAMP:20260419T061942
CREATED:20220125T213831Z
LAST-MODIFIED:20220125T213935Z
UID:3699-1644569400-1644587100@kpbsd.org
SUMMARY:Early Release
DESCRIPTION:Students are released @ 1:45
URL:https://kpbsd.org/schools/redoubt/event/early-release-5/
LOCATION:Redoubt Elementary School\, 486 W Redoubt Ave\, Soldotna\, AK\, 99669\, United States
END:VEVENT
BEGIN:VEVENT
DTSTART;TZID=America/Anchorage:20220204T085000
DTEND;TZID=America/Anchorage:20220204T134500
DTSTAMP:20260419T061942
CREATED:20220125T213742Z
LAST-MODIFIED:20220125T213742Z
UID:3697-1643964600-1643982300@kpbsd.org
SUMMARY:Early Release
DESCRIPTION:Students are released @ 1:45
URL:https://kpbsd.org/schools/redoubt/event/early-release-4/
LOCATION:Redoubt Elementary School\, 486 W Redoubt Ave\, Soldotna\, AK\, 99669\, United States
END:VEVENT
BEGIN:VEVENT
DTSTART;TZID=America/Anchorage:20220128T085500
DTEND;TZID=America/Anchorage:20220128T134500
DTSTAMP:20260419T061942
CREATED:20220125T212143Z
LAST-MODIFIED:20220125T212143Z
UID:3695-1643360100-1643377500@kpbsd.org
SUMMARY:Early Release
DESCRIPTION:students are release at 1:45
URL:https://kpbsd.org/schools/redoubt/event/early-release-3/
END:VEVENT
BEGIN:VEVENT
DTSTART;VALUE=DATE:20211220
DTEND;VALUE=DATE:20220102
DTSTAMP:20260419T061942
CREATED:20200929T210925Z
LAST-MODIFIED:20211102T203225Z
UID:2831-1639958400-1641081599@kpbsd.org
SUMMARY:Christmas/Winter Break
DESCRIPTION:No School for students or staff \nSee you in 2022!
URL:https://kpbsd.org/schools/redoubt/event/christmas-winter-break/
END:VEVENT
BEGIN:VEVENT
DTSTART;VALUE=DATE:20211125
DTEND;VALUE=DATE:20211127
DTSTAMP:20260419T061942
CREATED:20211102T203720Z
LAST-MODIFIED:20211102T203720Z
UID:3651-1637798400-1637971199@kpbsd.org
SUMMARY:Thanksgiving Break
DESCRIPTION:No school for students or staff. Have a wonderful Thanksgiving.
URL:https://kpbsd.org/schools/redoubt/event/thanksgiving-break-2/
END:VEVENT
BEGIN:VEVENT
DTSTART;TZID=America/Anchorage:20211105T080000
DTEND;TZID=America/Anchorage:20211105T123000
DTSTAMP:20260419T061942
CREATED:20211102T205115Z
LAST-MODIFIED:20211102T205115Z
UID:3653-1636099200-1636115400@kpbsd.org
SUMMARY:Picture Retakes
DESCRIPTION:
URL:https://kpbsd.org/schools/redoubt/event/picture-retakes/
END:VEVENT
BEGIN:VEVENT
DTSTART;TZID=America/Anchorage:20210817T085000
DTEND;TZID=America/Anchorage:20210817T151800
DTSTAMP:20260419T061942
CREATED:20210802T202520Z
LAST-MODIFIED:20210802T202520Z
UID:3537-1629190200-1629213480@kpbsd.org
SUMMARY:First day of School
DESCRIPTION:
URL:https://kpbsd.org/schools/redoubt/event/first-day-of-school/
END:VEVENT
BEGIN:VEVENT
DTSTART;TZID=America/Anchorage:20210507T090000
DTEND;TZID=America/Anchorage:20210507T130000
DTSTAMP:20260419T061942
CREATED:20210416T214705Z
LAST-MODIFIED:20210416T214705Z
UID:3430-1620378000-1620392400@kpbsd.org
SUMMARY:Kenai River Clean Up
DESCRIPTION:Swiftwater Park: \nMrs. Arthur/ Mrs. Wardas \nMrs. Utecht/Mr. Stitt \nMrs. Joachim/Mrs. Straw \nMrs. Dawson \nClasses attend at various times.
URL:https://kpbsd.org/schools/redoubt/event/kenai-river-clean-up/
END:VEVENT
BEGIN:VEVENT
DTSTART;TZID=America/Anchorage:20210430T180000
DTEND;TZID=America/Anchorage:20210430T190000
DTSTAMP:20260419T061942
CREATED:20210319T192235Z
LAST-MODIFIED:20210319T192235Z
UID:3376-1619805600-1619809200@kpbsd.org
SUMMARY:Masonic Awards
DESCRIPTION:KCHS
URL:https://kpbsd.org/schools/redoubt/event/masonic-awards/
END:VEVENT
BEGIN:VEVENT
DTSTART;TZID=America/Anchorage:20210413T154500
DTEND;TZID=America/Anchorage:20210413T164500
DTSTAMP:20260419T061942
CREATED:20210304T224426Z
LAST-MODIFIED:20210319T192503Z
UID:3368-1618328700-1618332300@kpbsd.org
SUMMARY:Site Council Mtg.
DESCRIPTION:
URL:https://kpbsd.org/schools/redoubt/event/site-council-mtg/
END:VEVENT
BEGIN:VEVENT
DTSTART;TZID=America/Anchorage:20210331T090000
DTEND;TZID=America/Anchorage:20210331T150000
DTSTAMP:20260419T061942
CREATED:20210325T204814Z
LAST-MODIFIED:20210325T204911Z
UID:3388-1617181200-1617202800@kpbsd.org
SUMMARY:Peaks Testing
DESCRIPTION:
URL:https://kpbsd.org/schools/redoubt/event/peaks-testing-3/
END:VEVENT
BEGIN:VEVENT
DTSTART;TZID=America/Anchorage:20210330T090000
DTEND;TZID=America/Anchorage:20210330T150000
DTSTAMP:20260419T061942
CREATED:20210325T204745Z
LAST-MODIFIED:20210325T204745Z
UID:3386-1617094800-1617116400@kpbsd.org
SUMMARY:PEAKS Testing
DESCRIPTION:
URL:https://kpbsd.org/schools/redoubt/event/peaks-testing-2/
END:VEVENT
BEGIN:VEVENT
DTSTART;TZID=America/Anchorage:20210329T093000
DTEND;TZID=America/Anchorage:20210331T150000
DTSTAMP:20260419T061942
CREATED:20210325T204517Z
LAST-MODIFIED:20210325T204645Z
UID:3383-1617010200-1617202800@kpbsd.org
SUMMARY:PEAKS Testing
DESCRIPTION:Please have your child get a good night’s sleep and eat a healthy breakfast each morning.
URL:https://kpbsd.org/schools/redoubt/event/peaks-testing/
END:VEVENT
BEGIN:VEVENT
DTSTART;TZID=America/Anchorage:20210315T080000
DTEND;TZID=America/Anchorage:20210315T150000
DTSTAMP:20260419T061942
CREATED:20210304T224000Z
LAST-MODIFIED:20210304T224101Z
UID:3364-1615795200-1615820400@kpbsd.org
SUMMARY:Picture Day!
DESCRIPTION:Please note that Lifetouch is requesting orders to be done online.  They did not send us any envelopes. \nyou may go to: \nmylifetouch.com \nRedoubt Elementary’s code is EVTW73KWR \nPlease choose FALL school pictures\, not spring.
URL:https://kpbsd.org/schools/redoubt/event/picture-day/
END:VEVENT
BEGIN:VEVENT
DTSTART;TZID=America/Anchorage:20210305T080000
DTEND;TZID=America/Anchorage:20210305T170000
DTSTAMP:20260419T061942
CREATED:20210105T221246Z
LAST-MODIFIED:20210105T221246Z
UID:3256-1614931200-1614963600@kpbsd.org
SUMMARY:Inservice/No School
DESCRIPTION:
URL:https://kpbsd.org/schools/redoubt/event/inservice-no-school/
END:VEVENT
BEGIN:VEVENT
DTSTART;TZID=America/Anchorage:20210118T090000
DTEND;TZID=America/Anchorage:20210118T153000
DTSTAMP:20260419T061942
CREATED:20210105T221045Z
LAST-MODIFIED:20210113T225210Z
UID:3254-1610960400-1610983800@kpbsd.org
SUMMARY:Martin Luther King Jr. Day/No School
DESCRIPTION:
URL:https://kpbsd.org/schools/redoubt/event/martin-luther-king-jr-day-no-school/
END:VEVENT
BEGIN:VEVENT
DTSTART;VALUE=DATE:20210104
DTEND;VALUE=DATE:20210105
DTSTAMP:20260419T061942
CREATED:20200929T211121Z
LAST-MODIFIED:20200929T211759Z
UID:2833-1609718400-1609804799@kpbsd.org
SUMMARY:In-Service Day
DESCRIPTION:No school for students \nStaff work day
URL:https://kpbsd.org/schools/redoubt/event/in-service-day/
END:VEVENT
BEGIN:VEVENT
DTSTART;VALUE=DATE:20201125
DTEND;VALUE=DATE:20201127
DTSTAMP:20260419T061942
CREATED:20200929T210559Z
LAST-MODIFIED:20211102T203539Z
UID:2828-1606262400-1606435199@kpbsd.org
SUMMARY:Thanksgiving Break
DESCRIPTION:No School for students and staff \nHave a wonderful Thanksgiving
URL:https://kpbsd.org/schools/redoubt/event/thanksgiving-break/
END:VEVENT
END:VCALENDAR