BEGIN:VCALENDAR
VERSION:2.0
PRODID:-//River City Academy  - ECPv6.8.2//NONSGML v1.0//EN
CALSCALE:GREGORIAN
METHOD:PUBLISH
X-ORIGINAL-URL:https://kpbsd.org/schools/river-city-academy
X-WR-CALDESC:Events for River City Academy 
REFRESH-INTERVAL;VALUE=DURATION:PT1H
X-Robots-Tag:noindex
X-PUBLISHED-TTL:PT1H
BEGIN:VTIMEZONE
TZID:America/Anchorage
BEGIN:DAYLIGHT
TZOFFSETFROM:-0900
TZOFFSETTO:-0800
TZNAME:AKDT
DTSTART:20200308T110000
END:DAYLIGHT
BEGIN:STANDARD
TZOFFSETFROM:-0800
TZOFFSETTO:-0900
TZNAME:AKST
DTSTART:20201101T100000
END:STANDARD
END:VTIMEZONE
BEGIN:VEVENT
DTSTART;TZID=America/Anchorage:20201203T073000
DTEND;TZID=America/Anchorage:20201203T150000
DTSTAMP:20260419T045204
CREATED:20201103T170048Z
LAST-MODIFIED:20201124T180756Z
UID:1404-1606980600-1607007600@kpbsd.org
SUMMARY:RCA Common Room
DESCRIPTION:Join the Common Room Zoom then ask for your teacher’s class.  Or join in person.
URL:https://kpbsd.org/schools/river-city-academy/event/rca-common-room-23/
LOCATION:TBD
END:VEVENT
BEGIN:VEVENT
DTSTART;TZID=America/Anchorage:20201203T081500
DTEND;TZID=America/Anchorage:20201203T085000
DTSTAMP:20260419T045204
CREATED:20201103T170047Z
LAST-MODIFIED:20201201T182856Z
UID:1400-1606983300-1606985400@kpbsd.org
SUMMARY:Shea's Learning Team
DESCRIPTION:Join the Common Room Zoom then ask for your teacher’s class.  Or join in person.
URL:https://kpbsd.org/schools/river-city-academy/event/sheas-learning-team-23/
END:VEVENT
BEGIN:VEVENT
DTSTART;TZID=America/Anchorage:20201203T081500
DTEND;TZID=America/Anchorage:20201203T085000
DTSTAMP:20260419T045204
CREATED:20201103T170047Z
LAST-MODIFIED:20201201T182855Z
UID:1402-1606983300-1606985400@kpbsd.org
SUMMARY:Werner's Learning Team
DESCRIPTION:Join the Common Room Zoom then ask for your teacher’s class.  Or join in person.
URL:https://kpbsd.org/schools/river-city-academy/event/werners-learning-team-23/
END:VEVENT
BEGIN:VEVENT
DTSTART;TZID=America/Anchorage:20201203T081500
DTEND;TZID=America/Anchorage:20201203T085000
DTSTAMP:20260419T045204
CREATED:20201103T170047Z
LAST-MODIFIED:20201201T182855Z
UID:1403-1606983300-1606985400@kpbsd.org
SUMMARY:TAD's Learning Team
DESCRIPTION:Join the Common Room Zoom then ask for your teacher’s class.  Or join in person.
URL:https://kpbsd.org/schools/river-city-academy/event/tads-learning-team-23/
END:VEVENT
BEGIN:VEVENT
DTSTART;TZID=America/Anchorage:20201203T081500
DTEND;TZID=America/Anchorage:20201203T085000
DTSTAMP:20260419T045204
CREATED:20201103T170048Z
LAST-MODIFIED:20201201T182855Z
UID:1405-1606983300-1606985400@kpbsd.org
SUMMARY:Tim's Learning Team
DESCRIPTION:Join the Common Room Zoom then ask for your teacher’s class. Or join in person.
URL:https://kpbsd.org/schools/river-city-academy/event/tims-learning-team-23/
END:VEVENT
BEGIN:VEVENT
DTSTART;TZID=America/Anchorage:20201203T081500
DTEND;TZID=America/Anchorage:20201203T085000
DTSTAMP:20260419T045204
CREATED:20201103T170048Z
LAST-MODIFIED:20201201T182856Z
UID:1407-1606983300-1606985400@kpbsd.org
SUMMARY:Ms. Bridget's Learning Team
DESCRIPTION:Join the Common Room Zoom then ask for your teacher’s class.  Or join in person.
URL:https://kpbsd.org/schools/river-city-academy/event/ms-bridgets-learning-team-23/
END:VEVENT
BEGIN:VEVENT
DTSTART;TZID=America/Anchorage:20201203T081500
DTEND;TZID=America/Anchorage:20201203T144500
DTSTAMP:20260419T045204
CREATED:20201201T182855Z
LAST-MODIFIED:20201201T182855Z
UID:1996-1606983300-1607006700@kpbsd.org
SUMMARY:RCA Common Room
DESCRIPTION:Dawn Edwards-Smith is inviting you to a scheduled Zoom meeting.
URL:https://kpbsd.org/schools/river-city-academy/event/rca-common-room-38/
END:VEVENT
BEGIN:VEVENT
DTSTART;TZID=America/Anchorage:20201203T085000
DTEND;TZID=America/Anchorage:20201203T102000
DTSTAMP:20260419T045204
CREATED:20201103T170047Z
LAST-MODIFIED:20201201T182856Z
UID:1401-1606985400-1606990800@kpbsd.org
SUMMARY:Oceanography
DESCRIPTION:Join the Common Room Zoom then ask for your teacher’s class. Or join in person.
URL:https://kpbsd.org/schools/river-city-academy/event/oceanography-9/
END:VEVENT
BEGIN:VEVENT
DTSTART;TZID=America/Anchorage:20201203T085000
DTEND;TZID=America/Anchorage:20201203T102000
DTSTAMP:20260419T045204
CREATED:20201103T170047Z
LAST-MODIFIED:20201117T174731Z
UID:1399-1606985400-1606990800@kpbsd.org
SUMMARY:English (ELA) 7
DESCRIPTION:Join the Common Room Zoom then ask for your teacher’s class. Or join in person.
URL:https://kpbsd.org/schools/river-city-academy/event/english-ela-7-9/
END:VEVENT
BEGIN:VEVENT
DTSTART;TZID=America/Anchorage:20201203T085000
DTEND;TZID=America/Anchorage:20201203T102000
DTSTAMP:20260419T045204
CREATED:20201103T170048Z
LAST-MODIFIED:20201201T182855Z
UID:1406-1606985400-1606990800@kpbsd.org
SUMMARY:Modern World History
DESCRIPTION:Join the Common Room Zoom then ask for your teacher’s class. Or join in person.
URL:https://kpbsd.org/schools/river-city-academy/event/modern-world-history-9/
END:VEVENT
BEGIN:VEVENT
DTSTART;TZID=America/Anchorage:20201203T085000
DTEND;TZID=America/Anchorage:20201203T102000
DTSTAMP:20260419T045204
CREATED:20201103T170049Z
LAST-MODIFIED:20201124T180757Z
UID:1409-1606985400-1606990800@kpbsd.org
SUMMARY:Skills with Shea
DESCRIPTION:Join the Common Room Zoom then ask for your teacher’s class. Or join in person.
URL:https://kpbsd.org/schools/river-city-academy/event/skills-with-shea-9/
END:VEVENT
BEGIN:VEVENT
DTSTART;TZID=America/Anchorage:20201203T093500
DTEND;TZID=America/Anchorage:20201203T102000
DTSTAMP:20260419T045204
CREATED:20201201T182856Z
LAST-MODIFIED:20201201T182856Z
UID:2000-1606988100-1606990800@kpbsd.org
SUMMARY:Modern World History (Advanced)
DESCRIPTION:Join the Common Room Zoom then ask for your teacher’s class. Or join in person.
URL:https://kpbsd.org/schools/river-city-academy/event/modern-world-history-advanced/
END:VEVENT
BEGIN:VEVENT
DTSTART;TZID=America/Anchorage:20201203T093500
DTEND;TZID=America/Anchorage:20201203T102000
DTSTAMP:20260419T045204
CREATED:20201201T182856Z
LAST-MODIFIED:20201201T182856Z
UID:1999-1606988100-1606990800@kpbsd.org
SUMMARY:Skills with Shea
DESCRIPTION:Join the Common Room Zoom then ask for your teacher’s class. Or join in person.
URL:https://kpbsd.org/schools/river-city-academy/event/skills-with-shea-14/
END:VEVENT
BEGIN:VEVENT
DTSTART;TZID=America/Anchorage:20201203T100000
DTEND;TZID=America/Anchorage:20201203T102000
DTSTAMP:20260419T045204
CREATED:20201103T170048Z
LAST-MODIFIED:20201124T180757Z
UID:1408-1606989600-1606990800@kpbsd.org
SUMMARY:RCA  Morning Meeting
DESCRIPTION:Join the Common Room Zoom for RCA’s morning meeting.
URL:https://kpbsd.org/schools/river-city-academy/event/rca-morning-meeting-10/
LOCATION:https://zoom.us/j/98679887552?pwd=WXo3a25aUmVJMzltWVU3MjhINklFQT09
END:VEVENT
BEGIN:VEVENT
DTSTART;TZID=America/Anchorage:20201203T102500
DTEND;TZID=America/Anchorage:20201203T124000
DTSTAMP:20260419T045204
CREATED:20201103T170049Z
LAST-MODIFIED:20201117T174731Z
UID:1411-1606991100-1606999200@kpbsd.org
SUMMARY:Math 8
DESCRIPTION:Join the Common Room Zoom then ask for your teacher’s class. Or join in person.
URL:https://kpbsd.org/schools/river-city-academy/event/math-8-9/
END:VEVENT
BEGIN:VEVENT
DTSTART;TZID=America/Anchorage:20201203T102500
DTEND;TZID=America/Anchorage:20201203T124000
DTSTAMP:20260419T045204
CREATED:20201103T170049Z
LAST-MODIFIED:20201117T174731Z
UID:1413-1606991100-1606999200@kpbsd.org
SUMMARY:US History for high school
DESCRIPTION:Join the Common Room Zoom then ask for your teacher’s class. Or join in person.
URL:https://kpbsd.org/schools/river-city-academy/event/us-history-for-high-school-9/
END:VEVENT
BEGIN:VEVENT
DTSTART;TZID=America/Anchorage:20201203T102500
DTEND;TZID=America/Anchorage:20201203T124000
DTSTAMP:20260419T045204
CREATED:20201103T170049Z
LAST-MODIFIED:20201117T174731Z
UID:1412-1606991100-1606999200@kpbsd.org
SUMMARY:Self Directed Learning (SDL)
DESCRIPTION:Join the Common Room Zoom then ask for your teacher’s class. Or join in person.
URL:https://kpbsd.org/schools/river-city-academy/event/self-directed-learning-sdl-9/
END:VEVENT
BEGIN:VEVENT
DTSTART;TZID=America/Anchorage:20201203T102500
DTEND;TZID=America/Anchorage:20201203T124000
DTSTAMP:20260419T045204
CREATED:20201103T170049Z
LAST-MODIFIED:20201117T174732Z
UID:1410-1606991100-1606999200@kpbsd.org
SUMMARY:Biology
DESCRIPTION:Join the Common Room Zoom then ask for your teacher’s class. Or join in person.
URL:https://kpbsd.org/schools/river-city-academy/event/biology-9/
END:VEVENT
BEGIN:VEVENT
DTSTART;TZID=America/Anchorage:20201203T114500
DTEND;TZID=America/Anchorage:20201203T124000
DTSTAMP:20260419T045204
CREATED:20201201T182857Z
LAST-MODIFIED:20201201T182857Z
UID:2005-1606995900-1606999200@kpbsd.org
SUMMARY:US History for high school
DESCRIPTION:Join the Common Room Zoom then ask for your teacher’s class. Or join in person.
URL:https://kpbsd.org/schools/river-city-academy/event/us-history-for-high-school-14/
END:VEVENT
BEGIN:VEVENT
DTSTART;TZID=America/Anchorage:20201203T114500
DTEND;TZID=America/Anchorage:20201203T124000
DTSTAMP:20260419T045204
CREATED:20201201T182857Z
LAST-MODIFIED:20201201T182857Z
UID:2006-1606995900-1606999200@kpbsd.org
SUMMARY:PECC Class with TAD
DESCRIPTION:This class is to help you understand your new elective classes starting with PECC.  Be sure to join it.
URL:https://kpbsd.org/schools/river-city-academy/event/pecc-class-with-tad/
END:VEVENT
BEGIN:VEVENT
DTSTART;TZID=America/Anchorage:20201203T114500
DTEND;TZID=America/Anchorage:20201203T124000
DTSTAMP:20260419T045204
CREATED:20201201T182857Z
LAST-MODIFIED:20201201T182857Z
UID:2007-1606995900-1606999200@kpbsd.org
SUMMARY:PECC with TAD
DESCRIPTION:This is a new class to help you meet your elective class – starting with PECC.\nJoin the Common Room Zoom then ask for your teacher’s class. Or join in person.
URL:https://kpbsd.org/schools/river-city-academy/event/pecc-with-tad/
END:VEVENT
BEGIN:VEVENT
DTSTART;TZID=America/Anchorage:20201203T124500
DTEND;TZID=America/Anchorage:20201203T143000
DTSTAMP:20260419T045204
CREATED:20201103T170049Z
LAST-MODIFIED:20201117T174731Z
UID:1414-1606999500-1607005800@kpbsd.org
SUMMARY:Alaska Studies - Semester 1 only
DESCRIPTION:Join the Common Room Zoom then ask for your teacher’s class. Or join in person.
URL:https://kpbsd.org/schools/river-city-academy/event/alaska-studies-semester-1-only-9/
END:VEVENT
BEGIN:VEVENT
DTSTART;TZID=America/Anchorage:20201203T124500
DTEND;TZID=America/Anchorage:20201203T143000
DTSTAMP:20260419T045204
CREATED:20201103T170050Z
LAST-MODIFIED:20201117T174732Z
UID:1415-1606999500-1607005800@kpbsd.org
SUMMARY:Skills for SDL *New Students*
DESCRIPTION:Join the Common Room Zoom then ask for your teacher’s class. Or join in person.
URL:https://kpbsd.org/schools/river-city-academy/event/skills-for-sdl-new-students-9/
END:VEVENT
BEGIN:VEVENT
DTSTART;TZID=America/Anchorage:20201203T124500
DTEND;TZID=America/Anchorage:20201203T143000
DTSTAMP:20260419T045204
CREATED:20201103T170050Z
LAST-MODIFIED:20201117T174731Z
UID:1416-1606999500-1607005800@kpbsd.org
SUMMARY:English (ELA) 8
DESCRIPTION:Join the Common Room Zoom then ask for your teacher’s class. Or join in person.
URL:https://kpbsd.org/schools/river-city-academy/event/english-ela-8-9/
END:VEVENT
END:VCALENDAR