BEGIN:VCALENDAR
VERSION:2.0
PRODID:-//River City Academy  - ECPv6.8.2//NONSGML v1.0//EN
CALSCALE:GREGORIAN
METHOD:PUBLISH
X-ORIGINAL-URL:https://kpbsd.org/schools/river-city-academy
X-WR-CALDESC:Events for River City Academy 
REFRESH-INTERVAL;VALUE=DURATION:PT1H
X-Robots-Tag:noindex
X-PUBLISHED-TTL:PT1H
BEGIN:VTIMEZONE
TZID:America/Anchorage
BEGIN:DAYLIGHT
TZOFFSETFROM:-0900
TZOFFSETTO:-0800
TZNAME:AKDT
DTSTART:20210314T110000
END:DAYLIGHT
BEGIN:STANDARD
TZOFFSETFROM:-0800
TZOFFSETTO:-0900
TZNAME:AKST
DTSTART:20211107T100000
END:STANDARD
END:VTIMEZONE
BEGIN:VEVENT
DTSTART;TZID=America/Anchorage:20210308T090000
DTEND;TZID=America/Anchorage:20210308T103000
DTSTAMP:20260419T091510
CREATED:20210216T205531Z
LAST-MODIFIED:20210223T210523Z
UID:3458-1615194000-1615199400@kpbsd.org
SUMMARY:KPMCS Weekly Meeting Option 2
DESCRIPTION:Weekly Meeting for Middle College Students – You may attend on Wednesdays from 1-2:30 PM onsite or via Zoom OR on Mondays from 9-10:30 AM.
URL:https://kpbsd.org/schools/river-city-academy/event/kpmcs-weekly-meeting-option-2-7/
END:VEVENT
BEGIN:VEVENT
DTSTART;TZID=America/Anchorage:20210308T102000
DTEND;TZID=America/Anchorage:20210308T110000
DTSTAMP:20260419T091510
CREATED:20210216T205531Z
LAST-MODIFIED:20210223T210523Z
UID:3461-1615198800-1615201200@kpbsd.org
SUMMARY:3A
DESCRIPTION:
URL:https://kpbsd.org/schools/river-city-academy/event/3a-18/
END:VEVENT
BEGIN:VEVENT
DTSTART;TZID=America/Anchorage:20210308T110000
DTEND;TZID=America/Anchorage:20210308T113000
DTSTAMP:20260419T091510
CREATED:20210216T205531Z
LAST-MODIFIED:20210223T210523Z
UID:3460-1615201200-1615203000@kpbsd.org
SUMMARY:LUNCH
DESCRIPTION:
URL:https://kpbsd.org/schools/river-city-academy/event/lunch-45/
END:VEVENT
BEGIN:VEVENT
DTSTART;TZID=America/Anchorage:20210308T113000
DTEND;TZID=America/Anchorage:20210308T121000
DTSTAMP:20260419T091510
CREATED:20210216T205531Z
LAST-MODIFIED:20210223T210523Z
UID:3459-1615203000-1615205400@kpbsd.org
SUMMARY:MS Science Onsite
DESCRIPTION:Check with Mrs. Werner if you should attend the On-Site or the Remote class.
URL:https://kpbsd.org/schools/river-city-academy/event/ms-science-onsite-14/
LOCATION:History Room
END:VEVENT
BEGIN:VEVENT
DTSTART;TZID=America/Anchorage:20210308T133000
DTEND;TZID=America/Anchorage:20210308T141500
DTSTAMP:20260419T091510
CREATED:20210216T205532Z
LAST-MODIFIED:20210223T210523Z
UID:3462-1615210200-1615212900@kpbsd.org
SUMMARY:Algebra I*
DESCRIPTION:Meets in Math Room or via Zoom
URL:https://kpbsd.org/schools/river-city-academy/event/algebra-i-38/
LOCATION:Math Room
END:VEVENT
END:VCALENDAR