BEGIN:VCALENDAR
VERSION:2.0
PRODID:-//Seward Elementary - ECPv6.8.2//NONSGML v1.0//EN
CALSCALE:GREGORIAN
METHOD:PUBLISH
X-ORIGINAL-URL:https://kpbsd.org/schools/seward-elementary
X-WR-CALDESC:Events for Seward Elementary
REFRESH-INTERVAL;VALUE=DURATION:PT1H
X-Robots-Tag:noindex
X-PUBLISHED-TTL:PT1H
BEGIN:VTIMEZONE
TZID:UTC
BEGIN:STANDARD
TZOFFSETFROM:+0000
TZOFFSETTO:+0000
TZNAME:UTC
DTSTART:20250101T000000
END:STANDARD
END:VTIMEZONE
BEGIN:VEVENT
DTSTART;TZID=UTC:20250926T200000
DTEND;TZID=UTC:20250928T000000
DTSTAMP:20260419T051555
CREATED:20250226T205219Z
LAST-MODIFIED:20250926T095044Z
UID:13117-1758916800-1759017600@kpbsd.org
SUMMARY:JV Volleyball Tournament at Wasilla
DESCRIPTION:Games:\nSport: Volleyball\nLevel: Girls JV\nTeam: Kenai Central High School
URL:https://kpbsd.org/schools/seward-elementary/event/jv-volleyball-tournament-at-wasilla-2/
END:VEVENT
BEGIN:VEVENT
DTSTART;TZID=UTC:20250926T230000
DTEND;TZID=UTC:20250928T020000
DTSTAMP:20260419T051555
CREATED:20250226T205220Z
LAST-MODIFIED:20250926T095044Z
UID:13120-1758927600-1759024800@kpbsd.org
SUMMARY:C team Volleyball Tournament
DESCRIPTION:Games:\nSport: Volleyball\nLevel: Girls Freshman\nTeam: Kenai Central High School
URL:https://kpbsd.org/schools/seward-elementary/event/c-team-volleyball-tournament/
END:VEVENT
BEGIN:VEVENT
DTSTART;TZID=UTC:20250927T080100
DTEND;TZID=UTC:20250927T080100
DTSTAMP:20260419T051555
CREATED:20250205T202317Z
LAST-MODIFIED:20250801T090855Z
UID:12812-1758960060-1758960060@kpbsd.org
SUMMARY:Coed Varsity Swimming @ Seward High School
DESCRIPTION:Sport: Swimming\nLevel: Coed Varsity\nTeam: Kenai Central High School\nSite: Seward High School\nSubsite: Seward Pool
URL:https://kpbsd.org/schools/seward-elementary/event/coed-varsity-swimming-seward-high-school-4/
LOCATION:Po Box 1049\, Seward\, AK\, United States
END:VEVENT
BEGIN:VEVENT
DTSTART;TZID=UTC:20250927T190000
DTEND;TZID=UTC:20250927T220000
DTSTAMP:20260419T051555
CREATED:20250319T211036Z
LAST-MODIFIED:20250926T095044Z
UID:13434-1758999600-1759010400@kpbsd.org
SUMMARY:Coed JV Football vs Homer High School
DESCRIPTION:Sport: Football\nLevel: Coed JV\nTeam: Kenai Central High School\nSite: Kenai Central High School\nSubsite: Ed Hollier Stadium
URL:https://kpbsd.org/schools/seward-elementary/event/coed-jv-football-vs-homer-high-school-3/
LOCATION:9583 Kenai Spur Hwy\, Kenai\, AK\, United States
END:VEVENT
BEGIN:VEVENT
DTSTART;TZID=UTC:20250927T220000
DTEND;TZID=UTC:20250928T010000
DTSTAMP:20260419T051555
CREATED:20250319T211037Z
LAST-MODIFIED:20250926T095044Z
UID:13437-1759010400-1759021200@kpbsd.org
SUMMARY:Coed Varsity Football vs Homer High School
DESCRIPTION:Sport: Football\nLevel: Coed Varsity\nTeam: Kenai Central High School\nSite: Kenai Central High School\nSubsite: Ed Hollier Stadium
URL:https://kpbsd.org/schools/seward-elementary/event/coed-varsity-football-vs-homer-high-school-4/
LOCATION:9583 Kenai Spur Hwy\, Kenai\, AK\, United States
END:VEVENT
END:VCALENDAR