BEGIN:VCALENDAR
VERSION:2.0
PRODID:-//Seward Elementary - ECPv6.8.2//NONSGML v1.0//EN
CALSCALE:GREGORIAN
METHOD:PUBLISH
X-WR-CALNAME:Seward Elementary
X-ORIGINAL-URL:https://kpbsd.org/schools/seward-elementary
X-WR-CALDESC:Events for Seward Elementary
REFRESH-INTERVAL;VALUE=DURATION:PT1H
X-Robots-Tag:noindex
X-PUBLISHED-TTL:PT1H
BEGIN:VTIMEZONE
TZID:UTC
BEGIN:STANDARD
TZOFFSETFROM:+0000
TZOFFSETTO:+0000
TZNAME:UTC
DTSTART:20260101T000000
END:STANDARD
END:VTIMEZONE
BEGIN:VEVENT
DTSTART;TZID=UTC:20260423T000000
DTEND;TZID=UTC:20260423T013000
DTSTAMP:20260424T014501
CREATED:20260130T120546Z
LAST-MODIFIED:20260401T000419Z
UID:16138-1776902400-1776907800@kpbsd.org
SUMMARY:Girls JV Softball vs Homer High School
DESCRIPTION:Sport: Softball\nLevel: Girls JV\nTeam: Kenai Central High School\nSite: Kenai Central High School\nSubsite: Softball Fields
URL:https://kpbsd.org/schools/seward-elementary/event/girls-jv-softball-vs-homer-high-school-4/
LOCATION:9583 Kenai Spur Hwy\, Kenai\, AK\, United States
END:VEVENT
BEGIN:VEVENT
DTSTART;TZID=UTC:20260423T020000
DTEND;TZID=UTC:20260423T040000
DTSTAMP:20260424T014501
CREATED:20260130T120547Z
LAST-MODIFIED:20260401T000419Z
UID:16141-1776909600-1776916800@kpbsd.org
SUMMARY:Girls Varsity Softball vs Homer High School
DESCRIPTION:Sport: Softball\nLevel: Girls Varsity\nTeam: Kenai Central High School\nSite: Kenai Central High School\nSubsite: Softball Fields
URL:https://kpbsd.org/schools/seward-elementary/event/girls-varsity-softball-vs-homer-high-school-4/
LOCATION:9583 Kenai Spur Hwy\, Kenai\, AK\, United States
END:VEVENT
BEGIN:VEVENT
DTSTART;TZID=UTC:20260423T080100
DTEND;TZID=UTC:20260425T080100
DTSTAMP:20260424T014501
CREATED:20260313T123302Z
LAST-MODIFIED:20260401T000419Z
UID:16909-1776931260-1777104060@kpbsd.org
SUMMARY:Soccerfest Boys Varsity
DESCRIPTION:Games:\nSport: Soccer\nLevel: Boys Varsity\nTeam: Kenai Central High School
URL:https://kpbsd.org/schools/seward-elementary/event/soccerfest-boys-varsity/
END:VEVENT
BEGIN:VEVENT
DTSTART;TZID=UTC:20260423T080100
DTEND;TZID=UTC:20260425T080100
DTSTAMP:20260424T014501
CREATED:20260328T000355Z
LAST-MODIFIED:20260401T000419Z
UID:17091-1776931260-1777104060@kpbsd.org
SUMMARY:Soccerfest - Girls Tournament
DESCRIPTION:Games:\nSport: Soccer\nLevel: Girls Varsity\nTeam: Kenai Central High School
URL:https://kpbsd.org/schools/seward-elementary/event/soccerfest-girls-tournament/
END:VEVENT
END:VCALENDAR