BEGIN:VCALENDAR
VERSION:2.0
PRODID:-//Seward Elementary - ECPv6.8.2//NONSGML v1.0//EN
CALSCALE:GREGORIAN
METHOD:PUBLISH
X-ORIGINAL-URL:https://kpbsd.org/schools/seward-elementary
X-WR-CALDESC:Events for Seward Elementary
REFRESH-INTERVAL;VALUE=DURATION:PT1H
X-Robots-Tag:noindex
X-PUBLISHED-TTL:PT1H
BEGIN:VTIMEZONE
TZID:UTC
BEGIN:STANDARD
TZOFFSETFROM:+0000
TZOFFSETTO:+0000
TZNAME:UTC
DTSTART:20260101T000000
END:STANDARD
END:VTIMEZONE
BEGIN:VEVENT
DTSTART;TZID=UTC:20260925T230000
DTEND;TZID=UTC:20260927T000000
DTSTAMP:20260423T091110
CREATED:20260213T120439Z
LAST-MODIFIED:20260401T000443Z
UID:16634-1790377200-1790467200@kpbsd.org
SUMMARY:JV Volleyball Showdown at WHS
DESCRIPTION:Games:\nSport: Volleyball\nLevel: Girls JV\nTeam: Kenai Central High School
URL:https://kpbsd.org/schools/seward-elementary/event/jv-volleyball-showdown-at-whs/
END:VEVENT
BEGIN:VEVENT
DTSTART;TZID=UTC:20260926T000000
DTEND;TZID=UTC:20260926T014000
DTSTAMP:20260423T091110
CREATED:20260116T114818Z
LAST-MODIFIED:20260401T000443Z
UID:15997-1790380800-1790386800@kpbsd.org
SUMMARY:Coed JV Football @ Redington Jr/Sr High School
DESCRIPTION:Sport: Football\nLevel: Coed JV\nTeam: Kenai Central High School\nSite: Redington Sr Jr/Sr High School\nSubsite: Field Turf
URL:https://kpbsd.org/schools/seward-elementary/event/coed-jv-football-redington-jr-sr-high-school-2/
LOCATION:10015 Redington School Dr.\, Wasilla\, AK\, United States
END:VEVENT
BEGIN:VEVENT
DTSTART;TZID=UTC:20260926T030000
DTEND;TZID=UTC:20260926T044000
DTSTAMP:20260423T091110
CREATED:20260116T114818Z
LAST-MODIFIED:20260401T000443Z
UID:16000-1790391600-1790397600@kpbsd.org
SUMMARY:Coed Varsity Football @ Redington Jr/Sr High School
DESCRIPTION:Sport: Football\nLevel: Coed Varsity\nTeam: Kenai Central High School\nSite: Redington Sr Jr/Sr High School\nSubsite: Field Turf
URL:https://kpbsd.org/schools/seward-elementary/event/coed-varsity-football-redington-jr-sr-high-school-2/
LOCATION:10015 Redington School Dr.\, Wasilla\, AK\, United States
END:VEVENT
END:VCALENDAR