BEGIN:VCALENDAR
VERSION:2.0
PRODID:-//Seward High School - ECPv6.8.2//NONSGML v1.0//EN
CALSCALE:GREGORIAN
METHOD:PUBLISH
X-ORIGINAL-URL:https://kpbsd.org/schools/seward-high
X-WR-CALDESC:Events for Seward High School
REFRESH-INTERVAL;VALUE=DURATION:PT1H
X-Robots-Tag:noindex
X-PUBLISHED-TTL:PT1H
BEGIN:VTIMEZONE
TZID:UTC
BEGIN:STANDARD
TZOFFSETFROM:+0000
TZOFFSETTO:+0000
TZNAME:UTC
DTSTART:20210101T000000
END:STANDARD
END:VTIMEZONE
BEGIN:VEVENT
DTSTART;VALUE=DATE:20210217
DTEND;VALUE=DATE:20210218
DTSTAMP:20260423T014356
CREATED:20200828T043806Z
LAST-MODIFIED:20210216T170308Z
UID:3484-1613520000-1613606399@kpbsd.org
SUMMARY:Early Release
DESCRIPTION:Period 1                7:50-8:20 \nPeriod 2                8:25-8:55 \nPeriod 3                9:00–9:30 \nPeriod 4                9:35-10:05 \nPeriod 5                10:10–10:40 \nPeriod 6                10:45-11:15 \nLunch                  11:15-11:45 \nPeriod 7                11:45-12:15 \nPeriod 8                12:20-12:50 \nStudents Release at 12:50
URL:https://kpbsd.org/schools/seward-high/event/early-release-4/
END:VEVENT
END:VCALENDAR