BEGIN:VCALENDAR
VERSION:2.0
PRODID:-//Seward High School - ECPv6.8.2//NONSGML v1.0//EN
CALSCALE:GREGORIAN
METHOD:PUBLISH
X-WR-CALNAME:Seward High School
X-ORIGINAL-URL:https://kpbsd.org/schools/seward-high
X-WR-CALDESC:Events for Seward High School
REFRESH-INTERVAL;VALUE=DURATION:PT1H
X-Robots-Tag:noindex
X-PUBLISHED-TTL:PT1H
BEGIN:VTIMEZONE
TZID:America/Anchorage
BEGIN:DAYLIGHT
TZOFFSETFROM:-0900
TZOFFSETTO:-0800
TZNAME:AKDT
DTSTART:20220313T110000
END:DAYLIGHT
BEGIN:STANDARD
TZOFFSETFROM:-0800
TZOFFSETTO:-0900
TZNAME:AKST
DTSTART:20221106T100000
END:STANDARD
END:VTIMEZONE
BEGIN:VEVENT
DTSTART;VALUE=DATE:20220516
DTEND;VALUE=DATE:20220518
DTSTAMP:20260420T073253
CREATED:20220120T185118Z
LAST-MODIFIED:20220120T185118Z
UID:5329-1652659200-1652831999@kpbsd.org
SUMMARY:Finals (Fr.So.Jr.)
DESCRIPTION:
URL:https://kpbsd.org/schools/seward-high/event/finals-fr-so-jr/
END:VEVENT
BEGIN:VEVENT
DTSTART;TZID=America/Anchorage:20220516T090000
DTEND;TZID=America/Anchorage:20220516T090000
DTSTAMP:20260420T073253
CREATED:20220120T185028Z
LAST-MODIFIED:20220120T185028Z
UID:5327-1652691600-1652691600@kpbsd.org
SUMMARY:Last Graduation Practice
DESCRIPTION:
URL:https://kpbsd.org/schools/seward-high/event/last-graduation-practice/
END:VEVENT
BEGIN:VEVENT
DTSTART;TZID=America/Anchorage:20220516T180000
DTEND;TZID=America/Anchorage:20220516T180000
DTSTAMP:20260420T073253
CREATED:20220120T185207Z
LAST-MODIFIED:20220120T185207Z
UID:5331-1652724000-1652724000@kpbsd.org
SUMMARY:Graduation Ceremony and Reception
DESCRIPTION:
URL:https://kpbsd.org/schools/seward-high/event/graduation-ceremony-and-reception/
END:VEVENT
END:VCALENDAR