BEGIN:VCALENDAR
VERSION:2.0
PRODID:-//Seward High School - ECPv6.8.2//NONSGML v1.0//EN
CALSCALE:GREGORIAN
METHOD:PUBLISH
X-WR-CALNAME:Seward High School
X-ORIGINAL-URL:https://kpbsd.org/schools/seward-high
X-WR-CALDESC:Events for Seward High School
REFRESH-INTERVAL;VALUE=DURATION:PT1H
X-Robots-Tag:noindex
X-PUBLISHED-TTL:PT1H
BEGIN:VTIMEZONE
TZID:UTC
BEGIN:STANDARD
TZOFFSETFROM:+0000
TZOFFSETTO:+0000
TZNAME:UTC
DTSTART:20200101T000000
END:STANDARD
END:VTIMEZONE
BEGIN:VEVENT
DTSTART;VALUE=DATE:20201219
DTEND;VALUE=DATE:20210104
DTSTAMP:20260420T025313
CREATED:20200828T043515Z
LAST-MODIFIED:20201204T173003Z
UID:3478-1608336000-1609718399@kpbsd.org
SUMMARY:Winter Holiday Break
DESCRIPTION:No School
URL:https://kpbsd.org/schools/seward-high/event/winter-holiday-break/
END:VEVENT
BEGIN:VEVENT
DTSTART;VALUE=DATE:20210106
DTEND;VALUE=DATE:20210107
DTSTAMP:20260420T025313
CREATED:20200828T034844Z
LAST-MODIFIED:20200828T034844Z
UID:3454-1609891200-1609977599@kpbsd.org
SUMMARY:Eligibility Check Q2
DESCRIPTION:
URL:https://kpbsd.org/schools/seward-high/event/eligibility-check-q2/
END:VEVENT
BEGIN:VEVENT
DTSTART;VALUE=DATE:20210114
DTEND;VALUE=DATE:20210115
DTSTAMP:20260420T025313
CREATED:20200828T005625Z
LAST-MODIFIED:20200828T005638Z
UID:3404-1610582400-1610668799@kpbsd.org
SUMMARY:Site Council Meeting
DESCRIPTION:
URL:https://kpbsd.org/schools/seward-high/event/site-council-meeting-5/
END:VEVENT
BEGIN:VEVENT
DTSTART;VALUE=DATE:20210118
DTEND;VALUE=DATE:20210119
DTSTAMP:20260420T025313
CREATED:20200828T043620Z
LAST-MODIFIED:20200828T043620Z
UID:3480-1610928000-1611014399@kpbsd.org
SUMMARY:Holiday
DESCRIPTION:
URL:https://kpbsd.org/schools/seward-high/event/holiday/
END:VEVENT
END:VCALENDAR