BEGIN:VCALENDAR
VERSION:2.0
PRODID:-//Seward High School - ECPv6.8.2//NONSGML v1.0//EN
CALSCALE:GREGORIAN
METHOD:PUBLISH
X-WR-CALNAME:Seward High School
X-ORIGINAL-URL:https://kpbsd.org/schools/seward-high
X-WR-CALDESC:Events for Seward High School
REFRESH-INTERVAL;VALUE=DURATION:PT1H
X-Robots-Tag:noindex
X-PUBLISHED-TTL:PT1H
BEGIN:VTIMEZONE
TZID:UTC
BEGIN:STANDARD
TZOFFSETFROM:+0000
TZOFFSETTO:+0000
TZNAME:UTC
DTSTART:20210101T000000
END:STANDARD
TZID:America/Anchorage
BEGIN:DAYLIGHT
TZOFFSETFROM:-0900
TZOFFSETTO:-0800
TZNAME:AKDT
DTSTART:20210314T110000
END:DAYLIGHT
BEGIN:STANDARD
TZOFFSETFROM:-0800
TZOFFSETTO:-0900
TZNAME:AKST
DTSTART:20211107T100000
END:STANDARD
END:VTIMEZONE
BEGIN:VEVENT
DTSTART;VALUE=DATE:20210305
DTEND;VALUE=DATE:20210306
DTSTAMP:20260419T231921
CREATED:20200828T043945Z
LAST-MODIFIED:20200828T043945Z
UID:3488-1614902400-1614988799@kpbsd.org
SUMMARY:Inservice End of Quarter 3
DESCRIPTION:
URL:https://kpbsd.org/schools/seward-high/event/inservice-end-of-quarter-3/
END:VEVENT
BEGIN:VEVENT
DTSTART;VALUE=DATE:20210308
DTEND;VALUE=DATE:20210313
DTSTAMP:20260419T231921
CREATED:20200828T044013Z
LAST-MODIFIED:20200828T044013Z
UID:3490-1615161600-1615593599@kpbsd.org
SUMMARY:Spring Break
DESCRIPTION:No School
URL:https://kpbsd.org/schools/seward-high/event/spring-break/
END:VEVENT
BEGIN:VEVENT
DTSTART;VALUE=DATE:20210311
DTEND;VALUE=DATE:20210312
DTSTAMP:20260419T231921
CREATED:20200828T005710Z
LAST-MODIFIED:20200828T005710Z
UID:3408-1615420800-1615507199@kpbsd.org
SUMMARY:Site Council Meeting
DESCRIPTION:
URL:https://kpbsd.org/schools/seward-high/event/site-council-meeting-7/
END:VEVENT
BEGIN:VEVENT
DTSTART;VALUE=DATE:20210317
DTEND;VALUE=DATE:20210318
DTSTAMP:20260419T231921
CREATED:20200828T034925Z
LAST-MODIFIED:20200828T034925Z
UID:3458-1615939200-1616025599@kpbsd.org
SUMMARY:Eligibility Check Q3
DESCRIPTION:
URL:https://kpbsd.org/schools/seward-high/event/eligibility-check-q3/
END:VEVENT
BEGIN:VEVENT
DTSTART;VALUE=DATE:20210317
DTEND;VALUE=DATE:20210318
DTSTAMP:20260419T231921
CREATED:20200828T044042Z
LAST-MODIFIED:20200828T044042Z
UID:3492-1615939200-1616025599@kpbsd.org
SUMMARY:Early Release
DESCRIPTION:Students released at 12:20
URL:https://kpbsd.org/schools/seward-high/event/early-release-5/
END:VEVENT
BEGIN:VEVENT
DTSTART;TZID=America/Anchorage:20210318T180000
DTEND;TZID=America/Anchorage:20210318T193000
DTSTAMP:20260419T231921
CREATED:20210224T171804Z
LAST-MODIFIED:20210224T171804Z
UID:4194-1616090400-1616095800@kpbsd.org
SUMMARY:District-Wide Budget Meeting
DESCRIPTION:
URL:https://kpbsd.org/schools/seward-high/event/district-wide-budget-meeting/
LOCATION:Seward High Theatre
END:VEVENT
BEGIN:VEVENT
DTSTART;TZID=America/Anchorage:20210325T080000
DTEND;TZID=America/Anchorage:20210325T140000
DTSTAMP:20260419T231921
CREATED:20210226T213014Z
LAST-MODIFIED:20210226T213014Z
UID:4207-1616659200-1616680800@kpbsd.org
SUMMARY:School Picture Day
DESCRIPTION:
URL:https://kpbsd.org/schools/seward-high/event/school-picture-day/
END:VEVENT
END:VCALENDAR