BEGIN:VCALENDAR
VERSION:2.0
PRODID:-//Skyview Middle School - ECPv6.8.2//NONSGML v1.0//EN
CALSCALE:GREGORIAN
METHOD:PUBLISH
X-WR-CALNAME:Skyview Middle School
X-ORIGINAL-URL:https://kpbsd.org/schools/skyview-middle
X-WR-CALDESC:Events for Skyview Middle School
REFRESH-INTERVAL;VALUE=DURATION:PT1H
X-Robots-Tag:noindex
X-PUBLISHED-TTL:PT1H
BEGIN:VTIMEZONE
TZID:America/Anchorage
BEGIN:DAYLIGHT
TZOFFSETFROM:-0900
TZOFFSETTO:-0800
TZNAME:AKDT
DTSTART:20240310T110000
END:DAYLIGHT
BEGIN:STANDARD
TZOFFSETFROM:-0800
TZOFFSETTO:-0900
TZNAME:AKST
DTSTART:20241103T100000
END:STANDARD
END:VTIMEZONE
BEGIN:VEVENT
DTSTART;TZID=America/Anchorage:20241024T000000
DTEND;TZID=America/Anchorage:20241024T235959
DTSTAMP:20260419T054311
CREATED:20241001T182437Z
LAST-MODIFIED:20241024T200355Z
UID:11455-1729728000-1729814399@kpbsd.org
SUMMARY:No Basketball Practice
DESCRIPTION:
URL:https://kpbsd.org/schools/skyview-middle/event/no-basketball-practice-3/
END:VEVENT
BEGIN:VEVENT
DTSTART;TZID=America/Anchorage:20241024T080000
DTEND;TZID=America/Anchorage:20241024T170000
DTSTAMP:20260419T054311
CREATED:20240522T055410Z
LAST-MODIFIED:20241024T173254Z
UID:10735-1729756800-1729789200@kpbsd.org
SUMMARY:Parent-Teacher Conferences
DESCRIPTION:
URL:https://kpbsd.org/schools/skyview-middle/event/parent-teacher-conferences-6/
CATEGORIES:Districtwide Calendar
END:VEVENT
BEGIN:VEVENT
DTSTART;TZID=America/Anchorage:20241024T141500
DTEND;TZID=America/Anchorage:20241024T151500
DTSTAMP:20260419T054311
CREATED:20241004T183418Z
LAST-MODIFIED:20241006T183317Z
UID:11921-1729779300-1729782900@kpbsd.org
SUMMARY:After School Tutoring
DESCRIPTION:
URL:https://kpbsd.org/schools/skyview-middle/event/after-school-tutoring-12/
END:VEVENT
END:VCALENDAR